BEGIN:VCALENDAR
VERSION:2.0
PRODID:-//Operatori i Sistemit Te Transmetimit - ECPv6.15.18//NONSGML v1.0//EN
CALSCALE:GREGORIAN
METHOD:PUBLISH
X-ORIGINAL-URL:https://ost.al/en/
X-WR-CALDESC:Events for Operatori i Sistemit Te Transmetimit
REFRESH-INTERVAL;VALUE=DURATION:PT1H
X-Robots-Tag:noindex
X-PUBLISHED-TTL:PT1H
BEGIN:VTIMEZONE
TZID:UTC
BEGIN:STANDARD
TZOFFSETFROM:+0000
TZOFFSETTO:+0000
TZNAME:UTC
DTSTART:20230101T000000
END:STANDARD
END:VTIMEZONE
BEGIN:VEVENT
DTSTART;VALUE=DATE:20241203
DTEND;VALUE=DATE:20241204
DTSTAMP:20260426T012929
CREATED:20241202T092742Z
LAST-MODIFIED:20241202T092742Z
UID:1208824-1733184000-1733270399@ost.al
SUMMARY:03.12.2024
DESCRIPTION:03.12.2024
URL:https://ost.al/en/event/03-12-2024/
CATEGORIES:Crosszonal Capacities for MC AL-KS
END:VEVENT
BEGIN:VEVENT
DTSTART;VALUE=DATE:20241204
DTEND;VALUE=DATE:20241205
DTSTAMP:20260426T012929
CREATED:20241203T081210Z
LAST-MODIFIED:20241203T081210Z
UID:1208867-1733270400-1733356799@ost.al
SUMMARY:04.12.2024
DESCRIPTION:04.12.2024
URL:https://ost.al/en/event/04-12-2024/
CATEGORIES:Crosszonal Capacities for MC AL-KS
END:VEVENT
BEGIN:VEVENT
DTSTART;VALUE=DATE:20241205
DTEND;VALUE=DATE:20241206
DTSTAMP:20260426T012929
CREATED:20241204T083118Z
LAST-MODIFIED:20241204T083118Z
UID:1209029-1733356800-1733443199@ost.al
SUMMARY:05.12.2024
DESCRIPTION:05.12.2024
URL:https://ost.al/en/event/05-12-2024/
CATEGORIES:Crosszonal Capacities for MC AL-KS
END:VEVENT
BEGIN:VEVENT
DTSTART;VALUE=DATE:20241206
DTEND;VALUE=DATE:20241207
DTSTAMP:20260426T012929
CREATED:20241205T080743Z
LAST-MODIFIED:20241205T080743Z
UID:1209115-1733443200-1733529599@ost.al
SUMMARY:06.12.2024
DESCRIPTION:06.12.2024
URL:https://ost.al/en/event/06-12-2024/
CATEGORIES:Crosszonal Capacities for MC AL-KS
END:VEVENT
BEGIN:VEVENT
DTSTART;VALUE=DATE:20241211
DTEND;VALUE=DATE:20241212
DTSTAMP:20260426T012929
CREATED:20241210T084739Z
LAST-MODIFIED:20241210T084739Z
UID:1209447-1733875200-1733961599@ost.al
SUMMARY:11.12.2024
DESCRIPTION:11.12.2024
URL:https://ost.al/en/event/11-12-2024/
CATEGORIES:Crosszonal Capacities for MC AL-KS
END:VEVENT
BEGIN:VEVENT
DTSTART;VALUE=DATE:20241213
DTEND;VALUE=DATE:20241214
DTSTAMP:20260426T012929
CREATED:20241212T082142Z
LAST-MODIFIED:20241212T082142Z
UID:1209566-1734048000-1734134399@ost.al
SUMMARY:13.12.2024
DESCRIPTION:13.12.2024
URL:https://ost.al/en/event/13-12-2024/
CATEGORIES:Crosszonal Capacities for MC AL-KS
END:VEVENT
BEGIN:VEVENT
DTSTART;VALUE=DATE:20241214
DTEND;VALUE=DATE:20241215
DTSTAMP:20260426T012929
CREATED:20241213T102333Z
LAST-MODIFIED:20241213T102333Z
UID:1209642-1734134400-1734220799@ost.al
SUMMARY:14.12.2024
DESCRIPTION:14.12.2024
URL:https://ost.al/en/event/14-12-2024/
CATEGORIES:Crosszonal Capacities for MC AL-KS
END:VEVENT
BEGIN:VEVENT
DTSTART;VALUE=DATE:20241215
DTEND;VALUE=DATE:20241216
DTSTAMP:20260426T012929
CREATED:20241214T123824Z
LAST-MODIFIED:20241214T123824Z
UID:1209684-1734220800-1734307199@ost.al
SUMMARY:15.12.2024
DESCRIPTION:15.12.2024
URL:https://ost.al/en/event/15-12-2024/
CATEGORIES:Crosszonal Capacities for MC AL-KS
END:VEVENT
BEGIN:VEVENT
DTSTART;VALUE=DATE:20241216
DTEND;VALUE=DATE:20241217
DTSTAMP:20260426T012929
CREATED:20241215T094350Z
LAST-MODIFIED:20241215T094350Z
UID:1209709-1734307200-1734393599@ost.al
SUMMARY:16.12.2024
DESCRIPTION:16.12.2024
URL:https://ost.al/en/event/16-12-2024/
CATEGORIES:Crosszonal Capacities for MC AL-KS
END:VEVENT
BEGIN:VEVENT
DTSTART;VALUE=DATE:20241219
DTEND;VALUE=DATE:20241220
DTSTAMP:20260426T012929
CREATED:20241218T081107Z
LAST-MODIFIED:20241222T190401Z
UID:1209826-1734566400-1734652799@ost.al
SUMMARY:19.12.2024
DESCRIPTION:Kapacitetet nderkufitare per MC AL-KS 19.12.2024
URL:https://ost.al/en/event/kapacitetet-nderkufitare-per-mc-al-ks-19-12-2024/
CATEGORIES:Crosszonal Capacities for MC AL-KS
END:VEVENT
BEGIN:VEVENT
DTSTART;VALUE=DATE:20241221
DTEND;VALUE=DATE:20241222
DTSTAMP:20260426T012929
CREATED:20241222T190138Z
LAST-MODIFIED:20241222T190138Z
UID:1210008-1734739200-1734825599@ost.al
SUMMARY:21.12.2024
DESCRIPTION:21.12.2024
URL:https://ost.al/en/event/21-12-2024/
CATEGORIES:Crosszonal Capacities for MC AL-KS
END:VEVENT
BEGIN:VEVENT
DTSTART;VALUE=DATE:20241222
DTEND;VALUE=DATE:20241223
DTSTAMP:20260426T012929
CREATED:20241221T085506Z
LAST-MODIFIED:20241221T085506Z
UID:1209975-1734825600-1734911999@ost.al
SUMMARY:22.12.2024
DESCRIPTION:22.12.2024
URL:https://ost.al/en/event/22-12-2024/
CATEGORIES:Crosszonal Capacities for MC AL-KS
END:VEVENT
BEGIN:VEVENT
DTSTART;VALUE=DATE:20241223
DTEND;VALUE=DATE:20241224
DTSTAMP:20260426T012929
CREATED:20241222T084436Z
LAST-MODIFIED:20241222T084436Z
UID:1209989-1734912000-1734998399@ost.al
SUMMARY:23.12.2024
DESCRIPTION:23.12.2024
URL:https://ost.al/en/event/23-12-2024/
CATEGORIES:Crosszonal Capacities for MC AL-KS
END:VEVENT
BEGIN:VEVENT
DTSTART;VALUE=DATE:20241224
DTEND;VALUE=DATE:20241225
DTSTAMP:20260426T012929
CREATED:20241223T084643Z
LAST-MODIFIED:20241223T084643Z
UID:1210027-1734998400-1735084799@ost.al
SUMMARY:24.12.2024
DESCRIPTION:24.12.2024
URL:https://ost.al/en/event/24-12-2024/
CATEGORIES:Crosszonal Capacities for MC AL-KS
END:VEVENT
BEGIN:VEVENT
DTSTART;VALUE=DATE:20241225
DTEND;VALUE=DATE:20241226
DTSTAMP:20260426T012929
CREATED:20241224T123940Z
LAST-MODIFIED:20241224T123940Z
UID:1210160-1735084800-1735171199@ost.al
SUMMARY:25.12.2024
DESCRIPTION:25.12.2024
URL:https://ost.al/en/event/25-12-2024/
CATEGORIES:Crosszonal Capacities for MC AL-KS
END:VEVENT
BEGIN:VEVENT
DTSTART;VALUE=DATE:20241226
DTEND;VALUE=DATE:20241227
DTSTAMP:20260426T012929
CREATED:20241225T084656Z
LAST-MODIFIED:20241225T084656Z
UID:1210184-1735171200-1735257599@ost.al
SUMMARY:26.12.2024
DESCRIPTION:26.12.2024
URL:https://ost.al/en/event/26-12-2024/
CATEGORIES:Crosszonal Capacities for MC AL-KS
END:VEVENT
BEGIN:VEVENT
DTSTART;VALUE=DATE:20241227
DTEND;VALUE=DATE:20241228
DTSTAMP:20260426T012929
CREATED:20241226T081746Z
LAST-MODIFIED:20241226T081746Z
UID:1210229-1735257600-1735343999@ost.al
SUMMARY:27.12.2024
DESCRIPTION:27.12.2024
URL:https://ost.al/en/event/27-12-2024/
CATEGORIES:Crosszonal Capacities for MC AL-KS
END:VEVENT
BEGIN:VEVENT
DTSTART;VALUE=DATE:20241228
DTEND;VALUE=DATE:20241229
DTSTAMP:20260426T012929
CREATED:20241227T081601Z
LAST-MODIFIED:20241227T081601Z
UID:1210281-1735344000-1735430399@ost.al
SUMMARY:28.12.2024
DESCRIPTION:28.12.2024
URL:https://ost.al/en/event/28-12-2024/
CATEGORIES:Crosszonal Capacities for MC AL-KS
END:VEVENT
BEGIN:VEVENT
DTSTART;VALUE=DATE:20241229
DTEND;VALUE=DATE:20241230
DTSTAMP:20260426T012929
CREATED:20241228T082626Z
LAST-MODIFIED:20241228T082626Z
UID:1210403-1735430400-1735516799@ost.al
SUMMARY:29.12.2024
DESCRIPTION:29.12.2024
URL:https://ost.al/en/event/29-12-2024/
CATEGORIES:Crosszonal Capacities for MC AL-KS
END:VEVENT
BEGIN:VEVENT
DTSTART;VALUE=DATE:20241230
DTEND;VALUE=DATE:20241231
DTSTAMP:20260426T012929
CREATED:20241229T083110Z
LAST-MODIFIED:20241229T083110Z
UID:1210442-1735516800-1735603199@ost.al
SUMMARY:30.12.2024
DESCRIPTION:30.12.2024
URL:https://ost.al/en/event/30-12-2024/
CATEGORIES:Crosszonal Capacities for MC AL-KS
END:VEVENT
BEGIN:VEVENT
DTSTART;VALUE=DATE:20241231
DTEND;VALUE=DATE:20250101
DTSTAMP:20260426T012929
CREATED:20241230T080643Z
LAST-MODIFIED:20241230T080643Z
UID:1210481-1735603200-1735689599@ost.al
SUMMARY:31.12.2024
DESCRIPTION:31.12.2024
URL:https://ost.al/en/event/31-12-2024/
CATEGORIES:Crosszonal Capacities for MC AL-KS
END:VEVENT
END:VCALENDAR