BEGIN:VCALENDAR
VERSION:2.0
PRODID:-//Operatori i Sistemit Te Transmetimit - ECPv6.15.18//NONSGML v1.0//EN
CALSCALE:GREGORIAN
METHOD:PUBLISH
X-WR-CALNAME:Operatori i Sistemit Te Transmetimit
X-ORIGINAL-URL:https://ost.al/en/
X-WR-CALDESC:Events for Operatori i Sistemit Te Transmetimit
REFRESH-INTERVAL;VALUE=DURATION:PT1H
X-Robots-Tag:noindex
X-PUBLISHED-TTL:PT1H
BEGIN:VTIMEZONE
TZID:UTC
BEGIN:STANDARD
TZOFFSETFROM:+0000
TZOFFSETTO:+0000
TZNAME:UTC
DTSTART:20240101T000000
END:STANDARD
END:VTIMEZONE
BEGIN:VEVENT
DTSTART;VALUE=DATE:20250201
DTEND;VALUE=DATE:20250202
DTSTAMP:20260425T215420
CREATED:20250131T081204Z
LAST-MODIFIED:20250131T081204Z
UID:1212526-1738368000-1738454399@ost.al
SUMMARY:01.02.2025
DESCRIPTION:01.02.2025
URL:https://ost.al/en/event/01-02-2025/
CATEGORIES:Crosszonal Capacities for MC AL-KS
END:VEVENT
BEGIN:VEVENT
DTSTART;VALUE=DATE:20250202
DTEND;VALUE=DATE:20250203
DTSTAMP:20260425T215420
CREATED:20250201T105501Z
LAST-MODIFIED:20250201T105501Z
UID:1212628-1738454400-1738540799@ost.al
SUMMARY:02.02.2025
DESCRIPTION:02.02.2025
URL:https://ost.al/en/event/02-02-2025/
CATEGORIES:Crosszonal Capacities for MC AL-KS
END:VEVENT
BEGIN:VEVENT
DTSTART;VALUE=DATE:20250204
DTEND;VALUE=DATE:20250205
DTSTAMP:20260425T215420
CREATED:20250203T080744Z
LAST-MODIFIED:20250203T080744Z
UID:1212692-1738627200-1738713599@ost.al
SUMMARY:04.02.2025
DESCRIPTION:04.02.2025
URL:https://ost.al/en/event/04-02-2025/
CATEGORIES:Crosszonal Capacities for MC AL-KS
END:VEVENT
BEGIN:VEVENT
DTSTART;VALUE=DATE:20250207
DTEND;VALUE=DATE:20250208
DTSTAMP:20260425T215420
CREATED:20250206T081115Z
LAST-MODIFIED:20250206T081115Z
UID:1212920-1738886400-1738972799@ost.al
SUMMARY:07.02.2025
DESCRIPTION:07.02.2025
URL:https://ost.al/en/event/07-02-2025/
CATEGORIES:Crosszonal Capacities for MC AL-KS
END:VEVENT
BEGIN:VEVENT
DTSTART;VALUE=DATE:20250209
DTEND;VALUE=DATE:20250210
DTSTAMP:20260425T215420
CREATED:20250208T081236Z
LAST-MODIFIED:20250208T081236Z
UID:1213091-1739059200-1739145599@ost.al
SUMMARY:09.02.2025
DESCRIPTION:09.02.2025
URL:https://ost.al/en/event/09-02-2025/
CATEGORIES:Crosszonal Capacities for MC AL-KS
END:VEVENT
BEGIN:VEVENT
DTSTART;VALUE=DATE:20250210
DTEND;VALUE=DATE:20250211
DTSTAMP:20260425T215420
CREATED:20250209T092637Z
LAST-MODIFIED:20250209T092637Z
UID:1213138-1739145600-1739231999@ost.al
SUMMARY:10.02.2025
DESCRIPTION:10.02.2025
URL:https://ost.al/en/event/10-02-2025/
CATEGORIES:Crosszonal Capacities for MC AL-KS
END:VEVENT
BEGIN:VEVENT
DTSTART;VALUE=DATE:20250211
DTEND;VALUE=DATE:20250212
DTSTAMP:20260425T215420
CREATED:20250210T082858Z
LAST-MODIFIED:20250210T082858Z
UID:1213175-1739232000-1739318399@ost.al
SUMMARY:11.02.2025
DESCRIPTION:11.02.2025
URL:https://ost.al/en/event/11-02-2025/
CATEGORIES:Crosszonal Capacities for MC AL-KS
END:VEVENT
BEGIN:VEVENT
DTSTART;VALUE=DATE:20250212
DTEND;VALUE=DATE:20250213
DTSTAMP:20260425T215420
CREATED:20250211T131837Z
LAST-MODIFIED:20250211T131837Z
UID:1213262-1739318400-1739404799@ost.al
SUMMARY:12.02.2025
DESCRIPTION:12.02.2025
URL:https://ost.al/en/event/12-02-2025/
CATEGORIES:Crosszonal Capacities for MC AL-KS
END:VEVENT
BEGIN:VEVENT
DTSTART;VALUE=DATE:20250213
DTEND;VALUE=DATE:20250214
DTSTAMP:20260425T215420
CREATED:20250212T080738Z
LAST-MODIFIED:20250212T080738Z
UID:1213288-1739404800-1739491199@ost.al
SUMMARY:13.02.2025
DESCRIPTION:13.02.2025
URL:https://ost.al/en/event/13-02-2025/
CATEGORIES:Crosszonal Capacities for MC AL-KS
END:VEVENT
BEGIN:VEVENT
DTSTART;VALUE=DATE:20250214
DTEND;VALUE=DATE:20250215
DTSTAMP:20260425T215420
CREATED:20250213T080845Z
LAST-MODIFIED:20250213T080845Z
UID:1213365-1739491200-1739577599@ost.al
SUMMARY:14.02.2025
DESCRIPTION:14.02.2025
URL:https://ost.al/en/event/14-02-2025/
CATEGORIES:Crosszonal Capacities for MC AL-KS
END:VEVENT
BEGIN:VEVENT
DTSTART;VALUE=DATE:20250215
DTEND;VALUE=DATE:20250216
DTSTAMP:20260425T215420
CREATED:20250214T105933Z
LAST-MODIFIED:20250214T105933Z
UID:1213467-1739577600-1739663999@ost.al
SUMMARY:15.02.2025
DESCRIPTION:15.02.2025
URL:https://ost.al/en/event/15-02-2025/
CATEGORIES:Crosszonal Capacities for MC AL-KS
END:VEVENT
BEGIN:VEVENT
DTSTART;VALUE=DATE:20250220
DTEND;VALUE=DATE:20250221
DTSTAMP:20260425T215420
CREATED:20250219T081602Z
LAST-MODIFIED:20250219T081602Z
UID:1213757-1740009600-1740095999@ost.al
SUMMARY:20.02.2025
DESCRIPTION: 20.02.2025
URL:https://ost.al/en/event/20-02-2025/
CATEGORIES:Crosszonal Capacities for MC AL-KS
END:VEVENT
BEGIN:VEVENT
DTSTART;VALUE=DATE:20250221
DTEND;VALUE=DATE:20250222
DTSTAMP:20260425T215420
CREATED:20250220T084124Z
LAST-MODIFIED:20250220T084124Z
UID:1213821-1740096000-1740182399@ost.al
SUMMARY:21.02.2025
DESCRIPTION:21.02.2025
URL:https://ost.al/en/event/21-02-2025/
CATEGORIES:Crosszonal Capacities for MC AL-KS
END:VEVENT
BEGIN:VEVENT
DTSTART;VALUE=DATE:20250222
DTEND;VALUE=DATE:20250223
DTSTAMP:20260425T215420
CREATED:20250221T081137Z
LAST-MODIFIED:20250221T081137Z
UID:1213878-1740182400-1740268799@ost.al
SUMMARY:22.02.2025
DESCRIPTION:22.02.2025
URL:https://ost.al/en/event/22-02-2025/
CATEGORIES:Crosszonal Capacities for MC AL-KS
END:VEVENT
BEGIN:VEVENT
DTSTART;VALUE=DATE:20250223
DTEND;VALUE=DATE:20250224
DTSTAMP:20260425T215420
CREATED:20250222T082339Z
LAST-MODIFIED:20250222T082339Z
UID:1213974-1740268800-1740355199@ost.al
SUMMARY:23.02.2025
DESCRIPTION:23.02.2025
URL:https://ost.al/en/event/23-02-2025/
CATEGORIES:Crosszonal Capacities for MC AL-KS
END:VEVENT
BEGIN:VEVENT
DTSTART;VALUE=DATE:20250224
DTEND;VALUE=DATE:20250225
DTSTAMP:20260425T215420
CREATED:20250223T092233Z
LAST-MODIFIED:20250223T092233Z
UID:1214011-1740355200-1740441599@ost.al
SUMMARY:24.02.2025
DESCRIPTION:24.02.2025
URL:https://ost.al/en/event/24-02-2025/
CATEGORIES:Crosszonal Capacities for MC AL-KS
END:VEVENT
BEGIN:VEVENT
DTSTART;VALUE=DATE:20250225
DTEND;VALUE=DATE:20250226
DTSTAMP:20260425T215420
CREATED:20250224T084307Z
LAST-MODIFIED:20250224T084307Z
UID:1214045-1740441600-1740527999@ost.al
SUMMARY:25.02.2025
DESCRIPTION:25.02.2025
URL:https://ost.al/en/event/25-02-2025/
CATEGORIES:Crosszonal Capacities for MC AL-KS
END:VEVENT
BEGIN:VEVENT
DTSTART;VALUE=DATE:20250227
DTEND;VALUE=DATE:20250228
DTSTAMP:20260425T215420
CREATED:20250226T084613Z
LAST-MODIFIED:20250226T084613Z
UID:1214179-1740614400-1740700799@ost.al
SUMMARY:Kapacitetet nderkufitare per MC AL-KS 27.02.2025
DESCRIPTION:Kapacitetet nderkufitare per MC AL-KS 27.02.2025
URL:https://ost.al/en/event/kapacitetet-nderkufitare-per-mc-al-ks-27-02-2025/
CATEGORIES:Crosszonal Capacities for MC AL-KS
END:VEVENT
BEGIN:VEVENT
DTSTART;VALUE=DATE:20250228
DTEND;VALUE=DATE:20250301
DTSTAMP:20260425T215420
CREATED:20250227T084342Z
LAST-MODIFIED:20250227T084342Z
UID:1214301-1740700800-1740787199@ost.al
SUMMARY:28.02.2025
DESCRIPTION:28.02.2025
URL:https://ost.al/en/event/28-02-2025/
CATEGORIES:Crosszonal Capacities for MC AL-KS
END:VEVENT
END:VCALENDAR