BEGIN:VCALENDAR
VERSION:2.0
PRODID:-//Operatori i Sistemit Te Transmetimit - ECPv6.15.18//NONSGML v1.0//EN
CALSCALE:GREGORIAN
METHOD:PUBLISH
X-ORIGINAL-URL:https://ost.al/en/
X-WR-CALDESC:Events for Operatori i Sistemit Te Transmetimit
REFRESH-INTERVAL;VALUE=DURATION:PT1H
X-Robots-Tag:noindex
X-PUBLISHED-TTL:PT1H
BEGIN:VTIMEZONE
TZID:UTC
BEGIN:STANDARD
TZOFFSETFROM:+0000
TZOFFSETTO:+0000
TZNAME:UTC
DTSTART:20240101T000000
END:STANDARD
END:VTIMEZONE
BEGIN:VEVENT
DTSTART;VALUE=DATE:20250401
DTEND;VALUE=DATE:20250402
DTSTAMP:20260425T150344
CREATED:20250331T084750Z
LAST-MODIFIED:20250331T084750Z
UID:1216226-1743465600-1743551999@ost.al
SUMMARY:01.04.2025
DESCRIPTION:01.04.2025
URL:https://ost.al/en/event/01-04-2025/
CATEGORIES:Crosszonal Capacities for MC AL-KS
END:VEVENT
BEGIN:VEVENT
DTSTART;VALUE=DATE:20250402
DTEND;VALUE=DATE:20250403
DTSTAMP:20260425T150344
CREATED:20250401T070416Z
LAST-MODIFIED:20250401T070416Z
UID:1216274-1743552000-1743638399@ost.al
SUMMARY:02.04.2025
DESCRIPTION:02.04.2025
URL:https://ost.al/en/event/02-04-2025/
CATEGORIES:Crosszonal Capacities for MC AL-KS
END:VEVENT
BEGIN:VEVENT
DTSTART;VALUE=DATE:20250403
DTEND;VALUE=DATE:20250404
DTSTAMP:20260425T150344
CREATED:20250402T115500Z
LAST-MODIFIED:20250402T115500Z
UID:1216433-1743638400-1743724799@ost.al
SUMMARY:03.04.2025
DESCRIPTION:03.04.2025
URL:https://ost.al/en/event/03-04-2025/
CATEGORIES:Crosszonal Capacities for MC AL-KS
END:VEVENT
BEGIN:VEVENT
DTSTART;VALUE=DATE:20250404
DTEND;VALUE=DATE:20250405
DTSTAMP:20260425T150344
CREATED:20250403T070518Z
LAST-MODIFIED:20250403T070518Z
UID:1216482-1743724800-1743811199@ost.al
SUMMARY:04.04.2025
DESCRIPTION:04.04.2025
URL:https://ost.al/en/event/04-04-2025/
CATEGORIES:Crosszonal Capacities for MC AL-KS
END:VEVENT
BEGIN:VEVENT
DTSTART;VALUE=DATE:20250405
DTEND;VALUE=DATE:20250406
DTSTAMP:20260425T150344
CREATED:20250404T072444Z
LAST-MODIFIED:20250404T072444Z
UID:1216539-1743811200-1743897599@ost.al
SUMMARY:05.04.2025
DESCRIPTION:05.04.2025
URL:https://ost.al/en/event/05-04-2025/
CATEGORIES:Crosszonal Capacities for MC AL-KS
END:VEVENT
BEGIN:VEVENT
DTSTART;VALUE=DATE:20250406
DTEND;VALUE=DATE:20250407
DTSTAMP:20260425T150344
CREATED:20250405T080821Z
LAST-MODIFIED:20250405T080821Z
UID:1216711-1743897600-1743983999@ost.al
SUMMARY:06.04.2025
DESCRIPTION:06.04.2025
URL:https://ost.al/en/event/06-04-2025/
CATEGORIES:Crosszonal Capacities for MC AL-KS
END:VEVENT
BEGIN:VEVENT
DTSTART;VALUE=DATE:20250407
DTEND;VALUE=DATE:20250408
DTSTAMP:20260425T150344
CREATED:20250406T084731Z
LAST-MODIFIED:20250406T084731Z
UID:1216742-1743984000-1744070399@ost.al
SUMMARY:07.04.2025
DESCRIPTION:07.04.2025
URL:https://ost.al/en/event/07-04-2025/
CATEGORIES:Crosszonal Capacities for MC AL-KS
END:VEVENT
BEGIN:VEVENT
DTSTART;VALUE=DATE:20250409
DTEND;VALUE=DATE:20250410
DTSTAMP:20260425T150344
CREATED:20250408T115254Z
LAST-MODIFIED:20250408T115254Z
UID:1216957-1744156800-1744243199@ost.al
SUMMARY:09.04.2025
DESCRIPTION:09.04.2025
URL:https://ost.al/en/event/09-04-2025/
CATEGORIES:Crosszonal Capacities for MC AL-KS
END:VEVENT
BEGIN:VEVENT
DTSTART;VALUE=DATE:20250410
DTEND;VALUE=DATE:20250411
DTSTAMP:20260425T150344
CREATED:20250409T073612Z
LAST-MODIFIED:20250409T073612Z
UID:1217019-1744243200-1744329599@ost.al
SUMMARY:10.04.2025
DESCRIPTION:10.04.2025
URL:https://ost.al/en/event/10-04-2025/
CATEGORIES:Crosszonal Capacities for MC AL-KS
END:VEVENT
BEGIN:VEVENT
DTSTART;VALUE=DATE:20250411
DTEND;VALUE=DATE:20250412
DTSTAMP:20260425T150344
CREATED:20250410T082738Z
LAST-MODIFIED:20250410T082738Z
UID:1217160-1744329600-1744415999@ost.al
SUMMARY:11.04.2025
DESCRIPTION:11.04.2025
URL:https://ost.al/en/event/11-04-2025/
CATEGORIES:Crosszonal Capacities for MC AL-KS
END:VEVENT
BEGIN:VEVENT
DTSTART;VALUE=DATE:20250412
DTEND;VALUE=DATE:20250413
DTSTAMP:20260425T150344
CREATED:20250411T083149Z
LAST-MODIFIED:20250411T083149Z
UID:1217228-1744416000-1744502399@ost.al
SUMMARY:12.04.2025
DESCRIPTION:12.04.2025
URL:https://ost.al/en/event/12-04-2025/
CATEGORIES:Crosszonal Capacities for MC AL-KS
END:VEVENT
BEGIN:VEVENT
DTSTART;VALUE=DATE:20250413
DTEND;VALUE=DATE:20250414
DTSTAMP:20260425T150344
CREATED:20250412T081138Z
LAST-MODIFIED:20250412T081138Z
UID:1217266-1744502400-1744588799@ost.al
SUMMARY:13.04.2025
DESCRIPTION:13.04.2025
URL:https://ost.al/en/event/13-04-2025/
CATEGORIES:Crosszonal Capacities for MC AL-KS
END:VEVENT
BEGIN:VEVENT
DTSTART;VALUE=DATE:20250414
DTEND;VALUE=DATE:20250415
DTSTAMP:20260425T150344
CREATED:20250413T093355Z
LAST-MODIFIED:20250413T093355Z
UID:1217296-1744588800-1744675199@ost.al
SUMMARY:14.04.2025
DESCRIPTION:14.04.2025
URL:https://ost.al/en/event/14-04-2025/
CATEGORIES:Crosszonal Capacities for MC AL-KS
END:VEVENT
BEGIN:VEVENT
DTSTART;VALUE=DATE:20250415
DTEND;VALUE=DATE:20250416
DTSTAMP:20260425T150344
CREATED:20250414T073254Z
LAST-MODIFIED:20250414T073254Z
UID:1217338-1744675200-1744761599@ost.al
SUMMARY:15.04.2025
DESCRIPTION:15.04.2025
URL:https://ost.al/en/event/15-04-2025/
CATEGORIES:Crosszonal Capacities for MC AL-KS
END:VEVENT
BEGIN:VEVENT
DTSTART;VALUE=DATE:20250416
DTEND;VALUE=DATE:20250417
DTSTAMP:20260425T150344
CREATED:20250415T073243Z
LAST-MODIFIED:20250415T073243Z
UID:1217430-1744761600-1744847999@ost.al
SUMMARY:16.04.2025
DESCRIPTION:16.04.2025
URL:https://ost.al/en/event/16-04-2025/
CATEGORIES:Crosszonal Capacities for MC AL-KS
END:VEVENT
BEGIN:VEVENT
DTSTART;VALUE=DATE:20250417
DTEND;VALUE=DATE:20250418
DTSTAMP:20260425T150344
CREATED:20250416T072007Z
LAST-MODIFIED:20250416T072007Z
UID:1217561-1744848000-1744934399@ost.al
SUMMARY:17.04.2025
DESCRIPTION:17.04.2025
URL:https://ost.al/en/event/17-04-2025/
CATEGORIES:Crosszonal Capacities for MC AL-KS
END:VEVENT
BEGIN:VEVENT
DTSTART;VALUE=DATE:20250418
DTEND;VALUE=DATE:20250419
DTSTAMP:20260425T150344
CREATED:20250418T083157Z
LAST-MODIFIED:20250418T083157Z
UID:1217774-1744934400-1745020799@ost.al
SUMMARY:18.04.2025
DESCRIPTION:18.04.2025
URL:https://ost.al/en/event/18-04-2025/
CATEGORIES:Crosszonal Capacities for MC AL-KS
END:VEVENT
BEGIN:VEVENT
DTSTART;VALUE=DATE:20250419
DTEND;VALUE=DATE:20250420
DTSTAMP:20260425T150344
CREATED:20250418T072050Z
LAST-MODIFIED:20250418T072050Z
UID:1217729-1745020800-1745107199@ost.al
SUMMARY:19.04.2025
DESCRIPTION:19.04.2025
URL:https://ost.al/en/event/19-04-2025/
CATEGORIES:Crosszonal Capacities for MC AL-KS
END:VEVENT
BEGIN:VEVENT
DTSTART;VALUE=DATE:20250420
DTEND;VALUE=DATE:20250421
DTSTAMP:20260425T150344
CREATED:20250419T093900Z
LAST-MODIFIED:20250419T093900Z
UID:1218174-1745107200-1745193599@ost.al
SUMMARY:20.04.2025
DESCRIPTION:20.04.2025
URL:https://ost.al/en/event/20-04-2025/
CATEGORIES:Crosszonal Capacities for MC AL-KS
END:VEVENT
BEGIN:VEVENT
DTSTART;VALUE=DATE:20250421
DTEND;VALUE=DATE:20250422
DTSTAMP:20260425T150344
CREATED:20250420T091344Z
LAST-MODIFIED:20250420T091344Z
UID:1218203-1745193600-1745279999@ost.al
SUMMARY:21.04.2025
DESCRIPTION:21.04.2025
URL:https://ost.al/en/event/21-04-2025/
CATEGORIES:Crosszonal Capacities for MC AL-KS
END:VEVENT
BEGIN:VEVENT
DTSTART;VALUE=DATE:20250422
DTEND;VALUE=DATE:20250423
DTSTAMP:20260425T150344
CREATED:20250421T072822Z
LAST-MODIFIED:20250421T072822Z
UID:1218248-1745280000-1745366399@ost.al
SUMMARY:22.04.2025
DESCRIPTION:22.04.2025
URL:https://ost.al/en/event/22-04-2025/
CATEGORIES:Crosszonal Capacities for MC AL-KS
END:VEVENT
BEGIN:VEVENT
DTSTART;VALUE=DATE:20250423
DTEND;VALUE=DATE:20250424
DTSTAMP:20260425T150344
CREATED:20250422T073121Z
LAST-MODIFIED:20250422T073121Z
UID:1218300-1745366400-1745452799@ost.al
SUMMARY:23.04.2025
DESCRIPTION:23.04.2025
URL:https://ost.al/en/event/23-04-2025/
CATEGORIES:Crosszonal Capacities for MC AL-KS
END:VEVENT
BEGIN:VEVENT
DTSTART;VALUE=DATE:20250424
DTEND;VALUE=DATE:20250425
DTSTAMP:20260425T150344
CREATED:20250423T072131Z
LAST-MODIFIED:20250423T072131Z
UID:1219097-1745452800-1745539199@ost.al
SUMMARY:24.04.2025
DESCRIPTION:24.04.2025
URL:https://ost.al/en/event/24-04-2025/
CATEGORIES:Crosszonal Capacities for MC AL-KS
END:VEVENT
BEGIN:VEVENT
DTSTART;VALUE=DATE:20250425
DTEND;VALUE=DATE:20250426
DTSTAMP:20260425T150344
CREATED:20250424T074652Z
LAST-MODIFIED:20250424T074652Z
UID:1220385-1745539200-1745625599@ost.al
SUMMARY:25.04.2025
DESCRIPTION:25.04.2025
URL:https://ost.al/en/event/25-04-2025/
CATEGORIES:Crosszonal Capacities for MC AL-KS
END:VEVENT
BEGIN:VEVENT
DTSTART;VALUE=DATE:20250426
DTEND;VALUE=DATE:20250427
DTSTAMP:20260425T150344
CREATED:20250425T083756Z
LAST-MODIFIED:20250425T083756Z
UID:1220738-1745625600-1745711999@ost.al
SUMMARY:26.04.2025
DESCRIPTION:26.04.2025
URL:https://ost.al/en/event/26-04-2025/
CATEGORIES:Crosszonal Capacities for MC AL-KS
END:VEVENT
BEGIN:VEVENT
DTSTART;VALUE=DATE:20250427
DTEND;VALUE=DATE:20250428
DTSTAMP:20260425T150344
CREATED:20250426T134218Z
LAST-MODIFIED:20250426T134218Z
UID:1220856-1745712000-1745798399@ost.al
SUMMARY:27.04.2025
DESCRIPTION:27.04.2025
URL:https://ost.al/en/event/27-04-2025/
CATEGORIES:Crosszonal Capacities for MC AL-KS
END:VEVENT
BEGIN:VEVENT
DTSTART;VALUE=DATE:20250428
DTEND;VALUE=DATE:20250429
DTSTAMP:20260425T150344
CREATED:20250427T082036Z
LAST-MODIFIED:20250427T082036Z
UID:1220897-1745798400-1745884799@ost.al
SUMMARY:28.04.2025
DESCRIPTION:28.04.2025
URL:https://ost.al/en/event/28-04-2025/
CATEGORIES:Crosszonal Capacities for MC AL-KS
END:VEVENT
BEGIN:VEVENT
DTSTART;VALUE=DATE:20250429
DTEND;VALUE=DATE:20250430
DTSTAMP:20260425T150344
CREATED:20250428T072242Z
LAST-MODIFIED:20250428T072242Z
UID:1220926-1745884800-1745971199@ost.al
SUMMARY:29.04.2025
DESCRIPTION:29.04.2025
URL:https://ost.al/en/event/29-04-2025/
CATEGORIES:Crosszonal Capacities for MC AL-KS
END:VEVENT
BEGIN:VEVENT
DTSTART;VALUE=DATE:20250429
DTEND;VALUE=DATE:20250430
DTSTAMP:20260425T150345
CREATED:20250429T074651Z
LAST-MODIFIED:20250429T074651Z
UID:1221002-1745884800-1745971199@ost.al
SUMMARY:30.04.2025
DESCRIPTION:30.04.2025
URL:https://ost.al/en/event/30-04-2025/
CATEGORIES:Crosszonal Capacities for MC AL-KS
END:VEVENT
BEGIN:VEVENT
DTSTART;VALUE=DATE:20250430
DTEND;VALUE=DATE:20250501
DTSTAMP:20260425T150345
CREATED:20250429T083251Z
LAST-MODIFIED:20250429T083251Z
UID:1221010-1745971200-1746057599@ost.al
SUMMARY:30.04.2025
DESCRIPTION:30.04.2025
URL:https://ost.al/en/event/30-04-2025-2/
CATEGORIES:Crosszonal Capacities for MC AL-KS
END:VEVENT
END:VCALENDAR