BEGIN:VCALENDAR
VERSION:2.0
PRODID:-//Operatori i Sistemit Te Transmetimit - ECPv6.15.18//NONSGML v1.0//EN
CALSCALE:GREGORIAN
METHOD:PUBLISH
X-WR-CALNAME:Operatori i Sistemit Te Transmetimit
X-ORIGINAL-URL:https://ost.al/en/
X-WR-CALDESC:Events for Operatori i Sistemit Te Transmetimit
REFRESH-INTERVAL;VALUE=DURATION:PT1H
X-Robots-Tag:noindex
X-PUBLISHED-TTL:PT1H
BEGIN:VTIMEZONE
TZID:UTC
BEGIN:STANDARD
TZOFFSETFROM:+0000
TZOFFSETTO:+0000
TZNAME:UTC
DTSTART:20240101T000000
END:STANDARD
END:VTIMEZONE
BEGIN:VEVENT
DTSTART;VALUE=DATE:20250503
DTEND;VALUE=DATE:20250504
DTSTAMP:20260425T110537
CREATED:20250502T073855Z
LAST-MODIFIED:20250502T073855Z
UID:1221260-1746230400-1746316799@ost.al
SUMMARY:03.05.2025
DESCRIPTION:03.05.2025
URL:https://ost.al/en/event/03-05-2025/
CATEGORIES:Crosszonal Capacities for MC AL-KS
END:VEVENT
BEGIN:VEVENT
DTSTART;VALUE=DATE:20250504
DTEND;VALUE=DATE:20250505
DTSTAMP:20260425T110537
CREATED:20250503T075659Z
LAST-MODIFIED:20250503T075659Z
UID:1221405-1746316800-1746403199@ost.al
SUMMARY:04.05.2025
DESCRIPTION:04.05.2025
URL:https://ost.al/en/event/04-05-2025/
CATEGORIES:Crosszonal Capacities for MC AL-KS
END:VEVENT
BEGIN:VEVENT
DTSTART;VALUE=DATE:20250506
DTEND;VALUE=DATE:20250507
DTSTAMP:20260425T110537
CREATED:20250505T070704Z
LAST-MODIFIED:20250505T070704Z
UID:1221475-1746489600-1746575999@ost.al
SUMMARY:06.05.2025
DESCRIPTION:06.05.2025
URL:https://ost.al/en/event/06-05-2025/
CATEGORIES:Crosszonal Capacities for MC AL-KS
END:VEVENT
BEGIN:VEVENT
DTSTART;VALUE=DATE:20250507
DTEND;VALUE=DATE:20250508
DTSTAMP:20260425T110537
CREATED:20250506T071348Z
LAST-MODIFIED:20250506T071348Z
UID:1221534-1746576000-1746662399@ost.al
SUMMARY:07.05.2025
DESCRIPTION:07.05.2025
URL:https://ost.al/en/event/07-05-2025/
CATEGORIES:Crosszonal Capacities for MC AL-KS
END:VEVENT
BEGIN:VEVENT
DTSTART;VALUE=DATE:20250508
DTEND;VALUE=DATE:20250509
DTSTAMP:20260425T110537
CREATED:20250507T091231Z
LAST-MODIFIED:20250507T091231Z
UID:1221711-1746662400-1746748799@ost.al
SUMMARY:08.05.2025
DESCRIPTION:08.05.2025
URL:https://ost.al/en/event/08-05-2025/
CATEGORIES:Crosszonal Capacities for MC AL-KS
END:VEVENT
BEGIN:VEVENT
DTSTART;VALUE=DATE:20250511
DTEND;VALUE=DATE:20250512
DTSTAMP:20260425T110537
CREATED:20250510T075955Z
LAST-MODIFIED:20250510T075955Z
UID:1221999-1746921600-1747007999@ost.al
SUMMARY:11.05.2025
DESCRIPTION:11.05.2025
URL:https://ost.al/en/event/11-05-2025/
CATEGORIES:Crosszonal Capacities for MC AL-KS
END:VEVENT
BEGIN:VEVENT
DTSTART;VALUE=DATE:20250512
DTEND;VALUE=DATE:20250513
DTSTAMP:20260425T110537
CREATED:20250511T082013Z
LAST-MODIFIED:20250511T082013Z
UID:1222024-1747008000-1747094399@ost.al
SUMMARY:12.05.2025
DESCRIPTION:12.05.2025
URL:https://ost.al/en/event/12-05-2025/
CATEGORIES:Crosszonal Capacities for MC AL-KS
END:VEVENT
BEGIN:VEVENT
DTSTART;VALUE=DATE:20250513
DTEND;VALUE=DATE:20250514
DTSTAMP:20260425T110537
CREATED:20250512T075211Z
LAST-MODIFIED:20250512T075211Z
UID:1222071-1747094400-1747180799@ost.al
SUMMARY:13.05.2025
DESCRIPTION:13.05.2025
URL:https://ost.al/en/event/13-05-2025/
CATEGORIES:Crosszonal Capacities for MC AL-KS
END:VEVENT
BEGIN:VEVENT
DTSTART;VALUE=DATE:20250514
DTEND;VALUE=DATE:20250515
DTSTAMP:20260425T110537
CREATED:20250513T072737Z
LAST-MODIFIED:20250513T072737Z
UID:1222169-1747180800-1747267199@ost.al
SUMMARY:14.05.2025
DESCRIPTION:14.05.2025
URL:https://ost.al/en/event/14-05-2025/
CATEGORIES:Crosszonal Capacities for MC AL-KS
END:VEVENT
BEGIN:VEVENT
DTSTART;VALUE=DATE:20250515
DTEND;VALUE=DATE:20250516
DTSTAMP:20260425T110537
CREATED:20250514T080054Z
LAST-MODIFIED:20250514T080054Z
UID:1222278-1747267200-1747353599@ost.al
SUMMARY:15.05.2025
DESCRIPTION:15.05.2025
URL:https://ost.al/en/event/15-05-2025/
CATEGORIES:Crosszonal Capacities for MC AL-KS
END:VEVENT
BEGIN:VEVENT
DTSTART;VALUE=DATE:20250520
DTEND;VALUE=DATE:20250521
DTSTAMP:20260425T110537
CREATED:20250519T073528Z
LAST-MODIFIED:20250519T073528Z
UID:1222479-1747699200-1747785599@ost.al
SUMMARY:20.05.2025
DESCRIPTION:20.05.2025
URL:https://ost.al/en/event/20-05-2025/
CATEGORIES:Crosszonal Capacities for MC AL-KS
END:VEVENT
BEGIN:VEVENT
DTSTART;VALUE=DATE:20250521
DTEND;VALUE=DATE:20250522
DTSTAMP:20260425T110537
CREATED:20250520T070951Z
LAST-MODIFIED:20250520T070951Z
UID:1222684-1747785600-1747871999@ost.al
SUMMARY:21.05.2025
DESCRIPTION:21.05.2025
URL:https://ost.al/en/event/21-05-2025/
CATEGORIES:Crosszonal Capacities for MC AL-KS
END:VEVENT
BEGIN:VEVENT
DTSTART;VALUE=DATE:20250522
DTEND;VALUE=DATE:20250523
DTSTAMP:20260425T110537
CREATED:20250521T073049Z
LAST-MODIFIED:20250521T073049Z
UID:1222792-1747872000-1747958399@ost.al
SUMMARY:22.05.2025
DESCRIPTION:22.05.2025
URL:https://ost.al/en/event/22-05-2025/
CATEGORIES:Crosszonal Capacities for MC AL-KS
END:VEVENT
BEGIN:VEVENT
DTSTART;VALUE=DATE:20250523
DTEND;VALUE=DATE:20250524
DTSTAMP:20260425T110537
CREATED:20250522T070952Z
LAST-MODIFIED:20250522T070952Z
UID:1222859-1747958400-1748044799@ost.al
SUMMARY:23.05.2025
DESCRIPTION:23.05.2025
URL:https://ost.al/en/event/23-05-2025/
CATEGORIES:Crosszonal Capacities for MC AL-KS
END:VEVENT
BEGIN:VEVENT
DTSTART;VALUE=DATE:20250524
DTEND;VALUE=DATE:20250525
DTSTAMP:20260425T110537
CREATED:20250523T073925Z
LAST-MODIFIED:20250523T073925Z
UID:1222933-1748044800-1748131199@ost.al
SUMMARY:24.05.2025
DESCRIPTION:24.05.2025
URL:https://ost.al/en/event/24-05-2025/
CATEGORIES:Crosszonal Capacities for MC AL-KS
END:VEVENT
BEGIN:VEVENT
DTSTART;VALUE=DATE:20250525
DTEND;VALUE=DATE:20250526
DTSTAMP:20260425T110537
CREATED:20250524T105154Z
LAST-MODIFIED:20250524T105154Z
UID:1223073-1748131200-1748217599@ost.al
SUMMARY:25.05.2025
DESCRIPTION:25.05.2025
URL:https://ost.al/en/event/25-05-2025/
CATEGORIES:Crosszonal Capacities for MC AL-KS
END:VEVENT
BEGIN:VEVENT
DTSTART;VALUE=DATE:20250526
DTEND;VALUE=DATE:20250527
DTSTAMP:20260425T110537
CREATED:20250525T093301Z
LAST-MODIFIED:20250525T093301Z
UID:1223117-1748217600-1748303999@ost.al
SUMMARY:26.05.2025
DESCRIPTION:26.05.2025
URL:https://ost.al/en/event/26-05-2025/
CATEGORIES:Crosszonal Capacities for MC AL-KS
END:VEVENT
BEGIN:VEVENT
DTSTART;VALUE=DATE:20250527
DTEND;VALUE=DATE:20250528
DTSTAMP:20260425T110537
CREATED:20250526T071749Z
LAST-MODIFIED:20250526T071749Z
UID:1223153-1748304000-1748390399@ost.al
SUMMARY:27.05.2025
DESCRIPTION:27.05.2025
URL:https://ost.al/en/event/27-05-2025/
CATEGORIES:Crosszonal Capacities for MC AL-KS
END:VEVENT
BEGIN:VEVENT
DTSTART;VALUE=DATE:20250528
DTEND;VALUE=DATE:20250529
DTSTAMP:20260425T110537
CREATED:20250527T090028Z
LAST-MODIFIED:20250527T090028Z
UID:1223298-1748390400-1748476799@ost.al
SUMMARY:28.05.2025
DESCRIPTION:28.05.2025
URL:https://ost.al/en/event/28-05-2025/
CATEGORIES:Crosszonal Capacities for MC AL-KS
END:VEVENT
BEGIN:VEVENT
DTSTART;VALUE=DATE:20250529
DTEND;VALUE=DATE:20250530
DTSTAMP:20260425T110537
CREATED:20250528T070658Z
LAST-MODIFIED:20250528T070658Z
UID:1223352-1748476800-1748563199@ost.al
SUMMARY:29.05.2025
DESCRIPTION:29.05.2025
URL:https://ost.al/en/event/29-05-2025/
CATEGORIES:Crosszonal Capacities for MC AL-KS
END:VEVENT
BEGIN:VEVENT
DTSTART;VALUE=DATE:20250530
DTEND;VALUE=DATE:20250531
DTSTAMP:20260425T110537
CREATED:20250529T105055Z
LAST-MODIFIED:20250529T105055Z
UID:1223451-1748563200-1748649599@ost.al
SUMMARY:30.05.2025
DESCRIPTION:30.05.2025
URL:https://ost.al/en/event/30-05-2025/
CATEGORIES:Crosszonal Capacities for MC AL-KS
END:VEVENT
BEGIN:VEVENT
DTSTART;VALUE=DATE:20250531
DTEND;VALUE=DATE:20250601
DTSTAMP:20260425T110537
CREATED:20250530T081551Z
LAST-MODIFIED:20250530T081551Z
UID:1223515-1748649600-1748735999@ost.al
SUMMARY:31.05.2025
DESCRIPTION:31.05.2025
URL:https://ost.al/en/event/31-05-2025/
CATEGORIES:Crosszonal Capacities for MC AL-KS
END:VEVENT
END:VCALENDAR