BEGIN:VCALENDAR
VERSION:2.0
PRODID:-//Operatori i Sistemit Te Transmetimit - ECPv6.15.18//NONSGML v1.0//EN
CALSCALE:GREGORIAN
METHOD:PUBLISH
X-WR-CALNAME:Operatori i Sistemit Te Transmetimit
X-ORIGINAL-URL:https://ost.al
X-WR-CALDESC:Events for Operatori i Sistemit Te Transmetimit
REFRESH-INTERVAL;VALUE=DURATION:PT1H
X-Robots-Tag:noindex
X-PUBLISHED-TTL:PT1H
BEGIN:VTIMEZONE
TZID:UTC
BEGIN:STANDARD
TZOFFSETFROM:+0000
TZOFFSETTO:+0000
TZNAME:UTC
DTSTART:20250101T000000
END:STANDARD
END:VTIMEZONE
BEGIN:VEVENT
DTSTART;VALUE=DATE:20260421
DTEND;VALUE=DATE:20260422
DTSTAMP:20260421T020623
CREATED:20260420T070505Z
LAST-MODIFIED:20260420T070505Z
UID:1248077-1776729600-1776815999@ost.al
SUMMARY:Kapacitetet nderkufitare per MC AL-KS 21.04.2026
DESCRIPTION:Kapacitetet nderkufitare per MC AL-KS 21.04.2026
URL:https://ost.al/event/kapacitetet-nderkufitare-per-mc-al-ks-21-04-2026/
CATEGORIES:Kapacitetet e lira për Bashkimin e Tregjeve të Ditës në Avancë
END:VEVENT
BEGIN:VEVENT
DTSTART;VALUE=DATE:20260421
DTEND;VALUE=DATE:20260422
DTSTAMP:20260421T020623
CREATED:20260420T082542Z
LAST-MODIFIED:20260420T082542Z
UID:1248104-1776729600-1776815999@ost.al
SUMMARY:21.04.2026
DESCRIPTION:21.04.2026
URL:https://ost.al/event/21-04-2026/
CATEGORIES:Rezultat Ankandi i Angazhimit per Shperndarje
END:VEVENT
BEGIN:VEVENT
DTSTART;VALUE=DATE:20260421
DTEND;VALUE=DATE:20260422
DTSTAMP:20260421T020623
CREATED:20260420T123445Z
LAST-MODIFIED:20260420T123515Z
UID:1248124-1776729600-1776815999@ost.al
SUMMARY:21.04.2026
DESCRIPTION:21.04.2026
URL:https://ost.al/event/21-04-2026-2/
CATEGORIES:Rezultat Ankandi i Angazhimit per Shperndarje
END:VEVENT
BEGIN:VEVENT
DTSTART;VALUE=DATE:20260421
DTEND;VALUE=DATE:20260422
DTSTAMP:20260421T020623
CREATED:20260420T123900Z
LAST-MODIFIED:20260420T123900Z
UID:1248128-1776729600-1776815999@ost.al
SUMMARY:Kapaciteti_21.04. 26
DESCRIPTION:Kapaciteti_21.04. 26
URL:https://ost.al/event/kapaciteti_21-04-26/
CATEGORIES:Kapaciteti i Lire i Disponueshem në Kufi
END:VEVENT
BEGIN:VEVENT
DTSTART;VALUE=DATE:20260421
DTEND;VALUE=DATE:20260422
DTSTAMP:20260421T020623
CREATED:20260420T124017Z
LAST-MODIFIED:20260420T124017Z
UID:1248131-1776729600-1776815999@ost.al
SUMMARY:CRIDA 1 21.04.2026
DESCRIPTION:CRIDA 1 21.04.2026
URL:https://ost.al/event/crida-1-21-04-2026/
CATEGORIES:Kapacitetet e lira për Bashkimin e Tregjeve Brenda të Njëjtës Ditë
END:VEVENT
END:VCALENDAR