BEGIN:VCALENDAR
VERSION:2.0
PRODID:-//Operatori i Sistemit Te Transmetimit - ECPv6.15.18//NONSGML v1.0//EN
CALSCALE:GREGORIAN
METHOD:PUBLISH
X-ORIGINAL-URL:https://ost.al
X-WR-CALDESC:Events for Operatori i Sistemit Te Transmetimit
REFRESH-INTERVAL;VALUE=DURATION:PT1H
X-Robots-Tag:noindex
X-PUBLISHED-TTL:PT1H
BEGIN:VTIMEZONE
TZID:UTC
BEGIN:STANDARD
TZOFFSETFROM:+0000
TZOFFSETTO:+0000
TZNAME:UTC
DTSTART:20220101T000000
END:STANDARD
END:VTIMEZONE
BEGIN:VEVENT
DTSTART;VALUE=DATE:20231101
DTEND;VALUE=DATE:20231102
DTSTAMP:20260425T112157
CREATED:20231101T131800Z
LAST-MODIFIED:20231101T131800Z
UID:1186209-1698796800-1698883199@ost.al
SUMMARY:Kapaciteti 01 11 23
DESCRIPTION:Kapaciteti_01 11 23
URL:https://ost.al/event/kapaciteti-01-11-23/
CATEGORIES:Kapaciteti i Lire i Disponueshem në Kufi
END:VEVENT
BEGIN:VEVENT
DTSTART;VALUE=DATE:20231102
DTEND;VALUE=DATE:20231103
DTSTAMP:20260425T112158
CREATED:20231103T135250Z
LAST-MODIFIED:20231103T135250Z
UID:1186372-1698883200-1698969599@ost.al
SUMMARY:Kapaciteti 02 11 23
DESCRIPTION:Kapaciteti_02 11 23
URL:https://ost.al/event/kapaciteti-02-11-23/
CATEGORIES:Kapaciteti i Lire i Disponueshem në Kufi
END:VEVENT
BEGIN:VEVENT
DTSTART;VALUE=DATE:20231103
DTEND;VALUE=DATE:20231104
DTSTAMP:20260425T112158
CREATED:20231103T135323Z
LAST-MODIFIED:20231103T135323Z
UID:1186376-1698969600-1699055999@ost.al
SUMMARY:Kapaciteti 03 11 23
DESCRIPTION:Kapaciteti_03 11 23
URL:https://ost.al/event/kapaciteti-03-11-23/
CATEGORIES:Kapaciteti i Lire i Disponueshem në Kufi
END:VEVENT
BEGIN:VEVENT
DTSTART;VALUE=DATE:20231104
DTEND;VALUE=DATE:20231105
DTSTAMP:20260425T112158
CREATED:20231103T135351Z
LAST-MODIFIED:20231103T135351Z
UID:1186380-1699056000-1699142399@ost.al
SUMMARY:Kapaciteti 04 11 23
DESCRIPTION:Kapaciteti_04 11 23
URL:https://ost.al/event/kapaciteti-04-11-23/
CATEGORIES:Kapaciteti i Lire i Disponueshem në Kufi
END:VEVENT
BEGIN:VEVENT
DTSTART;VALUE=DATE:20231105
DTEND;VALUE=DATE:20231106
DTSTAMP:20260425T112158
CREATED:20231117T083141Z
LAST-MODIFIED:20231117T083141Z
UID:1186843-1699142400-1699228799@ost.al
SUMMARY:Kapaciteti 05 11 23
DESCRIPTION:Kapaciteti_05 11 23
URL:https://ost.al/event/kapaciteti-05-11-23/
CATEGORIES:Kapaciteti i Lire i Disponueshem në Kufi
END:VEVENT
BEGIN:VEVENT
DTSTART;VALUE=DATE:20231106
DTEND;VALUE=DATE:20231107
DTSTAMP:20260425T112158
CREATED:20231117T083159Z
LAST-MODIFIED:20231117T083159Z
UID:1186847-1699228800-1699315199@ost.al
SUMMARY:Kapaciteti 06 11 23
DESCRIPTION:Kapaciteti_06 11 23
URL:https://ost.al/event/kapaciteti-06-11-23/
CATEGORIES:Kapaciteti i Lire i Disponueshem në Kufi
END:VEVENT
BEGIN:VEVENT
DTSTART;VALUE=DATE:20231107
DTEND;VALUE=DATE:20231108
DTSTAMP:20260425T112158
CREATED:20231108T140231Z
LAST-MODIFIED:20231108T140231Z
UID:1186541-1699315200-1699401599@ost.al
SUMMARY:Kapaciteti 07 11 23
DESCRIPTION:Kapaciteti_07 11 23
URL:https://ost.al/event/kapaciteti-07-11-23/
CATEGORIES:Kapaciteti i Lire i Disponueshem në Kufi
END:VEVENT
BEGIN:VEVENT
DTSTART;VALUE=DATE:20231108
DTEND;VALUE=DATE:20231109
DTSTAMP:20260425T112158
CREATED:20231108T140213Z
LAST-MODIFIED:20231108T140213Z
UID:1186537-1699401600-1699487999@ost.al
SUMMARY:Kapaciteti 08 11 23
DESCRIPTION:Kapaciteti_08 11 23
URL:https://ost.al/event/kapaciteti-08-11-23/
CATEGORIES:Kapaciteti i Lire i Disponueshem në Kufi
END:VEVENT
BEGIN:VEVENT
DTSTART;VALUE=DATE:20231109
DTEND;VALUE=DATE:20231110
DTSTAMP:20260425T112158
CREATED:20231108T140151Z
LAST-MODIFIED:20231108T140151Z
UID:1186533-1699488000-1699574399@ost.al
SUMMARY:11.Shk Nentor 23
DESCRIPTION:11.Shk Nentor 23
URL:https://ost.al/event/11-shk-nentor-23/
CATEGORIES:Kapaciteti i Lire i Disponueshem në Kufi
END:VEVENT
BEGIN:VEVENT
DTSTART;VALUE=DATE:20231110
DTEND;VALUE=DATE:20231111
DTSTAMP:20260425T112158
CREATED:20231117T082839Z
LAST-MODIFIED:20231117T082839Z
UID:1186815-1699574400-1699660799@ost.al
SUMMARY:Kapaciteti 10 11 23
DESCRIPTION:Kapaciteti_10 11 23
URL:https://ost.al/event/kapaciteti-10-11-23/
CATEGORIES:Kapaciteti i Lire i Disponueshem në Kufi
END:VEVENT
BEGIN:VEVENT
DTSTART;VALUE=DATE:20231111
DTEND;VALUE=DATE:20231112
DTSTAMP:20260425T112158
CREATED:20231110T134947Z
LAST-MODIFIED:20231110T134947Z
UID:1186671-1699660800-1699747199@ost.al
SUMMARY:Kapaciteti 11 11 23
DESCRIPTION:Kapaciteti_11 11 23
URL:https://ost.al/event/kapaciteti-11-11-23/
CATEGORIES:Kapaciteti i Lire i Disponueshem në Kufi
END:VEVENT
BEGIN:VEVENT
DTSTART;VALUE=DATE:20231112
DTEND;VALUE=DATE:20231113
DTSTAMP:20260425T112158
CREATED:20231117T082900Z
LAST-MODIFIED:20231117T082900Z
UID:1186819-1699747200-1699833599@ost.al
SUMMARY:Kapaciteti 12 11 23
DESCRIPTION:Kapaciteti_12 11 23
URL:https://ost.al/event/kapaciteti-12-11-23/
CATEGORIES:Kapaciteti i Lire i Disponueshem në Kufi
END:VEVENT
BEGIN:VEVENT
DTSTART;VALUE=DATE:20231113
DTEND;VALUE=DATE:20231114
DTSTAMP:20260425T112158
CREATED:20231117T082937Z
LAST-MODIFIED:20231117T082937Z
UID:1186823-1699833600-1699919999@ost.al
SUMMARY:Kapaciteti 13 11 23
DESCRIPTION:Kapaciteti_13 11 23
URL:https://ost.al/event/kapaciteti-13-11-23/
CATEGORIES:Kapaciteti i Lire i Disponueshem në Kufi
END:VEVENT
BEGIN:VEVENT
DTSTART;VALUE=DATE:20231114
DTEND;VALUE=DATE:20231115
DTSTAMP:20260425T112158
CREATED:20231117T083000Z
LAST-MODIFIED:20231117T083000Z
UID:1186827-1699920000-1700006399@ost.al
SUMMARY:Kapaciteti 14 11 23
DESCRIPTION:Kapaciteti_14 11 23
URL:https://ost.al/event/kapaciteti-14-11-23/
CATEGORIES:Kapaciteti i Lire i Disponueshem në Kufi
END:VEVENT
BEGIN:VEVENT
DTSTART;VALUE=DATE:20231115
DTEND;VALUE=DATE:20231116
DTSTAMP:20260425T112158
CREATED:20231117T083021Z
LAST-MODIFIED:20231117T083021Z
UID:1186831-1700006400-1700092799@ost.al
SUMMARY:Kapaciteti 15 11 23
DESCRIPTION:Kapaciteti_15 11 23
URL:https://ost.al/event/kapaciteti-15-11-23/
CATEGORIES:Kapaciteti i Lire i Disponueshem në Kufi
END:VEVENT
BEGIN:VEVENT
DTSTART;VALUE=DATE:20231116
DTEND;VALUE=DATE:20231117
DTSTAMP:20260425T112158
CREATED:20231117T083039Z
LAST-MODIFIED:20231117T083039Z
UID:1186835-1700092800-1700179199@ost.al
SUMMARY:Kapaciteti 16 11 23
DESCRIPTION:Kapaciteti_16 11 23
URL:https://ost.al/event/kapaciteti-16-11-23/
CATEGORIES:Kapaciteti i Lire i Disponueshem në Kufi
END:VEVENT
BEGIN:VEVENT
DTSTART;VALUE=DATE:20231117
DTEND;VALUE=DATE:20231118
DTSTAMP:20260425T112158
CREATED:20231117T083058Z
LAST-MODIFIED:20231117T083058Z
UID:1186839-1700179200-1700265599@ost.al
SUMMARY:Kapaciteti 17 11 23
DESCRIPTION:Kapaciteti_17 11 23
URL:https://ost.al/event/kapaciteti-17-11-23/
CATEGORIES:Kapaciteti i Lire i Disponueshem në Kufi
END:VEVENT
BEGIN:VEVENT
DTSTART;VALUE=DATE:20231118
DTEND;VALUE=DATE:20231119
DTSTAMP:20260425T112158
CREATED:20231124T091739Z
LAST-MODIFIED:20231124T091739Z
UID:1187238-1700265600-1700351999@ost.al
SUMMARY:Kapaciteti 18 11 23
DESCRIPTION:Kapaciteti_18 11 23
URL:https://ost.al/event/kapaciteti-18-11-23/
CATEGORIES:Kapaciteti i Lire i Disponueshem në Kufi
END:VEVENT
BEGIN:VEVENT
DTSTART;VALUE=DATE:20231119
DTEND;VALUE=DATE:20231120
DTSTAMP:20260425T112158
CREATED:20231124T091809Z
LAST-MODIFIED:20231124T091809Z
UID:1187242-1700352000-1700438399@ost.al
SUMMARY:Kapaciteti 19 11 23
DESCRIPTION:Kapaciteti_19 11 23
URL:https://ost.al/event/kapaciteti-19-11-23/
CATEGORIES:Kapaciteti i Lire i Disponueshem në Kufi
END:VEVENT
BEGIN:VEVENT
DTSTART;VALUE=DATE:20231120
DTEND;VALUE=DATE:20231121
DTSTAMP:20260425T112158
CREATED:20231124T091828Z
LAST-MODIFIED:20231124T091828Z
UID:1187246-1700438400-1700524799@ost.al
SUMMARY:Kapaciteti 20 11 23
DESCRIPTION:Kapaciteti_20 11 23
URL:https://ost.al/event/kapaciteti-20-11-23/
CATEGORIES:Kapaciteti i Lire i Disponueshem në Kufi
END:VEVENT
BEGIN:VEVENT
DTSTART;VALUE=DATE:20231121
DTEND;VALUE=DATE:20231122
DTSTAMP:20260425T112158
CREATED:20231124T091852Z
LAST-MODIFIED:20231124T091852Z
UID:1187250-1700524800-1700611199@ost.al
SUMMARY:Kapaciteti 21 11 23
DESCRIPTION:Kapaciteti_21 11 23
URL:https://ost.al/event/kapaciteti-21-11-23/
CATEGORIES:Kapaciteti i Lire i Disponueshem në Kufi
END:VEVENT
BEGIN:VEVENT
DTSTART;VALUE=DATE:20231122
DTEND;VALUE=DATE:20231123
DTSTAMP:20260425T112158
CREATED:20231124T091915Z
LAST-MODIFIED:20231124T091915Z
UID:1187254-1700611200-1700697599@ost.al
SUMMARY:Kapaciteti 22 11 23
DESCRIPTION:Kapaciteti_22 11 23
URL:https://ost.al/event/kapaciteti-22-11-23/
CATEGORIES:Kapaciteti i Lire i Disponueshem në Kufi
END:VEVENT
BEGIN:VEVENT
DTSTART;VALUE=DATE:20231123
DTEND;VALUE=DATE:20231124
DTSTAMP:20260425T112158
CREATED:20231130T130431Z
LAST-MODIFIED:20231130T130431Z
UID:1187528-1700697600-1700783999@ost.al
SUMMARY:Kapaciteti 23 11 23
DESCRIPTION:Kapaciteti_23 11 23
URL:https://ost.al/event/kapaciteti-23-11-23/
CATEGORIES:Kapaciteti i Lire i Disponueshem në Kufi
END:VEVENT
BEGIN:VEVENT
DTSTART;VALUE=DATE:20231124
DTEND;VALUE=DATE:20231125
DTSTAMP:20260425T112158
CREATED:20231124T091947Z
LAST-MODIFIED:20231124T091947Z
UID:1187258-1700784000-1700870399@ost.al
SUMMARY:Kapaciteti 24 11 23
DESCRIPTION:Kapaciteti_24 11 23
URL:https://ost.al/event/kapaciteti-24-11-23/
CATEGORIES:Kapaciteti i Lire i Disponueshem në Kufi
END:VEVENT
BEGIN:VEVENT
DTSTART;VALUE=DATE:20231125
DTEND;VALUE=DATE:20231126
DTSTAMP:20260425T112158
CREATED:20231130T130458Z
LAST-MODIFIED:20231130T130458Z
UID:1187532-1700870400-1700956799@ost.al
SUMMARY:Kapaciteti 25 11 23
DESCRIPTION:Kapaciteti_25 11 23
URL:https://ost.al/event/kapaciteti-25-11-23/
CATEGORIES:Kapaciteti i Lire i Disponueshem në Kufi
END:VEVENT
BEGIN:VEVENT
DTSTART;VALUE=DATE:20231126
DTEND;VALUE=DATE:20231127
DTSTAMP:20260425T112158
CREATED:20231130T130521Z
LAST-MODIFIED:20231130T130521Z
UID:1187536-1700956800-1701043199@ost.al
SUMMARY:Kapaciteti 26 11 23
DESCRIPTION:Kapaciteti_26 11 23
URL:https://ost.al/event/kapaciteti-26-11-23/
CATEGORIES:Kapaciteti i Lire i Disponueshem në Kufi
END:VEVENT
BEGIN:VEVENT
DTSTART;VALUE=DATE:20231127
DTEND;VALUE=DATE:20231128
DTSTAMP:20260425T112158
CREATED:20231130T130552Z
LAST-MODIFIED:20231130T130552Z
UID:1187540-1701043200-1701129599@ost.al
SUMMARY:Kapaciteti 27 11 23
DESCRIPTION:Kapaciteti_27 11 23
URL:https://ost.al/event/kapaciteti-27-11-23/
CATEGORIES:Kapaciteti i Lire i Disponueshem në Kufi
END:VEVENT
BEGIN:VEVENT
DTSTART;VALUE=DATE:20231128
DTEND;VALUE=DATE:20231129
DTSTAMP:20260425T112158
CREATED:20231130T130614Z
LAST-MODIFIED:20231130T130614Z
UID:1187544-1701129600-1701215999@ost.al
SUMMARY:Kapaciteti 28 11 23
DESCRIPTION:Kapaciteti_28 11 23
URL:https://ost.al/event/kapaciteti-28-11-23/
CATEGORIES:Kapaciteti i Lire i Disponueshem në Kufi
END:VEVENT
BEGIN:VEVENT
DTSTART;VALUE=DATE:20231129
DTEND;VALUE=DATE:20231130
DTSTAMP:20260425T112158
CREATED:20231130T130634Z
LAST-MODIFIED:20231130T130634Z
UID:1187548-1701216000-1701302399@ost.al
SUMMARY:Kapaciteti 29 11 23
DESCRIPTION:Kapaciteti_29 11 23
URL:https://ost.al/event/kapaciteti-29-11-23/
CATEGORIES:Kapaciteti i Lire i Disponueshem në Kufi
END:VEVENT
BEGIN:VEVENT
DTSTART;VALUE=DATE:20231130
DTEND;VALUE=DATE:20231201
DTSTAMP:20260425T112158
CREATED:20231130T130701Z
LAST-MODIFIED:20231130T130701Z
UID:1187552-1701302400-1701388799@ost.al
SUMMARY:Kapaciteti 30 11 23
DESCRIPTION:Kapaciteti_30 11 23
URL:https://ost.al/event/kapaciteti-30-11-23/
CATEGORIES:Kapaciteti i Lire i Disponueshem në Kufi
END:VEVENT
END:VCALENDAR