BEGIN:VCALENDAR
VERSION:2.0
PRODID:-//Operatori i Sistemit Te Transmetimit - ECPv6.15.18//NONSGML v1.0//EN
CALSCALE:GREGORIAN
METHOD:PUBLISH
X-ORIGINAL-URL:https://ost.al
X-WR-CALDESC:Events for Operatori i Sistemit Te Transmetimit
REFRESH-INTERVAL;VALUE=DURATION:PT1H
X-Robots-Tag:noindex
X-PUBLISHED-TTL:PT1H
BEGIN:VTIMEZONE
TZID:UTC
BEGIN:STANDARD
TZOFFSETFROM:+0000
TZOFFSETTO:+0000
TZNAME:UTC
DTSTART:20240101T000000
END:STANDARD
END:VTIMEZONE
BEGIN:VEVENT
DTSTART;VALUE=DATE:20251101
DTEND;VALUE=DATE:20251102
DTSTAMP:20260425T171317
CREATED:20251103T065350Z
LAST-MODIFIED:20251103T065350Z
UID:1235642-1761955200-1762041599@ost.al
SUMMARY:Kapaciteti_01 11 25
DESCRIPTION:Kapaciteti_01 11 25
URL:https://ost.al/event/kapaciteti_01-11-25/
CATEGORIES:Kapaciteti i Lire i Disponueshem në Kufi
END:VEVENT
BEGIN:VEVENT
DTSTART;VALUE=DATE:20251102
DTEND;VALUE=DATE:20251103
DTSTAMP:20260425T171317
CREATED:20251103T065318Z
LAST-MODIFIED:20251103T065318Z
UID:1235641-1762041600-1762127999@ost.al
SUMMARY:Kapaciteti_02 11 25
DESCRIPTION:Kapaciteti_02 11 25
URL:https://ost.al/event/kapaciteti_02-11-25/
CATEGORIES:Kapaciteti i Lire i Disponueshem në Kufi
END:VEVENT
BEGIN:VEVENT
DTSTART;VALUE=DATE:20251103
DTEND;VALUE=DATE:20251104
DTSTAMP:20260425T171317
CREATED:20251102T163823Z
LAST-MODIFIED:20251102T163823Z
UID:1235631-1762128000-1762214399@ost.al
SUMMARY:Kapaciteti_03 11 25
DESCRIPTION:Kapaciteti_03 11 25
URL:https://ost.al/event/kapaciteti_03-11-25/
CATEGORIES:Kapaciteti i Lire i Disponueshem në Kufi
END:VEVENT
BEGIN:VEVENT
DTSTART;VALUE=DATE:20251104
DTEND;VALUE=DATE:20251105
DTSTAMP:20260425T171317
CREATED:20251103T142442Z
LAST-MODIFIED:20251103T142442Z
UID:1235830-1762214400-1762300799@ost.al
SUMMARY:Kapaciteti_04 11 25
DESCRIPTION:Kapaciteti_04 11 25
URL:https://ost.al/event/kapaciteti_04-11-25/
CATEGORIES:Kapaciteti i Lire i Disponueshem në Kufi
END:VEVENT
BEGIN:VEVENT
DTSTART;VALUE=DATE:20251105
DTEND;VALUE=DATE:20251106
DTSTAMP:20260425T171317
CREATED:20251104T140947Z
LAST-MODIFIED:20251104T140947Z
UID:1236018-1762300800-1762387199@ost.al
SUMMARY:Kapaciteti_05 11 25
DESCRIPTION:Kapaciteti_05 11 25
URL:https://ost.al/event/kapaciteti_05-11-25/
CATEGORIES:Kapaciteti i Lire i Disponueshem në Kufi
END:VEVENT
BEGIN:VEVENT
DTSTART;VALUE=DATE:20251106
DTEND;VALUE=DATE:20251107
DTSTAMP:20260425T171317
CREATED:20251105T141009Z
LAST-MODIFIED:20251105T141009Z
UID:1236090-1762387200-1762473599@ost.al
SUMMARY:Kapaciteti_06 11 25
DESCRIPTION:Kapaciteti_06 11 25
URL:https://ost.al/event/kapaciteti_06-11-25/
CATEGORIES:Kapaciteti i Lire i Disponueshem në Kufi
END:VEVENT
BEGIN:VEVENT
DTSTART;VALUE=DATE:20251107
DTEND;VALUE=DATE:20251108
DTSTAMP:20260425T171317
CREATED:20251106T141312Z
LAST-MODIFIED:20251106T141312Z
UID:1236159-1762473600-1762559999@ost.al
SUMMARY:Kapaciteti_07 11 25
DESCRIPTION:Kapaciteti_07 11 25
URL:https://ost.al/event/kapaciteti_07-11-25/
CATEGORIES:Kapaciteti i Lire i Disponueshem në Kufi
END:VEVENT
BEGIN:VEVENT
DTSTART;VALUE=DATE:20251108
DTEND;VALUE=DATE:20251109
DTSTAMP:20260425T171317
CREATED:20251107T141124Z
LAST-MODIFIED:20251107T141124Z
UID:1236206-1762560000-1762646399@ost.al
SUMMARY:Kapaciteti_08 11 25
DESCRIPTION:Kapaciteti_08 11 25
URL:https://ost.al/event/kapaciteti_08-11-25/
CATEGORIES:Kapaciteti i Lire i Disponueshem në Kufi
END:VEVENT
BEGIN:VEVENT
DTSTART;VALUE=DATE:20251109
DTEND;VALUE=DATE:20251110
DTSTAMP:20260425T171317
CREATED:20251108T174320Z
LAST-MODIFIED:20251108T174320Z
UID:1236215-1762646400-1762732799@ost.al
SUMMARY:Kapaciteti_09 11 25
DESCRIPTION:Kapaciteti_09 11 25
URL:https://ost.al/event/kapaciteti_09-11-25/
CATEGORIES:Kapaciteti i Lire i Disponueshem në Kufi
END:VEVENT
BEGIN:VEVENT
DTSTART;VALUE=DATE:20251110
DTEND;VALUE=DATE:20251111
DTSTAMP:20260425T171317
CREATED:20251109T145236Z
LAST-MODIFIED:20251109T145236Z
UID:1236243-1762732800-1762819199@ost.al
SUMMARY:Kapaciteti_10 11 25
DESCRIPTION:Kapaciteti_10 11 25
URL:https://ost.al/event/kapaciteti_10-11-25/
CATEGORIES:Kapaciteti i Lire i Disponueshem në Kufi
END:VEVENT
BEGIN:VEVENT
DTSTART;VALUE=DATE:20251111
DTEND;VALUE=DATE:20251112
DTSTAMP:20260425T171317
CREATED:20251110T141226Z
LAST-MODIFIED:20251110T141226Z
UID:1236453-1762819200-1762905599@ost.al
SUMMARY:Kapaciteti_11 11 25
DESCRIPTION:Kapaciteti_11 11 25
URL:https://ost.al/event/kapaciteti_11-11-25/
CATEGORIES:Kapaciteti i Lire i Disponueshem në Kufi
END:VEVENT
BEGIN:VEVENT
DTSTART;VALUE=DATE:20251112
DTEND;VALUE=DATE:20251113
DTSTAMP:20260425T171317
CREATED:20251111T140114Z
LAST-MODIFIED:20251111T140114Z
UID:1236598-1762905600-1762991999@ost.al
SUMMARY:Kapaciteti_12 11 25
DESCRIPTION:Kapaciteti_12 11 25
URL:https://ost.al/event/kapaciteti_12-11-25/
CATEGORIES:Kapaciteti i Lire i Disponueshem në Kufi
END:VEVENT
BEGIN:VEVENT
DTSTART;VALUE=DATE:20251113
DTEND;VALUE=DATE:20251114
DTSTAMP:20260425T171317
CREATED:20251112T141121Z
LAST-MODIFIED:20251112T141121Z
UID:1236685-1762992000-1763078399@ost.al
SUMMARY:Kapaciteti_13 11 25
DESCRIPTION:Kapaciteti_13 11 25
URL:https://ost.al/event/kapaciteti_13-11-25/
CATEGORIES:Kapaciteti i Lire i Disponueshem në Kufi
END:VEVENT
BEGIN:VEVENT
DTSTART;VALUE=DATE:20251114
DTEND;VALUE=DATE:20251115
DTSTAMP:20260425T171317
CREATED:20251113T134246Z
LAST-MODIFIED:20251113T134246Z
UID:1236743-1763078400-1763164799@ost.al
SUMMARY:Kapaciteti_14 11 25
DESCRIPTION:Kapaciteti_14 11 25
URL:https://ost.al/event/kapaciteti_14-11-25/
CATEGORIES:Kapaciteti i Lire i Disponueshem në Kufi
END:VEVENT
BEGIN:VEVENT
DTSTART;VALUE=DATE:20251115
DTEND;VALUE=DATE:20251116
DTSTAMP:20260425T171317
CREATED:20251114T140357Z
LAST-MODIFIED:20251114T140357Z
UID:1236928-1763164800-1763251199@ost.al
SUMMARY:Kapaciteti_15 11 25
DESCRIPTION:Kapaciteti_15 11 25
URL:https://ost.al/event/kapaciteti_15-11-25/
CATEGORIES:Kapaciteti i Lire i Disponueshem në Kufi
END:VEVENT
BEGIN:VEVENT
DTSTART;VALUE=DATE:20251116
DTEND;VALUE=DATE:20251117
DTSTAMP:20260425T171317
CREATED:20251115T155731Z
LAST-MODIFIED:20251115T155731Z
UID:1236959-1763251200-1763337599@ost.al
SUMMARY:Kapaciteti_16 11 25
DESCRIPTION:Kapaciteti_16 11 25
URL:https://ost.al/event/kapaciteti_16-11-25/
CATEGORIES:Kapaciteti i Lire i Disponueshem në Kufi
END:VEVENT
BEGIN:VEVENT
DTSTART;VALUE=DATE:20251117
DTEND;VALUE=DATE:20251118
DTSTAMP:20260425T171317
CREATED:20251116T145038Z
LAST-MODIFIED:20251116T145038Z
UID:1236982-1763337600-1763423999@ost.al
SUMMARY:Kapaciteti_17 11 25
DESCRIPTION:Kapaciteti_17 11 25
URL:https://ost.al/event/kapaciteti_17-11-25/
CATEGORIES:Kapaciteti i Lire i Disponueshem në Kufi
END:VEVENT
BEGIN:VEVENT
DTSTART;VALUE=DATE:20251118
DTEND;VALUE=DATE:20251119
DTSTAMP:20260425T171317
CREATED:20251117T135332Z
LAST-MODIFIED:20251117T135332Z
UID:1237056-1763424000-1763510399@ost.al
SUMMARY:Kapaciteti_18 11 25
DESCRIPTION:Kapaciteti_18 11 25
URL:https://ost.al/event/kapaciteti_18-11-25/
CATEGORIES:Kapaciteti i Lire i Disponueshem në Kufi
END:VEVENT
BEGIN:VEVENT
DTSTART;VALUE=DATE:20251119
DTEND;VALUE=DATE:20251120
DTSTAMP:20260425T171317
CREATED:20251118T140455Z
LAST-MODIFIED:20251118T140455Z
UID:1237156-1763510400-1763596799@ost.al
SUMMARY:Kapaciteti_19 11 25
DESCRIPTION:Kapaciteti_19 11 25
URL:https://ost.al/event/kapaciteti_19-11-25/
CATEGORIES:Kapaciteti i Lire i Disponueshem në Kufi
END:VEVENT
BEGIN:VEVENT
DTSTART;VALUE=DATE:20251120
DTEND;VALUE=DATE:20251121
DTSTAMP:20260425T171317
CREATED:20251119T133322Z
LAST-MODIFIED:20251119T133322Z
UID:1237278-1763596800-1763683199@ost.al
SUMMARY:Kapaciteti_20 11 25
DESCRIPTION:Kapaciteti_20 11 25
URL:https://ost.al/event/kapaciteti_20-11-25/
CATEGORIES:Kapaciteti i Lire i Disponueshem në Kufi
END:VEVENT
BEGIN:VEVENT
DTSTART;VALUE=DATE:20251121
DTEND;VALUE=DATE:20251122
DTSTAMP:20260425T171317
CREATED:20251120T135523Z
LAST-MODIFIED:20251120T135523Z
UID:1237357-1763683200-1763769599@ost.al
SUMMARY:Kapaciteti_21 11 25
DESCRIPTION:Kapaciteti_21 11 25
URL:https://ost.al/event/kapaciteti_21-11-25/
CATEGORIES:Kapaciteti i Lire i Disponueshem në Kufi
END:VEVENT
BEGIN:VEVENT
DTSTART;VALUE=DATE:20251122
DTEND;VALUE=DATE:20251123
DTSTAMP:20260425T171317
CREATED:20251121T133908Z
LAST-MODIFIED:20251121T133908Z
UID:1237473-1763769600-1763855999@ost.al
SUMMARY:Kapaciteti_22 11 25
DESCRIPTION:Kapaciteti_22 11 25
URL:https://ost.al/event/kapaciteti_22-11-25/
CATEGORIES:Kapaciteti i Lire i Disponueshem në Kufi
END:VEVENT
BEGIN:VEVENT
DTSTART;VALUE=DATE:20251123
DTEND;VALUE=DATE:20251124
DTSTAMP:20260425T171317
CREATED:20251122T195527Z
LAST-MODIFIED:20251122T195527Z
UID:1237519-1763856000-1763942399@ost.al
SUMMARY:Kapaciteti_23 11 25
DESCRIPTION:Kapaciteti_23 11 25
URL:https://ost.al/event/kapaciteti_23-11-25/
CATEGORIES:Kapaciteti i Lire i Disponueshem në Kufi
END:VEVENT
BEGIN:VEVENT
DTSTART;VALUE=DATE:20251124
DTEND;VALUE=DATE:20251125
DTSTAMP:20260425T171317
CREATED:20251124T092919Z
LAST-MODIFIED:20251124T092919Z
UID:1237530-1763942400-1764028799@ost.al
SUMMARY:Kapaciteti_24 11 25
DESCRIPTION:Kapaciteti_24 11 25
URL:https://ost.al/event/kapaciteti_24-11-25/
CATEGORIES:Kapaciteti i Lire i Disponueshem në Kufi
END:VEVENT
BEGIN:VEVENT
DTSTART;VALUE=DATE:20251125
DTEND;VALUE=DATE:20251126
DTSTAMP:20260425T171317
CREATED:20251125T071955Z
LAST-MODIFIED:20251125T071955Z
UID:1237570-1764028800-1764115199@ost.al
SUMMARY:Kapaciteti_25 11 25
DESCRIPTION:Kapaciteti_25 11 25
URL:https://ost.al/event/kapaciteti_25-11-25/
CATEGORIES:Kapaciteti i Lire i Disponueshem në Kufi
END:VEVENT
BEGIN:VEVENT
DTSTART;VALUE=DATE:20251126
DTEND;VALUE=DATE:20251127
DTSTAMP:20260425T171317
CREATED:20251125T140310Z
LAST-MODIFIED:20251125T140310Z
UID:1237684-1764115200-1764201599@ost.al
SUMMARY:Kapaciteti_26 11 25
DESCRIPTION:Kapaciteti_26 11 25
URL:https://ost.al/event/kapaciteti_26-11-25/
CATEGORIES:Kapaciteti i Lire i Disponueshem në Kufi
END:VEVENT
BEGIN:VEVENT
DTSTART;VALUE=DATE:20251127
DTEND;VALUE=DATE:20251128
DTSTAMP:20260425T171317
CREATED:20251126T142527Z
LAST-MODIFIED:20251126T142527Z
UID:1237820-1764201600-1764287999@ost.al
SUMMARY:Kapaciteti_27 11 25
DESCRIPTION:Kapaciteti_27 11 25
URL:https://ost.al/event/kapaciteti_27-11-25/
CATEGORIES:Kapaciteti i Lire i Disponueshem në Kufi
END:VEVENT
BEGIN:VEVENT
DTSTART;VALUE=DATE:20251128
DTEND;VALUE=DATE:20251129
DTSTAMP:20260425T171317
CREATED:20251127T134018Z
LAST-MODIFIED:20251127T134018Z
UID:1237915-1764288000-1764374399@ost.al
SUMMARY:Kapaciteti_28 11 25
DESCRIPTION:Kapaciteti_28 11 25
URL:https://ost.al/event/kapaciteti_28-11-25/
CATEGORIES:Kapaciteti i Lire i Disponueshem në Kufi
END:VEVENT
BEGIN:VEVENT
DTSTART;VALUE=DATE:20251129
DTEND;VALUE=DATE:20251130
DTSTAMP:20260425T171317
CREATED:20251128T150655Z
LAST-MODIFIED:20251128T150655Z
UID:1237962-1764374400-1764460799@ost.al
SUMMARY:Kapaciteti_29 11 25
DESCRIPTION:Kapaciteti_29 11 25
URL:https://ost.al/event/kapaciteti_29-11-25/
CATEGORIES:Kapaciteti i Lire i Disponueshem në Kufi
END:VEVENT
BEGIN:VEVENT
DTSTART;VALUE=DATE:20251130
DTEND;VALUE=DATE:20251201
DTSTAMP:20260425T171317
CREATED:20251129T135746Z
LAST-MODIFIED:20251129T135746Z
UID:1237992-1764460800-1764547199@ost.al
SUMMARY:Kapaciteti_30 11 25
DESCRIPTION:Kapaciteti_30 11 25
URL:https://ost.al/event/kapaciteti_30-11-25/
CATEGORIES:Kapaciteti i Lire i Disponueshem në Kufi
END:VEVENT
END:VCALENDAR