BEGIN:VCALENDAR
VERSION:2.0
PRODID:-//Operatori i Sistemit Te Transmetimit - ECPv6.15.18//NONSGML v1.0//EN
CALSCALE:GREGORIAN
METHOD:PUBLISH
X-WR-CALNAME:Operatori i Sistemit Te Transmetimit
X-ORIGINAL-URL:https://ost.al
X-WR-CALDESC:Events for Operatori i Sistemit Te Transmetimit
REFRESH-INTERVAL;VALUE=DURATION:PT1H
X-Robots-Tag:noindex
X-PUBLISHED-TTL:PT1H
BEGIN:VTIMEZONE
TZID:UTC
BEGIN:STANDARD
TZOFFSETFROM:+0000
TZOFFSETTO:+0000
TZNAME:UTC
DTSTART:20220101T000000
END:STANDARD
END:VTIMEZONE
BEGIN:VEVENT
DTSTART;VALUE=DATE:20230705
DTEND;VALUE=DATE:20230706
DTSTAMP:20260419T200643
CREATED:20230718T075845Z
LAST-MODIFIED:20230718T075845Z
UID:1179141-1688515200-1688601599@ost.al
SUMMARY:Kapaciteti 05 07 2023
DESCRIPTION:Kapaciteti_05 07 23
URL:https://ost.al/event/kapaciteti-05-07-2023/
CATEGORIES:Kapaciteti i Lire i Disponueshem në Kufi
END:VEVENT
END:VCALENDAR