BEGIN:VCALENDAR
VERSION:2.0
PRODID:-//Operatori i Sistemit Te Transmetimit - ECPv6.15.18//NONSGML v1.0//EN
CALSCALE:GREGORIAN
METHOD:PUBLISH
X-ORIGINAL-URL:https://ost.al
X-WR-CALDESC:Events for Operatori i Sistemit Te Transmetimit
REFRESH-INTERVAL;VALUE=DURATION:PT1H
X-Robots-Tag:noindex
X-PUBLISHED-TTL:PT1H
BEGIN:VTIMEZONE
TZID:UTC
BEGIN:STANDARD
TZOFFSETFROM:+0000
TZOFFSETTO:+0000
TZNAME:UTC
DTSTART:20240101T000000
END:STANDARD
END:VTIMEZONE
BEGIN:VEVENT
DTSTART;VALUE=DATE:20251231
DTEND;VALUE=DATE:20260101
DTSTAMP:20260419T200843
CREATED:20251230T141342Z
LAST-MODIFIED:20251230T141342Z
UID:1239954-1767139200-1767225599@ost.al
SUMMARY:Kapaciteti_31 12 25
DESCRIPTION:Kapaciteti_31 12 25
URL:https://ost.al/event/kapaciteti_31-12-25/
CATEGORIES:Kapaciteti i Lire i Disponueshem në Kufi
END:VEVENT
END:VCALENDAR