BEGIN:VCALENDAR
VERSION:2.0
PRODID:-//Operatori i Sistemit Te Transmetimit - ECPv6.15.18//NONSGML v1.0//EN
CALSCALE:GREGORIAN
METHOD:PUBLISH
X-WR-CALNAME:Operatori i Sistemit Te Transmetimit
X-ORIGINAL-URL:https://ost.al
X-WR-CALDESC:Events for Operatori i Sistemit Te Transmetimit
REFRESH-INTERVAL;VALUE=DURATION:PT1H
X-Robots-Tag:noindex
X-PUBLISHED-TTL:PT1H
BEGIN:VTIMEZONE
TZID:UTC
BEGIN:STANDARD
TZOFFSETFROM:+0000
TZOFFSETTO:+0000
TZNAME:UTC
DTSTART:20250101T000000
END:STANDARD
END:VTIMEZONE
BEGIN:VEVENT
DTSTART;VALUE=DATE:20260125
DTEND;VALUE=DATE:20260126
DTSTAMP:20260419T145318
CREATED:20260124T154834Z
LAST-MODIFIED:20260124T154834Z
UID:1241625-1769299200-1769385599@ost.al
SUMMARY:Kapaciteti_25 01 26
DESCRIPTION:Kapaciteti_25 01 26
URL:https://ost.al/event/kapaciteti_25-01-26/
CATEGORIES:Kapaciteti i Lire i Disponueshem në Kufi
END:VEVENT
END:VCALENDAR