BEGIN:VCALENDAR
VERSION:2.0
PRODID:-//Operatori i Sistemit Te Transmetimit - ECPv6.15.18//NONSGML v1.0//EN
CALSCALE:GREGORIAN
METHOD:PUBLISH
X-ORIGINAL-URL:https://ost.al
X-WR-CALDESC:Events for Operatori i Sistemit Te Transmetimit
REFRESH-INTERVAL;VALUE=DURATION:PT1H
X-Robots-Tag:noindex
X-PUBLISHED-TTL:PT1H
BEGIN:VTIMEZONE
TZID:UTC
BEGIN:STANDARD
TZOFFSETFROM:+0000
TZOFFSETTO:+0000
TZNAME:UTC
DTSTART:20250101T000000
END:STANDARD
END:VTIMEZONE
BEGIN:VEVENT
DTSTART;VALUE=DATE:20260208
DTEND;VALUE=DATE:20260209
DTSTAMP:20260419T163736
CREATED:20260207T181109Z
LAST-MODIFIED:20260207T181334Z
UID:1242719-1770508800-1770595199@ost.al
SUMMARY:Kapaciteti_08 02. 26
DESCRIPTION:Kapaciteti_08 02. 26
URL:https://ost.al/event/kapaciteti_08-02-26/
CATEGORIES:Kapaciteti i Lire i Disponueshem në Kufi
END:VEVENT
END:VCALENDAR