BEGIN:VCALENDAR
VERSION:2.0
PRODID:-//Operatori i Sistemit Te Transmetimit - ECPv6.15.18//NONSGML v1.0//EN
CALSCALE:GREGORIAN
METHOD:PUBLISH
X-ORIGINAL-URL:https://ost.al
X-WR-CALDESC:Events for Operatori i Sistemit Te Transmetimit
REFRESH-INTERVAL;VALUE=DURATION:PT1H
X-Robots-Tag:noindex
X-PUBLISHED-TTL:PT1H
BEGIN:VTIMEZONE
TZID:UTC
BEGIN:STANDARD
TZOFFSETFROM:+0000
TZOFFSETTO:+0000
TZNAME:UTC
DTSTART:20240101T000000
END:STANDARD
END:VTIMEZONE
BEGIN:VEVENT
DTSTART;VALUE=DATE:20250101
DTEND;VALUE=DATE:20250102
DTSTAMP:20260424T134600
CREATED:20250422T113636Z
LAST-MODIFIED:20250422T113636Z
UID:1218812-1735689600-1735775999@ost.al
SUMMARY:01.01.25
DESCRIPTION:01.01.25
URL:https://ost.al/event/01-01-25/
CATEGORIES:Kapaciteti Total i Nominuar
END:VEVENT
BEGIN:VEVENT
DTSTART;VALUE=DATE:20250102
DTEND;VALUE=DATE:20250103
DTSTAMP:20260424T134600
CREATED:20250422T113657Z
LAST-MODIFIED:20250422T113657Z
UID:1218816-1735776000-1735862399@ost.al
SUMMARY:02.01.25
DESCRIPTION:02.01.25
URL:https://ost.al/event/02-01-25/
CATEGORIES:Kapaciteti Total i Nominuar
END:VEVENT
BEGIN:VEVENT
DTSTART;VALUE=DATE:20250103
DTEND;VALUE=DATE:20250104
DTSTAMP:20260424T134600
CREATED:20250422T113716Z
LAST-MODIFIED:20250422T113716Z
UID:1218817-1735862400-1735948799@ost.al
SUMMARY:03.01.25
DESCRIPTION:03.01.25
URL:https://ost.al/event/03-01-25/
CATEGORIES:Kapaciteti Total i Nominuar
END:VEVENT
BEGIN:VEVENT
DTSTART;VALUE=DATE:20250104
DTEND;VALUE=DATE:20250105
DTSTAMP:20260424T134600
CREATED:20250422T113737Z
LAST-MODIFIED:20250422T113737Z
UID:1218820-1735948800-1736035199@ost.al
SUMMARY:04.01.25
DESCRIPTION:04.01.25
URL:https://ost.al/event/04-01-25/
CATEGORIES:Kapaciteti Total i Nominuar
END:VEVENT
BEGIN:VEVENT
DTSTART;VALUE=DATE:20250105
DTEND;VALUE=DATE:20250106
DTSTAMP:20260424T134600
CREATED:20250422T113803Z
LAST-MODIFIED:20250422T113803Z
UID:1218821-1736035200-1736121599@ost.al
SUMMARY:05.01.25
DESCRIPTION:05.01.25
URL:https://ost.al/event/05-01-25/
CATEGORIES:Kapaciteti Total i Nominuar
END:VEVENT
BEGIN:VEVENT
DTSTART;VALUE=DATE:20250106
DTEND;VALUE=DATE:20250107
DTSTAMP:20260424T134600
CREATED:20250422T113848Z
LAST-MODIFIED:20250422T113848Z
UID:1218835-1736121600-1736207999@ost.al
SUMMARY:06.01.25
DESCRIPTION:06.01.25
URL:https://ost.al/event/06-01-25/
CATEGORIES:Kapaciteti Total i Nominuar
END:VEVENT
BEGIN:VEVENT
DTSTART;VALUE=DATE:20250107
DTEND;VALUE=DATE:20250108
DTSTAMP:20260424T134600
CREATED:20250422T113909Z
LAST-MODIFIED:20250422T113909Z
UID:1218836-1736208000-1736294399@ost.al
SUMMARY:07.01.25
DESCRIPTION:07.01.25
URL:https://ost.al/event/07-01-25/
CATEGORIES:Kapaciteti Total i Nominuar
END:VEVENT
BEGIN:VEVENT
DTSTART;VALUE=DATE:20250108
DTEND;VALUE=DATE:20250109
DTSTAMP:20260424T134601
CREATED:20250422T113943Z
LAST-MODIFIED:20250422T113943Z
UID:1218838-1736294400-1736380799@ost.al
SUMMARY:08.01.25
DESCRIPTION:08.01.25
URL:https://ost.al/event/08-01-25/
CATEGORIES:Kapaciteti Total i Nominuar
END:VEVENT
BEGIN:VEVENT
DTSTART;VALUE=DATE:20250109
DTEND;VALUE=DATE:20250110
DTSTAMP:20260424T134601
CREATED:20250422T114014Z
LAST-MODIFIED:20250422T114014Z
UID:1218840-1736380800-1736467199@ost.al
SUMMARY:09.01.25
DESCRIPTION:09.01.25
URL:https://ost.al/event/09-01-25/
CATEGORIES:Kapaciteti Total i Nominuar
END:VEVENT
BEGIN:VEVENT
DTSTART;VALUE=DATE:20250110
DTEND;VALUE=DATE:20250111
DTSTAMP:20260424T134601
CREATED:20250422T114036Z
LAST-MODIFIED:20250422T114036Z
UID:1218841-1736467200-1736553599@ost.al
SUMMARY:10.01.25
DESCRIPTION:10.01.25
URL:https://ost.al/event/10-01-25/
CATEGORIES:Kapaciteti Total i Nominuar
END:VEVENT
BEGIN:VEVENT
DTSTART;VALUE=DATE:20250111
DTEND;VALUE=DATE:20250112
DTSTAMP:20260424T134601
CREATED:20250422T114542Z
LAST-MODIFIED:20250422T114542Z
UID:1218855-1736553600-1736639999@ost.al
SUMMARY:11.01.25
DESCRIPTION:11.01.25
URL:https://ost.al/event/11-01-25/
CATEGORIES:Kapaciteti Total i Nominuar
END:VEVENT
BEGIN:VEVENT
DTSTART;VALUE=DATE:20250112
DTEND;VALUE=DATE:20250113
DTSTAMP:20260424T134601
CREATED:20250422T114607Z
LAST-MODIFIED:20250422T114607Z
UID:1218856-1736640000-1736726399@ost.al
SUMMARY:12.01.25
DESCRIPTION:12.01.25
URL:https://ost.al/event/12-01-25/
CATEGORIES:Kapaciteti Total i Nominuar
END:VEVENT
BEGIN:VEVENT
DTSTART;VALUE=DATE:20250113
DTEND;VALUE=DATE:20250114
DTSTAMP:20260424T134601
CREATED:20250422T114634Z
LAST-MODIFIED:20250422T114634Z
UID:1218857-1736726400-1736812799@ost.al
SUMMARY:13.01.25
DESCRIPTION:13.01.25
URL:https://ost.al/event/13-01-25/
CATEGORIES:Kapaciteti Total i Nominuar
END:VEVENT
BEGIN:VEVENT
DTSTART;VALUE=DATE:20250114
DTEND;VALUE=DATE:20250115
DTSTAMP:20260424T134601
CREATED:20250422T114657Z
LAST-MODIFIED:20250422T114657Z
UID:1218858-1736812800-1736899199@ost.al
SUMMARY:14.01.25
DESCRIPTION:14.01.25
URL:https://ost.al/event/14-01-25/
CATEGORIES:Kapaciteti Total i Nominuar
END:VEVENT
BEGIN:VEVENT
DTSTART;VALUE=DATE:20250115
DTEND;VALUE=DATE:20250116
DTSTAMP:20260424T134601
CREATED:20250422T114714Z
LAST-MODIFIED:20250422T114714Z
UID:1218861-1736899200-1736985599@ost.al
SUMMARY:15.01.25
DESCRIPTION:15.01.25
URL:https://ost.al/event/15-01-25/
CATEGORIES:Kapaciteti Total i Nominuar
END:VEVENT
BEGIN:VEVENT
DTSTART;VALUE=DATE:20250116
DTEND;VALUE=DATE:20250117
DTSTAMP:20260424T134601
CREATED:20250422T114900Z
LAST-MODIFIED:20250422T114900Z
UID:1218875-1736985600-1737071999@ost.al
SUMMARY:16.01.25
DESCRIPTION:16.01.25
URL:https://ost.al/event/16-01-25/
CATEGORIES:Kapaciteti Total i Nominuar
END:VEVENT
BEGIN:VEVENT
DTSTART;VALUE=DATE:20250117
DTEND;VALUE=DATE:20250118
DTSTAMP:20260424T134601
CREATED:20250422T114919Z
LAST-MODIFIED:20250422T114919Z
UID:1218876-1737072000-1737158399@ost.al
SUMMARY:17.01.25
DESCRIPTION:17.01.25
URL:https://ost.al/event/17-01-25/
CATEGORIES:Kapaciteti Total i Nominuar
END:VEVENT
BEGIN:VEVENT
DTSTART;VALUE=DATE:20250118
DTEND;VALUE=DATE:20250119
DTSTAMP:20260424T134601
CREATED:20250422T114940Z
LAST-MODIFIED:20250422T114940Z
UID:1218879-1737158400-1737244799@ost.al
SUMMARY:18.01.25
DESCRIPTION:18.01.25
URL:https://ost.al/event/18-01-25/
CATEGORIES:Kapaciteti Total i Nominuar
END:VEVENT
BEGIN:VEVENT
DTSTART;VALUE=DATE:20250119
DTEND;VALUE=DATE:20250120
DTSTAMP:20260424T134601
CREATED:20250422T114958Z
LAST-MODIFIED:20250422T114958Z
UID:1218882-1737244800-1737331199@ost.al
SUMMARY:19.01.25
DESCRIPTION:19.01.25
URL:https://ost.al/event/19-01-25/
CATEGORIES:Kapaciteti Total i Nominuar
END:VEVENT
BEGIN:VEVENT
DTSTART;VALUE=DATE:20250120
DTEND;VALUE=DATE:20250121
DTSTAMP:20260424T134601
CREATED:20250422T115021Z
LAST-MODIFIED:20250422T115021Z
UID:1218885-1737331200-1737417599@ost.al
SUMMARY:20.01.25
DESCRIPTION:20.01.25
URL:https://ost.al/event/20-01-25/
CATEGORIES:Kapaciteti Total i Nominuar
END:VEVENT
BEGIN:VEVENT
DTSTART;VALUE=DATE:20250121
DTEND;VALUE=DATE:20250122
DTSTAMP:20260424T134601
CREATED:20250422T115107Z
LAST-MODIFIED:20250422T115107Z
UID:1218894-1737417600-1737503999@ost.al
SUMMARY:21.01.25
DESCRIPTION:21.01.25
URL:https://ost.al/event/21-01-25/
CATEGORIES:Kapaciteti Total i Nominuar
END:VEVENT
BEGIN:VEVENT
DTSTART;VALUE=DATE:20250122
DTEND;VALUE=DATE:20250123
DTSTAMP:20260424T134601
CREATED:20250422T115151Z
LAST-MODIFIED:20250422T115151Z
UID:1218896-1737504000-1737590399@ost.al
SUMMARY:22.01.25
DESCRIPTION:22.01.25
URL:https://ost.al/event/22-01-25/
CATEGORIES:Kapaciteti Total i Nominuar
END:VEVENT
BEGIN:VEVENT
DTSTART;VALUE=DATE:20250123
DTEND;VALUE=DATE:20250124
DTSTAMP:20260424T134601
CREATED:20250422T115216Z
LAST-MODIFIED:20250422T115216Z
UID:1218898-1737590400-1737676799@ost.al
SUMMARY:23.01.25
DESCRIPTION:23.01.25
URL:https://ost.al/event/23-01-25/
CATEGORIES:Kapaciteti Total i Nominuar
END:VEVENT
BEGIN:VEVENT
DTSTART;VALUE=DATE:20250124
DTEND;VALUE=DATE:20250125
DTSTAMP:20260424T134601
CREATED:20250422T115239Z
LAST-MODIFIED:20250422T115239Z
UID:1218900-1737676800-1737763199@ost.al
SUMMARY:24.01.25
DESCRIPTION:24.01.25
URL:https://ost.al/event/24-01-25/
CATEGORIES:Kapaciteti Total i Nominuar
END:VEVENT
BEGIN:VEVENT
DTSTART;VALUE=DATE:20250125
DTEND;VALUE=DATE:20250126
DTSTAMP:20260424T134601
CREATED:20250422T115256Z
LAST-MODIFIED:20250422T115256Z
UID:1218901-1737763200-1737849599@ost.al
SUMMARY:25.01.25
DESCRIPTION:25.01.25
URL:https://ost.al/event/25-01-25/
CATEGORIES:Kapaciteti Total i Nominuar
END:VEVENT
BEGIN:VEVENT
DTSTART;VALUE=DATE:20250126
DTEND;VALUE=DATE:20250127
DTSTAMP:20260424T134601
CREATED:20250422T115352Z
LAST-MODIFIED:20250422T115352Z
UID:1218915-1737849600-1737935999@ost.al
SUMMARY:26.01.25
DESCRIPTION:26.01.25
URL:https://ost.al/event/26-01-25/
CATEGORIES:Kapaciteti Total i Nominuar
END:VEVENT
BEGIN:VEVENT
DTSTART;VALUE=DATE:20250127
DTEND;VALUE=DATE:20250128
DTSTAMP:20260424T134601
CREATED:20250422T115408Z
LAST-MODIFIED:20250422T115408Z
UID:1218916-1737936000-1738022399@ost.al
SUMMARY:27.01.25
DESCRIPTION:27.01.25
URL:https://ost.al/event/27-01-25/
CATEGORIES:Kapaciteti Total i Nominuar
END:VEVENT
BEGIN:VEVENT
DTSTART;VALUE=DATE:20250128
DTEND;VALUE=DATE:20250129
DTSTAMP:20260424T134601
CREATED:20250422T115453Z
LAST-MODIFIED:20250422T115453Z
UID:1218920-1738022400-1738108799@ost.al
SUMMARY:28.01.25
DESCRIPTION:28.01.25
URL:https://ost.al/event/28-01-25/
CATEGORIES:Kapaciteti Total i Nominuar
END:VEVENT
BEGIN:VEVENT
DTSTART;VALUE=DATE:20250129
DTEND;VALUE=DATE:20250130
DTSTAMP:20260424T134601
CREATED:20250422T115424Z
LAST-MODIFIED:20250422T115424Z
UID:1218917-1738108800-1738195199@ost.al
SUMMARY:29.01.25
DESCRIPTION:29.01.25
URL:https://ost.al/event/29-01-25/
CATEGORIES:Kapaciteti Total i Nominuar
END:VEVENT
BEGIN:VEVENT
DTSTART;VALUE=DATE:20250130
DTEND;VALUE=DATE:20250131
DTSTAMP:20260424T134601
CREATED:20250422T115512Z
LAST-MODIFIED:20250422T115512Z
UID:1218923-1738195200-1738281599@ost.al
SUMMARY:30.01.25
DESCRIPTION:30.01.25
URL:https://ost.al/event/30-01-25/
CATEGORIES:Kapaciteti Total i Nominuar
END:VEVENT
END:VCALENDAR