BEGIN:VCALENDAR
VERSION:2.0
PRODID:-//Operatori i Sistemit Te Transmetimit - ECPv6.15.18//NONSGML v1.0//EN
CALSCALE:GREGORIAN
METHOD:PUBLISH
X-ORIGINAL-URL:https://ost.al
X-WR-CALDESC:Events for Operatori i Sistemit Te Transmetimit
REFRESH-INTERVAL;VALUE=DURATION:PT1H
X-Robots-Tag:noindex
X-PUBLISHED-TTL:PT1H
BEGIN:VTIMEZONE
TZID:UTC
BEGIN:STANDARD
TZOFFSETFROM:+0000
TZOFFSETTO:+0000
TZNAME:UTC
DTSTART:20240101T000000
END:STANDARD
END:VTIMEZONE
BEGIN:VEVENT
DTSTART;VALUE=DATE:20250501
DTEND;VALUE=DATE:20250502
DTSTAMP:20260420T060529
CREATED:20250506T120149Z
LAST-MODIFIED:20250506T120149Z
UID:1221623-1746057600-1746143999@ost.al
SUMMARY:01.05.25-1
DESCRIPTION:01.05.25-1
URL:https://ost.al/event/01-05-25-1/
CATEGORIES:Kapaciteti Total i Nominuar
END:VEVENT
BEGIN:VEVENT
DTSTART;VALUE=DATE:20250502
DTEND;VALUE=DATE:20250503
DTSTAMP:20260420T060529
CREATED:20250506T120221Z
LAST-MODIFIED:20250506T120221Z
UID:1221630-1746144000-1746230399@ost.al
SUMMARY:02.05.25-1
DESCRIPTION:02.05.25-1
URL:https://ost.al/event/02-05-25-1/
CATEGORIES:Kapaciteti Total i Nominuar
END:VEVENT
BEGIN:VEVENT
DTSTART;VALUE=DATE:20250503
DTEND;VALUE=DATE:20250504
DTSTAMP:20260420T060529
CREATED:20250506T120254Z
LAST-MODIFIED:20250506T120254Z
UID:1221624-1746230400-1746316799@ost.al
SUMMARY:03.05.25-1
DESCRIPTION:03.05.25-1
URL:https://ost.al/event/03-05-25-1/
CATEGORIES:Kapaciteti Total i Nominuar
END:VEVENT
BEGIN:VEVENT
DTSTART;VALUE=DATE:20250504
DTEND;VALUE=DATE:20250505
DTSTAMP:20260420T060529
CREATED:20250506T120323Z
LAST-MODIFIED:20250506T120323Z
UID:1221625-1746316800-1746403199@ost.al
SUMMARY:04.05.25-1
DESCRIPTION:04.05.25-1
URL:https://ost.al/event/04-05-25-1/
CATEGORIES:Kapaciteti Total i Nominuar
END:VEVENT
BEGIN:VEVENT
DTSTART;VALUE=DATE:20250505
DTEND;VALUE=DATE:20250506
DTSTAMP:20260420T060529
CREATED:20250506T120348Z
LAST-MODIFIED:20250506T120348Z
UID:1221628-1746403200-1746489599@ost.al
SUMMARY:05.05.25-1
DESCRIPTION:05.05.25-1
URL:https://ost.al/event/05-05-25-1/
CATEGORIES:Kapaciteti Total i Nominuar
END:VEVENT
BEGIN:VEVENT
DTSTART;VALUE=DATE:20250506
DTEND;VALUE=DATE:20250507
DTSTAMP:20260420T060529
CREATED:20250509T105344Z
LAST-MODIFIED:20250509T105344Z
UID:1221919-1746489600-1746575999@ost.al
SUMMARY:06.05.25-1
DESCRIPTION:06.05.25-1
URL:https://ost.al/event/06-05-25-1/
CATEGORIES:Kapaciteti Total i Nominuar
END:VEVENT
BEGIN:VEVENT
DTSTART;VALUE=DATE:20250507
DTEND;VALUE=DATE:20250508
DTSTAMP:20260420T060529
CREATED:20250509T105406Z
LAST-MODIFIED:20250509T105406Z
UID:1221920-1746576000-1746662399@ost.al
SUMMARY:07.05.25-1
DESCRIPTION:07.05.25-1
URL:https://ost.al/event/07-05-25-1/
CATEGORIES:Kapaciteti Total i Nominuar
END:VEVENT
BEGIN:VEVENT
DTSTART;VALUE=DATE:20250508
DTEND;VALUE=DATE:20250509
DTSTAMP:20260420T060529
CREATED:20250509T105435Z
LAST-MODIFIED:20250509T105435Z
UID:1221921-1746662400-1746748799@ost.al
SUMMARY:08.05.25-1
DESCRIPTION:08.05.25-1
URL:https://ost.al/event/08-05-25-1/
CATEGORIES:Kapaciteti Total i Nominuar
END:VEVENT
BEGIN:VEVENT
DTSTART;VALUE=DATE:20250509
DTEND;VALUE=DATE:20250510
DTSTAMP:20260420T060529
CREATED:20250509T105504Z
LAST-MODIFIED:20250509T105504Z
UID:1221924-1746748800-1746835199@ost.al
SUMMARY:09.05.25-1
DESCRIPTION:09.05.25-1
URL:https://ost.al/event/09-05-25-1/
CATEGORIES:Kapaciteti Total i Nominuar
END:VEVENT
BEGIN:VEVENT
DTSTART;VALUE=DATE:20250510
DTEND;VALUE=DATE:20250511
DTSTAMP:20260420T060529
CREATED:20250519T112629Z
LAST-MODIFIED:20250519T112629Z
UID:1222536-1746835200-1746921599@ost.al
SUMMARY:10.05.25-1
DESCRIPTION:10.05.25-1
URL:https://ost.al/event/10-05-25-1/
CATEGORIES:Kapaciteti Total i Nominuar
END:VEVENT
BEGIN:VEVENT
DTSTART;VALUE=DATE:20250511
DTEND;VALUE=DATE:20250512
DTSTAMP:20260420T060529
CREATED:20250519T112913Z
LAST-MODIFIED:20250519T112913Z
UID:1222537-1746921600-1747007999@ost.al
SUMMARY:11.05.25-1
DESCRIPTION:11.05.25-1
URL:https://ost.al/event/11-05-25-1/
CATEGORIES:Kapaciteti Total i Nominuar
END:VEVENT
BEGIN:VEVENT
DTSTART;VALUE=DATE:20250512
DTEND;VALUE=DATE:20250513
DTSTAMP:20260420T060529
CREATED:20250519T113003Z
LAST-MODIFIED:20250519T113003Z
UID:1222540-1747008000-1747094399@ost.al
SUMMARY:12.05.25-1
DESCRIPTION:12.05.25-1
URL:https://ost.al/event/12-05-25-1/
CATEGORIES:Kapaciteti Total i Nominuar
END:VEVENT
BEGIN:VEVENT
DTSTART;VALUE=DATE:20250513
DTEND;VALUE=DATE:20250514
DTSTAMP:20260420T060529
CREATED:20250519T113203Z
LAST-MODIFIED:20250519T113203Z
UID:1222541-1747094400-1747180799@ost.al
SUMMARY:13.05.25-1
DESCRIPTION:13.05.25-1
URL:https://ost.al/event/13-05-25-1/
CATEGORIES:Kapaciteti Total i Nominuar
END:VEVENT
BEGIN:VEVENT
DTSTART;VALUE=DATE:20250514
DTEND;VALUE=DATE:20250515
DTSTAMP:20260420T060529
CREATED:20250519T113609Z
LAST-MODIFIED:20250519T113609Z
UID:1222542-1747180800-1747267199@ost.al
SUMMARY:14.05.25-1
DESCRIPTION:14.05.25-1
URL:https://ost.al/event/14-05-25-1/
CATEGORIES:Kapaciteti Total i Nominuar
END:VEVENT
BEGIN:VEVENT
DTSTART;VALUE=DATE:20250515
DTEND;VALUE=DATE:20250516
DTSTAMP:20260420T060529
CREATED:20250519T113636Z
LAST-MODIFIED:20250519T113636Z
UID:1222543-1747267200-1747353599@ost.al
SUMMARY:15.05.25-1
DESCRIPTION:15.05.25-1
URL:https://ost.al/event/15-05-25-1/
CATEGORIES:Kapaciteti Total i Nominuar
END:VEVENT
BEGIN:VEVENT
DTSTART;VALUE=DATE:20250516
DTEND;VALUE=DATE:20250517
DTSTAMP:20260420T060529
CREATED:20250519T114045Z
LAST-MODIFIED:20250519T114045Z
UID:1222545-1747353600-1747439999@ost.al
SUMMARY:16.05.25-1
DESCRIPTION:16.05.25-1
URL:https://ost.al/event/16-05-25-1/
CATEGORIES:Kapaciteti Total i Nominuar
END:VEVENT
BEGIN:VEVENT
DTSTART;VALUE=DATE:20250517
DTEND;VALUE=DATE:20250518
DTSTAMP:20260420T060529
CREATED:20250519T114132Z
LAST-MODIFIED:20250519T114132Z
UID:1222546-1747440000-1747526399@ost.al
SUMMARY:17.05.25-1
DESCRIPTION:17.05.25-1
URL:https://ost.al/event/17-05-25-1/
CATEGORIES:Kapaciteti Total i Nominuar
END:VEVENT
BEGIN:VEVENT
DTSTART;VALUE=DATE:20250518
DTEND;VALUE=DATE:20250519
DTSTAMP:20260420T060529
CREATED:20250519T114245Z
LAST-MODIFIED:20250519T114245Z
UID:1222568-1747526400-1747612799@ost.al
SUMMARY:18.05.25-1
DESCRIPTION:18.05.25-1
URL:https://ost.al/event/18-05-25-1/
CATEGORIES:Kapaciteti Total i Nominuar
END:VEVENT
BEGIN:VEVENT
DTSTART;VALUE=DATE:20250519
DTEND;VALUE=DATE:20250520
DTSTAMP:20260420T060529
CREATED:20250523T124855Z
LAST-MODIFIED:20250523T124855Z
UID:1223019-1747612800-1747699199@ost.al
SUMMARY:19.05.25-1
DESCRIPTION:19.05.25-1
URL:https://ost.al/event/19-05-25-1/
CATEGORIES:Kapaciteti Total i Nominuar
END:VEVENT
BEGIN:VEVENT
DTSTART;VALUE=DATE:20250520
DTEND;VALUE=DATE:20250521
DTSTAMP:20260420T060529
CREATED:20250523T124925Z
LAST-MODIFIED:20250523T124925Z
UID:1223016-1747699200-1747785599@ost.al
SUMMARY:20.05.25-1
DESCRIPTION:20.05.25-1
URL:https://ost.al/event/20-05-25-1/
CATEGORIES:Kapaciteti Total i Nominuar
END:VEVENT
BEGIN:VEVENT
DTSTART;VALUE=DATE:20250521
DTEND;VALUE=DATE:20250522
DTSTAMP:20260420T060529
CREATED:20250523T125029Z
LAST-MODIFIED:20250523T125029Z
UID:1223017-1747785600-1747871999@ost.al
SUMMARY:21.05.25-1
DESCRIPTION:21.05.25-1
URL:https://ost.al/event/21-05-25-1/
CATEGORIES:Kapaciteti Total i Nominuar
END:VEVENT
BEGIN:VEVENT
DTSTART;VALUE=DATE:20250522
DTEND;VALUE=DATE:20250523
DTSTAMP:20260420T060529
CREATED:20250523T125057Z
LAST-MODIFIED:20250523T125057Z
UID:1223018-1747872000-1747958399@ost.al
SUMMARY:22.05.25-1
DESCRIPTION:22.05.25-1
URL:https://ost.al/event/22-05-25-1/
CATEGORIES:Kapaciteti Total i Nominuar
END:VEVENT
BEGIN:VEVENT
DTSTART;VALUE=DATE:20250523
DTEND;VALUE=DATE:20250524
DTSTAMP:20260420T060529
CREATED:20250523T125130Z
LAST-MODIFIED:20250523T125130Z
UID:1223032-1747958400-1748044799@ost.al
SUMMARY:23.05.25-1
DESCRIPTION:23.05.25-1
URL:https://ost.al/event/23-05-25-1/
CATEGORIES:Kapaciteti Total i Nominuar
END:VEVENT
BEGIN:VEVENT
DTSTART;VALUE=DATE:20250524
DTEND;VALUE=DATE:20250525
DTSTAMP:20260420T060529
CREATED:20250526T120023Z
LAST-MODIFIED:20250526T120023Z
UID:1223218-1748044800-1748131199@ost.al
SUMMARY:24.05.25-1
DESCRIPTION:24.05.25-1
URL:https://ost.al/event/24-05-25-1/
CATEGORIES:Kapaciteti Total i Nominuar
END:VEVENT
BEGIN:VEVENT
DTSTART;VALUE=DATE:20250525
DTEND;VALUE=DATE:20250526
DTSTAMP:20260420T060529
CREATED:20250526T120740Z
LAST-MODIFIED:20250526T120740Z
UID:1223219-1748131200-1748217599@ost.al
SUMMARY:25.05.25-1
DESCRIPTION:25.05.25-1
URL:https://ost.al/event/25-05-25-1/
CATEGORIES:Kapaciteti Total i Nominuar
END:VEVENT
BEGIN:VEVENT
DTSTART;VALUE=DATE:20250526
DTEND;VALUE=DATE:20250527
DTSTAMP:20260420T060529
CREATED:20250526T120802Z
LAST-MODIFIED:20250526T120802Z
UID:1223220-1748217600-1748303999@ost.al
SUMMARY:26.05.25-1
DESCRIPTION:26.05.25-1
URL:https://ost.al/event/26-05-25-1/
CATEGORIES:Kapaciteti Total i Nominuar
END:VEVENT
BEGIN:VEVENT
DTSTART;VALUE=DATE:20250527
DTEND;VALUE=DATE:20250528
DTSTAMP:20260420T060529
CREATED:20250602T112305Z
LAST-MODIFIED:20250602T112305Z
UID:1223770-1748304000-1748390399@ost.al
SUMMARY:27.05.25-1
DESCRIPTION:27.05.25-1
URL:https://ost.al/event/27-05-25-1/
CATEGORIES:Kapaciteti Total i Nominuar
END:VEVENT
BEGIN:VEVENT
DTSTART;VALUE=DATE:20250528
DTEND;VALUE=DATE:20250529
DTSTAMP:20260420T060529
CREATED:20250602T112412Z
LAST-MODIFIED:20250602T112412Z
UID:1223774-1748390400-1748476799@ost.al
SUMMARY:28.05.25-1
DESCRIPTION:28.05.25-1
URL:https://ost.al/event/28-05-25-1/
CATEGORIES:Kapaciteti Total i Nominuar
END:VEVENT
BEGIN:VEVENT
DTSTART;VALUE=DATE:20250529
DTEND;VALUE=DATE:20250530
DTSTAMP:20260420T060529
CREATED:20250602T112500Z
LAST-MODIFIED:20250602T112500Z
UID:1223775-1748476800-1748563199@ost.al
SUMMARY:29.05.25-1
DESCRIPTION:29.05.25-1
URL:https://ost.al/event/29-05-25-1/
CATEGORIES:Kapaciteti Total i Nominuar
END:VEVENT
BEGIN:VEVENT
DTSTART;VALUE=DATE:20250530
DTEND;VALUE=DATE:20250531
DTSTAMP:20260420T060529
CREATED:20250602T112534Z
LAST-MODIFIED:20250602T112534Z
UID:1223776-1748563200-1748649599@ost.al
SUMMARY:30.05.25-1
DESCRIPTION:30.05.25-1
URL:https://ost.al/event/30-05-25-1/
CATEGORIES:Kapaciteti Total i Nominuar
END:VEVENT
END:VCALENDAR