BEGIN:VCALENDAR
VERSION:2.0
PRODID:-//Operatori i Sistemit Te Transmetimit - ECPv6.15.18//NONSGML v1.0//EN
CALSCALE:GREGORIAN
METHOD:PUBLISH
X-ORIGINAL-URL:https://ost.al
X-WR-CALDESC:Events for Operatori i Sistemit Te Transmetimit
REFRESH-INTERVAL;VALUE=DURATION:PT1H
X-Robots-Tag:noindex
X-PUBLISHED-TTL:PT1H
BEGIN:VTIMEZONE
TZID:UTC
BEGIN:STANDARD
TZOFFSETFROM:+0000
TZOFFSETTO:+0000
TZNAME:UTC
DTSTART:20240101T000000
END:STANDARD
END:VTIMEZONE
BEGIN:VEVENT
DTSTART;VALUE=DATE:20250601
DTEND;VALUE=DATE:20250602
DTSTAMP:20260420T134147
CREATED:20250602T121203Z
LAST-MODIFIED:20250602T121203Z
UID:1223825-1748736000-1748822399@ost.al
SUMMARY:01.06.25-1
DESCRIPTION:01.06.25-1
URL:https://ost.al/event/01-06-25-1/
CATEGORIES:Kapaciteti Total i Nominuar
END:VEVENT
BEGIN:VEVENT
DTSTART;VALUE=DATE:20250602
DTEND;VALUE=DATE:20250603
DTSTAMP:20260420T134147
CREATED:20250602T121243Z
LAST-MODIFIED:20250602T121243Z
UID:1223826-1748822400-1748908799@ost.al
SUMMARY:02.06.25-1
DESCRIPTION:02.06.25-1
URL:https://ost.al/event/02-06-25-1/
CATEGORIES:Kapaciteti Total i Nominuar
END:VEVENT
BEGIN:VEVENT
DTSTART;VALUE=DATE:20250603
DTEND;VALUE=DATE:20250604
DTSTAMP:20260420T134147
CREATED:20250610T125627Z
LAST-MODIFIED:20250610T125627Z
UID:1224505-1748908800-1748995199@ost.al
SUMMARY:03.06.25-1
DESCRIPTION:03.06.25-1
URL:https://ost.al/event/03-06-25-1/
CATEGORIES:Kapaciteti Total i Nominuar
END:VEVENT
BEGIN:VEVENT
DTSTART;VALUE=DATE:20250604
DTEND;VALUE=DATE:20250605
DTSTAMP:20260420T134147
CREATED:20250610T125640Z
LAST-MODIFIED:20250610T125640Z
UID:1224506-1748995200-1749081599@ost.al
SUMMARY:04.06.25-1
DESCRIPTION:04.06.25-1
URL:https://ost.al/event/04-06-25-1/
CATEGORIES:Kapaciteti Total i Nominuar
END:VEVENT
BEGIN:VEVENT
DTSTART;VALUE=DATE:20250605
DTEND;VALUE=DATE:20250606
DTSTAMP:20260420T134147
CREATED:20250610T125658Z
LAST-MODIFIED:20250610T125658Z
UID:1224509-1749081600-1749167999@ost.al
SUMMARY:05.06.25-1
DESCRIPTION:05.06.25-1
URL:https://ost.al/event/05-06-25-1/
CATEGORIES:Kapaciteti Total i Nominuar
END:VEVENT
BEGIN:VEVENT
DTSTART;VALUE=DATE:20250606
DTEND;VALUE=DATE:20250607
DTSTAMP:20260420T134147
CREATED:20250610T125721Z
LAST-MODIFIED:20250610T125721Z
UID:1224511-1749168000-1749254399@ost.al
SUMMARY:06.06.25-1
DESCRIPTION:06.06.25-1
URL:https://ost.al/event/06-06-25-1/
CATEGORIES:Kapaciteti Total i Nominuar
END:VEVENT
BEGIN:VEVENT
DTSTART;VALUE=DATE:20250607
DTEND;VALUE=DATE:20250608
DTSTAMP:20260420T134147
CREATED:20250610T125734Z
LAST-MODIFIED:20250610T125734Z
UID:1224514-1749254400-1749340799@ost.al
SUMMARY:07.06.25-1
DESCRIPTION:07.06.25-1
URL:https://ost.al/event/07-06-25-1/
CATEGORIES:Kapaciteti Total i Nominuar
END:VEVENT
BEGIN:VEVENT
DTSTART;VALUE=DATE:20250608
DTEND;VALUE=DATE:20250609
DTSTAMP:20260420T134147
CREATED:20250610T125752Z
LAST-MODIFIED:20250610T125752Z
UID:1224517-1749340800-1749427199@ost.al
SUMMARY:08.06.25-1
DESCRIPTION:08.06.25-1
URL:https://ost.al/event/08-06-25-1/
CATEGORIES:Kapaciteti Total i Nominuar
END:VEVENT
BEGIN:VEVENT
DTSTART;VALUE=DATE:20250609
DTEND;VALUE=DATE:20250610
DTSTAMP:20260420T134147
CREATED:20250610T125806Z
LAST-MODIFIED:20250610T125806Z
UID:1224523-1749427200-1749513599@ost.al
SUMMARY:09.06.25-1
DESCRIPTION:09.06.25-1
URL:https://ost.al/event/09-06-25-1/
CATEGORIES:Kapaciteti Total i Nominuar
END:VEVENT
BEGIN:VEVENT
DTSTART;VALUE=DATE:20250610
DTEND;VALUE=DATE:20250611
DTSTAMP:20260420T134147
CREATED:20250610T125820Z
LAST-MODIFIED:20250610T125820Z
UID:1224524-1749513600-1749599999@ost.al
SUMMARY:10.06.25-1
DESCRIPTION:10.06.25-1
URL:https://ost.al/event/10-06-25-1/
CATEGORIES:Kapaciteti Total i Nominuar
END:VEVENT
BEGIN:VEVENT
DTSTART;VALUE=DATE:20250611
DTEND;VALUE=DATE:20250612
DTSTAMP:20260420T134147
CREATED:20250616T111917Z
LAST-MODIFIED:20250616T111917Z
UID:1224898-1749600000-1749686399@ost.al
SUMMARY:11.06.25-1
DESCRIPTION:11.06.25-1
URL:https://ost.al/event/11-06-25-1/
CATEGORIES:Kapaciteti Total i Nominuar
END:VEVENT
BEGIN:VEVENT
DTSTART;VALUE=DATE:20250612
DTEND;VALUE=DATE:20250613
DTSTAMP:20260420T134147
CREATED:20250616T111942Z
LAST-MODIFIED:20250616T111942Z
UID:1224899-1749686400-1749772799@ost.al
SUMMARY:12.06.25-1
DESCRIPTION:12.06.25-1
URL:https://ost.al/event/12-06-25-1/
CATEGORIES:Kapaciteti Total i Nominuar
END:VEVENT
BEGIN:VEVENT
DTSTART;VALUE=DATE:20250613
DTEND;VALUE=DATE:20250614
DTSTAMP:20260420T134147
CREATED:20250616T112044Z
LAST-MODIFIED:20250616T112044Z
UID:1224900-1749772800-1749859199@ost.al
SUMMARY:13.06.25-1
DESCRIPTION:13.06.25-1
URL:https://ost.al/event/13-06-25-1/
CATEGORIES:Kapaciteti Total i Nominuar
END:VEVENT
BEGIN:VEVENT
DTSTART;VALUE=DATE:20250614
DTEND;VALUE=DATE:20250615
DTSTAMP:20260420T134147
CREATED:20250616T112107Z
LAST-MODIFIED:20250616T112107Z
UID:1224903-1749859200-1749945599@ost.al
SUMMARY:14.06.25-1
DESCRIPTION:14.06.25-1
URL:https://ost.al/event/14-06-25-1/
CATEGORIES:Kapaciteti Total i Nominuar
END:VEVENT
BEGIN:VEVENT
DTSTART;VALUE=DATE:20250615
DTEND;VALUE=DATE:20250616
DTSTAMP:20260420T134147
CREATED:20250616T112129Z
LAST-MODIFIED:20250616T112129Z
UID:1224904-1749945600-1750031999@ost.al
SUMMARY:15.06.25-1
DESCRIPTION:15.06.25-1
URL:https://ost.al/event/15-06-25-1/
CATEGORIES:Kapaciteti Total i Nominuar
END:VEVENT
BEGIN:VEVENT
DTSTART;VALUE=DATE:20250616
DTEND;VALUE=DATE:20250617
DTSTAMP:20260420T134147
CREATED:20250616T112147Z
LAST-MODIFIED:20250616T112147Z
UID:1224905-1750032000-1750118399@ost.al
SUMMARY:16.06.25-1
DESCRIPTION:16.06.25-1
URL:https://ost.al/event/16-06-25-1/
CATEGORIES:Kapaciteti Total i Nominuar
END:VEVENT
BEGIN:VEVENT
DTSTART;VALUE=DATE:20250617
DTEND;VALUE=DATE:20250618
DTSTAMP:20260420T134147
CREATED:20250620T105315Z
LAST-MODIFIED:20250620T105315Z
UID:1225428-1750118400-1750204799@ost.al
SUMMARY:17.06.25-1
DESCRIPTION:17.06.25-1
URL:https://ost.al/event/17-06-25-1/
CATEGORIES:Kapaciteti Total i Nominuar
END:VEVENT
BEGIN:VEVENT
DTSTART;VALUE=DATE:20250618
DTEND;VALUE=DATE:20250619
DTSTAMP:20260420T134147
CREATED:20250620T105328Z
LAST-MODIFIED:20250620T105328Z
UID:1225430-1750204800-1750291199@ost.al
SUMMARY:18.06.25-1
DESCRIPTION:18.06.25-1
URL:https://ost.al/event/18-06-25-1/
CATEGORIES:Kapaciteti Total i Nominuar
END:VEVENT
BEGIN:VEVENT
DTSTART;VALUE=DATE:20250619
DTEND;VALUE=DATE:20250620
DTSTAMP:20260420T134147
CREATED:20250620T105348Z
LAST-MODIFIED:20250620T105348Z
UID:1225433-1750291200-1750377599@ost.al
SUMMARY:19.06.25-1
DESCRIPTION:19.06.25-1
URL:https://ost.al/event/19-06-25-1/
CATEGORIES:Kapaciteti Total i Nominuar
END:VEVENT
BEGIN:VEVENT
DTSTART;VALUE=DATE:20250620
DTEND;VALUE=DATE:20250621
DTSTAMP:20260420T134147
CREATED:20250620T105401Z
LAST-MODIFIED:20250620T105401Z
UID:1225435-1750377600-1750463999@ost.al
SUMMARY:20.06.25-1
DESCRIPTION:20.06.25-1
URL:https://ost.al/event/20-06-25-1/
CATEGORIES:Kapaciteti Total i Nominuar
END:VEVENT
BEGIN:VEVENT
DTSTART;VALUE=DATE:20250621
DTEND;VALUE=DATE:20250622
DTSTAMP:20260420T134147
CREATED:20250702T091751Z
LAST-MODIFIED:20250702T091751Z
UID:1226408-1750464000-1750550399@ost.al
SUMMARY:21.06.25-1
DESCRIPTION:21.06.25-1
URL:https://ost.al/event/21-06-25-1/
CATEGORIES:Kapaciteti Total i Nominuar
END:VEVENT
BEGIN:VEVENT
DTSTART;VALUE=DATE:20250622
DTEND;VALUE=DATE:20250623
DTSTAMP:20260420T134147
CREATED:20250702T091825Z
LAST-MODIFIED:20250702T091825Z
UID:1226409-1750550400-1750636799@ost.al
SUMMARY:22.06.25-1
DESCRIPTION:22.06.25-1
URL:https://ost.al/event/22-06-25-1/
CATEGORIES:Kapaciteti Total i Nominuar
END:VEVENT
BEGIN:VEVENT
DTSTART;VALUE=DATE:20250623
DTEND;VALUE=DATE:20250624
DTSTAMP:20260420T134147
CREATED:20250702T091941Z
LAST-MODIFIED:20250702T091941Z
UID:1226410-1750636800-1750723199@ost.al
SUMMARY:23.06.25-1
DESCRIPTION:23.06.25-1
URL:https://ost.al/event/23-06-25-1/
CATEGORIES:Kapaciteti Total i Nominuar
END:VEVENT
BEGIN:VEVENT
DTSTART;VALUE=DATE:20250624
DTEND;VALUE=DATE:20250625
DTSTAMP:20260420T134147
CREATED:20250702T092028Z
LAST-MODIFIED:20250702T092028Z
UID:1226411-1750723200-1750809599@ost.al
SUMMARY:24.06.25-1
DESCRIPTION:24.06.25-1
URL:https://ost.al/event/24-06-25-1/
CATEGORIES:Kapaciteti Total i Nominuar
END:VEVENT
BEGIN:VEVENT
DTSTART;VALUE=DATE:20250625
DTEND;VALUE=DATE:20250626
DTSTAMP:20260420T134147
CREATED:20250702T092156Z
LAST-MODIFIED:20250702T092156Z
UID:1226412-1750809600-1750895999@ost.al
SUMMARY:25.06.25-1
DESCRIPTION:25.06.25-1
URL:https://ost.al/event/25-06-25-1/
CATEGORIES:Kapaciteti Total i Nominuar
END:VEVENT
BEGIN:VEVENT
DTSTART;VALUE=DATE:20250626
DTEND;VALUE=DATE:20250627
DTSTAMP:20260420T134147
CREATED:20250702T092346Z
LAST-MODIFIED:20250702T092346Z
UID:1226428-1750896000-1750982399@ost.al
SUMMARY:26.06.25-1
DESCRIPTION:26.06.25-1
URL:https://ost.al/event/26-06-25-1/
CATEGORIES:Kapaciteti Total i Nominuar
END:VEVENT
BEGIN:VEVENT
DTSTART;VALUE=DATE:20250627
DTEND;VALUE=DATE:20250628
DTSTAMP:20260420T134147
CREATED:20250702T092437Z
LAST-MODIFIED:20250702T092437Z
UID:1226429-1750982400-1751068799@ost.al
SUMMARY:27.06.25-1
DESCRIPTION:27.06.25-1
URL:https://ost.al/event/27-06-25-1/
CATEGORIES:Kapaciteti Total i Nominuar
END:VEVENT
BEGIN:VEVENT
DTSTART;VALUE=DATE:20250628
DTEND;VALUE=DATE:20250629
DTSTAMP:20260420T134147
CREATED:20250702T092510Z
LAST-MODIFIED:20250702T092510Z
UID:1226430-1751068800-1751155199@ost.al
SUMMARY:28.06.25-1
DESCRIPTION:28.06.25-1
URL:https://ost.al/event/28-06-25-1/
CATEGORIES:Kapaciteti Total i Nominuar
END:VEVENT
BEGIN:VEVENT
DTSTART;VALUE=DATE:20250629
DTEND;VALUE=DATE:20250630
DTSTAMP:20260420T134148
CREATED:20250702T092530Z
LAST-MODIFIED:20250702T092530Z
UID:1226431-1751155200-1751241599@ost.al
SUMMARY:29.06.25-1
DESCRIPTION:29.06.25-1
URL:https://ost.al/event/29-06-25-1/
CATEGORIES:Kapaciteti Total i Nominuar
END:VEVENT
BEGIN:VEVENT
DTSTART;VALUE=DATE:20250630
DTEND;VALUE=DATE:20250701
DTSTAMP:20260420T134148
CREATED:20250702T092550Z
LAST-MODIFIED:20250702T092550Z
UID:1226434-1751241600-1751327999@ost.al
SUMMARY:30.06.25-1
DESCRIPTION:30.06.25-1
URL:https://ost.al/event/30-06-25-1/
CATEGORIES:Kapaciteti Total i Nominuar
END:VEVENT
END:VCALENDAR