BEGIN:VCALENDAR
VERSION:2.0
PRODID:-//Operatori i Sistemit Te Transmetimit - ECPv6.15.18//NONSGML v1.0//EN
CALSCALE:GREGORIAN
METHOD:PUBLISH
X-ORIGINAL-URL:https://ost.al
X-WR-CALDESC:Events for Operatori i Sistemit Te Transmetimit
REFRESH-INTERVAL;VALUE=DURATION:PT1H
X-Robots-Tag:noindex
X-PUBLISHED-TTL:PT1H
BEGIN:VTIMEZONE
TZID:UTC
BEGIN:STANDARD
TZOFFSETFROM:+0000
TZOFFSETTO:+0000
TZNAME:UTC
DTSTART:20240101T000000
END:STANDARD
END:VTIMEZONE
BEGIN:VEVENT
DTSTART;VALUE=DATE:20250319
DTEND;VALUE=DATE:20250320
DTSTAMP:20260425T041941
CREATED:20250423T131945Z
LAST-MODIFIED:20250423T131945Z
UID:1219928-1742342400-1742428799@ost.al
SUMMARY:19.03.25
DESCRIPTION:19.03.25
URL:https://ost.al/event/19-03-25/
CATEGORIES:Kapaciteti Total i Nominuar
END:VEVENT
END:VCALENDAR