BEGIN:VCALENDAR
VERSION:2.0
PRODID:-//Operatori i Sistemit Te Transmetimit - ECPv6.15.18//NONSGML v1.0//EN
CALSCALE:GREGORIAN
METHOD:PUBLISH
X-WR-CALNAME:Operatori i Sistemit Te Transmetimit
X-ORIGINAL-URL:https://ost.al
X-WR-CALDESC:Events for Operatori i Sistemit Te Transmetimit
REFRESH-INTERVAL;VALUE=DURATION:PT1H
X-Robots-Tag:noindex
X-PUBLISHED-TTL:PT1H
BEGIN:VTIMEZONE
TZID:UTC
BEGIN:STANDARD
TZOFFSETFROM:+0000
TZOFFSETTO:+0000
TZNAME:UTC
DTSTART:20240101T000000
END:STANDARD
END:VTIMEZONE
BEGIN:VEVENT
DTSTART;VALUE=DATE:20250708
DTEND;VALUE=DATE:20250709
DTSTAMP:20260425T131505
CREATED:20250714T120118Z
LAST-MODIFIED:20250714T120118Z
UID:1227499-1751932800-1752019199@ost.al
SUMMARY:08.07.25-1
DESCRIPTION:08.07.25-1
URL:https://ost.al/event/08-07-25-1/
CATEGORIES:Kapaciteti Total i Nominuar
END:VEVENT
END:VCALENDAR