BEGIN:VCALENDAR
VERSION:2.0
PRODID:-//Operatori i Sistemit Te Transmetimit - ECPv6.15.18//NONSGML v1.0//EN
CALSCALE:GREGORIAN
METHOD:PUBLISH
X-ORIGINAL-URL:https://ost.al
X-WR-CALDESC:Events for Operatori i Sistemit Te Transmetimit
REFRESH-INTERVAL;VALUE=DURATION:PT1H
X-Robots-Tag:noindex
X-PUBLISHED-TTL:PT1H
BEGIN:VTIMEZONE
TZID:UTC
BEGIN:STANDARD
TZOFFSETFROM:+0000
TZOFFSETTO:+0000
TZNAME:UTC
DTSTART:20200101T000000
END:STANDARD
END:VTIMEZONE
BEGIN:VEVENT
DTSTART;VALUE=DATE:20210105
DTEND;VALUE=DATE:20210106
DTSTAMP:20260425T101930
CREATED:20210105T132448Z
LAST-MODIFIED:20210105T132448Z
UID:1142274-1609804800-1609891199@ost.al
SUMMARY:Njoftim Tenderi Kerkesa per Energji Orare 11-17 Janar 2021
DESCRIPTION:kerkesa per energji Orare 11-17 Janar 2021
URL:https://ost.al/event/njoftim-tenderi-kerkesa-per-energji-orare-11-17-janar-2021/
CATEGORIES:Njoftim Tenderi
END:VEVENT
BEGIN:VEVENT
DTSTART;VALUE=DATE:20210113
DTEND;VALUE=DATE:20210114
DTSTAMP:20260425T101930
CREATED:20210113T084350Z
LAST-MODIFIED:20210113T084350Z
UID:1142349-1610496000-1610582399@ost.al
SUMMARY:Njoftim Tenderi për Blerjen e Energjisë Elektrike për Humbjet në Rrjetin e Transmetimit
DESCRIPTION:Të nderuar\, \nNë datë 14/01/2021\, do të zhvillohet  procedura për blerjen e energjisë elektrike për mbulimin e humbjeve në rrjetin e transmetimit për periudhën 18-24 Janar 2021\, profili Orar\, konform Vendimit te ERE nr. 103\, date 23.06.2016. \nBashkelidhur gjeni informacionin mbi sasinë dhe periudhen e livrimit. \nTheksojme se: \n18-24 Janar 2021; profili Orar  \n  \n\nNuk mund të ketë oferta për një periudhë më të vogël se kërkesa. Çdo ofertë e cila nuk është e plotë\, do të skualifikohet.\nKriteri i vlerësimit të ofertës nga OST është cmimi më i ulët për të gjithë sasinë e kërkuar.Pra oferta duhet të ketë çmim të njëjtë për të gjithë periudhën e prokurimit në të kundert oferta do të skualifikohet.\nOST sh.a. në diskrecionin e saj\, rezervon të drejtën për të refuzuar çdo ofertë/ të gjitha ofertat ose për të anulluar procedurën.\n\n  \nPër cdo paqartësi mos hezitoni të na kontaktoni. \nJu faleminderit! \nkerkesa per energji Orare 18-24 Janar 2021 \n  \n  \nAnnouncement for the Purchase Procedure to cover Network Losses in the Transmission System Operator. \n  \nDear all\, \nOn 14/01/2021\, OST sh.a\, will hold the procurement procedure for the purchase of electricity to cover losses in the transmission network for the period of  18-24 January 2021 Hourly  Profile\, in accordance with ERE Decision no. 103\, dated 23.06.2016. \nPlease find attached the amount and the time period. \nWe inform you that: \n18-24 January 2021; Hourly Profile: \n\nThe bid must include the whole procurement period.\nOST sh.a. Evaluation criteria is the lowest price for the full demand\, please notice that the offer must have one price\, otherwise\, the bid will be disqualified.\n\n\nOST sh.a. reserves the right to decline any bid or to cancel the tender on its sole discretion.\n\nFor any further question\, please contact us again. \nThank you! \nkerkesa per energji Orare 18-24 Janar 2021
URL:https://ost.al/event/njoftim-tenderi-per-blerjen-e-energjise-elektrike-per-humbjet-ne-rrjetin-e-transmetimit-31/
CATEGORIES:Njoftim Tenderi
END:VEVENT
BEGIN:VEVENT
DTSTART;VALUE=DATE:20210113
DTEND;VALUE=DATE:20210114
DTSTAMP:20260425T101930
CREATED:20210113T132921Z
LAST-MODIFIED:20210113T132921Z
UID:1142352-1610496000-1610582399@ost.al
SUMMARY:Njoftim Tenderi per prokurimin e energjise elektrike
DESCRIPTION:Te nderuar\,  \nProcedura e prokurimit te energjise elektrike per mbulimin e humbjeve ne rrjetin e transmetimit per periudhen 18-24 Janar 2021\, do te shtyhet deri ne nje njoftim te dyte. \n  \nDear Traders\,  \nThe procurement procedure for the purchase of electricity to cover losses in the transmission network for the period of  18-24 January 2021\,  will be postponed until further notice.
URL:https://ost.al/event/njoftim-tenderi-per-prokurimin-e-energjise-elektrike/
CATEGORIES:Njoftim Tenderi
END:VEVENT
BEGIN:VEVENT
DTSTART;VALUE=DATE:20210115
DTEND;VALUE=DATE:20210116
DTSTAMP:20260425T101930
CREATED:20210115T125358Z
LAST-MODIFIED:20210115T125358Z
UID:1142375-1610668800-1610755199@ost.al
SUMMARY:Kerkesa per energji Orare 18-24 Janar 2021
DESCRIPTION:kerkesa per energji Orare 18-24 Janar 2021
URL:https://ost.al/event/kerkesa-per-energji-orare-18-24-janar-2021/
CATEGORIES:Njoftim Tenderi
END:VEVENT
BEGIN:VEVENT
DTSTART;VALUE=DATE:20210120
DTEND;VALUE=DATE:20210121
DTSTAMP:20260425T101930
CREATED:20210119T125209Z
LAST-MODIFIED:20210119T125209Z
UID:1142397-1611100800-1611187199@ost.al
SUMMARY:Njoftim Tenderi për Blerjen e Energjisë Elektrike për Humbjet në Rrjetin e Transmetimit
DESCRIPTION:Të nderuar\, \nNë datë 20/01/2021\, do të zhvillohet  procedura për blerjen e energjisë elektrike për mbulimin e humbjeve në rrjetin e transmetimit për periudhën 25-31  Janar 2021\, profili Orar\, konform Vendimit te ERE nr. 103\, date 23.06.2016. \nBashkelidhur gjeni informacionin mbi sasinë dhe periudhen e livrimit. \nTheksojme se: \n  \n 25-31 Janar 2021; profili Orar \n  \n\nNuk mund të ketë oferta për një periudhë më të vogël se kërkesa. Çdo ofertë e cila nuk është e plotë\, do të skualifikohet.\nKriteri i vlerësimit të ofertës nga OST është cmimi më i ulët për të gjithë sasinë e kërkuar.Pra oferta duhet të ketë çmim të njëjtë për të gjithë periudhën e prokurimit në të kundert oferta do të skualifikohet.\nOST sh.a. në diskrecionin e saj\, rezervon të drejtën për të refuzuar çdo ofertë/ të gjitha ofertat ose për të anulluar procedurën.\n\n  \nPër cdo paqartësi mos hezitoni të na kontaktoni. \nJu faleminderit! \nkerkesa per energji Orare 25-31 Janar 2021 \n  \n  \nAnnouncement for the Purchase Procedure to cover Network Losses in the Transmission System Operator. \n  \nDear all\, \nOn 20/01/2021\, OST sh.a\, will hold the procurement procedure for the purchase of electricity to cover losses in the transmission network for the period of  25-31 January 2021 Hourly  Profile\, in accordance with ERE Decision no. 103\, dated 23.06.2016. \nPlease find attached the amount and the time period. \nWe inform you that: \n25-31  January 2021; Hourly Profile: \n\nThe bid must include the whole procurement period.\nOST sh.a. Evaluation criteria is the lowest price for the full demand\, please notice that the offer must have one price\, otherwise\, the bid will be disqualified.\n\n\nOST sh.a. reserves the right to decline any bid or to cancel the tender on its sole discretion.\n\nFor any further question\, please contact us again. \nThank you! \nkerkesa per energji Orare 25-31 Janar 2021 \n 
URL:https://ost.al/event/njoftim-tenderi-per-blerjen-e-energjise-elektrike-per-humbjet-ne-rrjetin-e-transmetimit-32/
CATEGORIES:Njoftim Tenderi
END:VEVENT
BEGIN:VEVENT
DTSTART;VALUE=DATE:20210127
DTEND;VALUE=DATE:20210128
DTSTAMP:20260425T101930
CREATED:20210127T123142Z
LAST-MODIFIED:20210127T123142Z
UID:1142450-1611705600-1611791999@ost.al
SUMMARY:Njoftim Tenderi për Blerjen e Energjisë Elektrike për Humbjet në Rrjetin e Transmetimit
DESCRIPTION:Të nderuar\, \n  \nNë datë 28/01/2021\, do të zhvillohen dy  procedura për blerjen e energjisë elektrike për mbulimin e humbjeve në rrjetin e transmetimit për periudhën 01 Shkurt – 30 Shtator 2021\, profili Band dhe për periudhën 01-28 Shkurt 2021\, profili Orar\, konform Vendimit te ERE nr. 103\, date 23.06.2016. \n  \nBashkelidhur gjeni informacionin mbi sasinë dhe periudhen e livrimit. \nTheksojme se: \n01 Shkurt – 30 Shtator 2021; Profili Band \n  \n  \n\nSe nuk mund të ketë oferta për një periudhë më të vogël se periudha prej 01 Shkurt – 30 Shtator 2021. Çdo ofertë e cila nuk është e plotë\, do të skualifikohet.\nKriteri i vlerësimit të ofertës nga OST është cmimi më i ulët për të gjithë sasinë e kërkuar. Nisur nga fakti që OST po zhvillon një tender me profilin Band edhe oferta duhet të jetë në Band pra të ketë çmim të njëjtë për të gjithë periudhën e prokurimit në të kundert oferta do të skualifikohet.\nOST sh.a. në diskrecionin e saj\, rezervon të drejtën për të refuzuar çdo ofertë/ të gjitha ofertat ose për të anulluar procedurën.\n\nKerkesa per energji per mbulimin e humbjeve ne rrjetin e transmetimit Shkurt- Shtator\, Profili BAND. \n  \n  \n 01-28 Shkurt 2021; profili Orar: \n  \n  \n\nNuk mund të ketë oferta për një periudhë më të vogël se kërkesa. Çdo ofertë e cila nuk është e plotë\, do të skualifikohet.\nKriteri i vlerësimit të ofertës nga OST është cmimi më i ulët për të gjithë sasinë e kërkuar.Pra oferta duhet të ketë çmim të njëjtë për të gjithë periudhën e prokurimit në të kundert oferta do të skualifikohet.\nOST sh.a. në diskrecionin e saj\, rezervon të drejtën për të refuzuar çdo ofertë/ të gjitha ofertat ose për të anulluar procedurën.\n\nKerkesa per energji per mbulimin e humbjeve ne rrjetin e transmetimit Shkurt 2021\,Profili Orar. \n  \nPër cdo paqartësi mos hezitoni të na kontaktoni. \nJu faleminderit! \n  \n  \nAnnouncement for the Purchase Procedure to cover Network Losses in the Transmission System Operator. \n  \nDear all\, \nOn 28/01/2021\, OST sh.a\, will hold two procurement procedures for the purchase of electricity to cover losses in the transmission network for the period of  01 February – 30 September 2021\, for the Band Profile and 01-28 February 2021 for the Hourly  Profile\, in accordance with ERE Decision no. 103\, dated 23.06.2016. \nPlease find attached the amount and the time period. \nWe inform you that: \n01 February – 30 September 2021; Profile Band: \n\nThe bid must include the whole procurement period from 01 February – 30 September 2021.\nOST sh.a. Evaluation criteria is the lowest price for the full demand\, please notice that the offer must have one price\, otherwise\, the bid will be disqualified. As OST sh.a. Demand is a Band profile\, please notice that the offer must be also in Band Profile\, otherwise the bid will be disqualified.\nOST sh.a. reserves the right to decline any bid or to cancel the tender on its sole discretion.\n\nKerkesa per energji per mbulimin e humbjeve ne rrjetin e transmetimit Shkurt- Shtator\, Profili BAND. \n  \n01-28 February; Hourly Profile: \n  \n\nThe bid must include the whole procurement period.\nOST sh.a. Evaluation criteria is the lowest price for the full demand\, please notice that the offer must have one price\,otherwise\, the bid will be disqualified.\nOST sh.a. reserves the right to decline any bid or to cancel the tender on its sole discretion.\n\n  \nKerkesa per energji per mbulimin e humbjeve ne rrjetin e transmetimit Shkurt 2021\,Profili Orar. \n  \nFor any further question\, please contact us again. \nThank you! \n 
URL:https://ost.al/event/njoftim-tenderi-per-blerjen-e-energjise-elektrike-per-humbjet-ne-rrjetin-e-transmetimit-33/
CATEGORIES:Njoftim Tenderi
END:VEVENT
END:VCALENDAR