BEGIN:VCALENDAR
VERSION:2.0
PRODID:-//Operatori i Sistemit Te Transmetimit - ECPv6.15.18//NONSGML v1.0//EN
CALSCALE:GREGORIAN
METHOD:PUBLISH
X-WR-CALNAME:Operatori i Sistemit Te Transmetimit
X-ORIGINAL-URL:https://ost.al
X-WR-CALDESC:Events for Operatori i Sistemit Te Transmetimit
REFRESH-INTERVAL;VALUE=DURATION:PT1H
X-Robots-Tag:noindex
X-PUBLISHED-TTL:PT1H
BEGIN:VTIMEZONE
TZID:UTC
BEGIN:STANDARD
TZOFFSETFROM:+0000
TZOFFSETTO:+0000
TZNAME:UTC
DTSTART:20200101T000000
END:STANDARD
END:VTIMEZONE
BEGIN:VEVENT
DTSTART;VALUE=DATE:20210309
DTEND;VALUE=DATE:20210310
DTSTAMP:20260425T020237
CREATED:20210309T091614Z
LAST-MODIFIED:20210309T091614Z
UID:1142824-1615248000-1615334399@ost.al
SUMMARY:Njoftim Tenderi për Blerjen e Energjisë Elektrike për Humbjet në Rrjetin e Transmetimit
DESCRIPTION:Të nderuar\, \n  \nNë datë 10/03/2021\, do të zhvillohet  procedura për blerjen e energjisë elektrike për mbulimin e humbjeve në rrjetin e transmetimit për 01-30 Prill 2021\, profili Orar\, konform Vendimit te ERE nr. 103\, date 23.06.2016. \n  \nBashkelidhur gjeni informacionin mbi sasinë dhe periudhen e livrimit. \nTheksojme se: \n  \n  \n 01-30 Prill 2021; profili Orar: \n  \n\nNuk mund të ketë oferta për një periudhë më të vogël se kërkesa. Çdo ofertë e cila nuk është e plotë\, do të skualifikohet.\nKriteri i vlerësimit të ofertës nga OST është cmimi më i ulët për të gjithë sasinë e kërkuar.Pra oferta duhet të ketë çmim të njëjtë për të gjithë periudhën e prokurimit në të kundert oferta do të skualifikohet.\nOST sh.a. në diskrecionin e saj\, rezervon të drejtën për të refuzuar çdo ofertë/ të gjitha ofertat ose për të anulluar procedurën.\n\n  \nKerkesa per energji April 2021\, profili orar \n  \nPër cdo paqartësi mos hezitoni të na kontaktoni. \nJu faleminderit! \n  \n  \nAnnouncement for the Purchase Procedure to cover Network Losses in the Transmission System Operator. \n  \nDear all\, \nOn 10/03/2021\, OST sh.a\, will the procurement procedure for the purchase of electricity to cover losses in the transmission network for the period of  01-30  April 2021 Hourly  Profile\, in accordance with ERE Decision no. 103\, dated 23.06.2016. \nPlease find attached the amount and the time period. \n  \nWe inform you that: \n  \n01-30 April 2021; Hourly Profile: \n  \n\n    1. The bid must include the whole procurement period.\n    2. OST sh.a. Evaluation criteria is the lowest price for the full demand\, please notice that the offer must have one price\,otherwise\, the bid will be disqualified.\nOST sh.a. reserves the right to decline any bid or to cancel the tender at its sole discretion.\n\n  \nKerkesa per energji April 2021\, profili orar \n  \n  \n  \nFor any further questions\, please contact us again. \nThank you! \n  \n  \n 
URL:https://ost.al/event/njoftim-tenderi-per-blerjen-e-energjise-elektrike-per-humbjet-ne-rrjetin-e-transmetimit-35/
CATEGORIES:Njoftim Tenderi
END:VEVENT
BEGIN:VEVENT
DTSTART;VALUE=DATE:20210310
DTEND;VALUE=DATE:20210311
DTSTAMP:20260425T020237
CREATED:20210310T064636Z
LAST-MODIFIED:20210310T064636Z
UID:1142836-1615334400-1615420799@ost.al
SUMMARY:Njoftim Anullim Tenderi
DESCRIPTION:  \nPershendetje Te Nderuar\, \n  \nJu njoftojme qe per arsye te nje problemi teknik\, ku po punohet intensivisht nga OST per ti dhene zgjidhje\, procedura e prokurimit te energjise elektrike per mbulimin e humbjeve ne rrjetin e transmetimit e planifikuar per tu zhvilluar diten e neserme date 10.03.2021 do te anullohet deri ne nje njoftim te dyte. \n  \n  \nDuke ju falenderuar per mirekuptimin\, \n  \n  \nDear Market Participants\, \n  \nWe would like to inform you that we have experienced some technical issues\, for this reason\, the procurement of electric energy to cover losses in the transmission network planned for tomorrow 10.03.2021\, is going to be canceled until further notice. OST sh.a. is currently working on a solution. \n  \nThank you for your cooperation\,
URL:https://ost.al/event/njoftim-anullim-tenderi/
CATEGORIES:Njoftim Tenderi
END:VEVENT
BEGIN:VEVENT
DTSTART;VALUE=DATE:20210316
DTEND;VALUE=DATE:20210317
DTSTAMP:20260425T020237
CREATED:20210316T085551Z
LAST-MODIFIED:20210316T085551Z
UID:1142879-1615852800-1615939199@ost.al
SUMMARY:Njoftim Tenderi për Blerjen e Energjisë Elektrike për Humbjet në Rrjetin e Transmetimit
DESCRIPTION:Të nderuar\, \n  \nNë datë 17/03/2021\, do të zhvillohet  procedura për blerjen e energjisë elektrike për mbulimin e humbjeve në rrjetin e transmetimit për 01-30 Prill 2021\, profili Orar\, konform Vendimit te ERE nr. 103\, date 23.06.2016. \n  \nBashkelidhur gjeni informacionin mbi sasinë dhe periudhen e livrimit. \nTheksojme se: \n  \n  \n 01-30 Prill 2021; profili Orar: \n  \n\nNuk mund të ketë oferta për një periudhë më të vogël se kërkesa. Çdo ofertë e cila nuk është e plotë\, do të skualifikohet.\nKriteri i vlerësimit të ofertës nga OST është cmimi më i ulët për të gjithë sasinë e kërkuar.Pra oferta duhet të ketë çmim të njëjtë për të gjithë periudhën e prokurimit në të kundert oferta do të skualifikohet.\nOST sh.a. në diskrecionin e saj\, rezervon të drejtën për të refuzuar çdo ofertë/ të gjitha ofertat ose për të anulluar procedurën.\n\n  \nKerkesa per energji per mbulimin e humbjeve ne rrjetin e transmetimit prill 2021\, Profili ORAR \nPër cdo paqartësi mos hezitoni të na kontaktoni. \nJu faleminderit! \n  \n  \nAnnouncement for the Purchase Procedure to cover Network Losses in the Transmission System Operator. \n  \nDear all\, \nOn 17/03/2021\, OST sh.a\, will the procurement procedure for the purchase of electricity to cover losses in the transmission network for the period of  01-30  April 2021 Hourly  Profile\, in accordance with ERE Decision no. 103\, dated 23.06.2016. \nPlease find attached the amount and the time period. \n  \nWe inform you that: \n  \n01-30 April 2021; Hourly Profile: \n  \n\n    1. The bid must include the whole procurement period.\n    2. OST sh.a. Evaluation criteria is the lowest price for the full demand\, please notice that the offer must have one price\,otherwise\, the bid will be disqualified.\nOST sh.a. reserves the right to decline any bid or to cancel the tender at its sole discretion.\n\n  \nKerkesa per energji per mbulimin e humbjeve ne rrjetin e transmetimit prill 2021\, Profili ORAR \n  \nFor any further questions\, please contact us again. \nThank you!
URL:https://ost.al/event/njoftim-tenderi-per-blerjen-e-energjise-elektrike-per-humbjet-ne-rrjetin-e-transmetimit-36/
CATEGORIES:Njoftim Tenderi
END:VEVENT
BEGIN:VEVENT
DTSTART;VALUE=DATE:20210317
DTEND;VALUE=DATE:20210318
DTSTAMP:20260425T020237
CREATED:20210317T112830Z
LAST-MODIFIED:20210317T112830Z
UID:1142901-1615939200-1616025599@ost.al
SUMMARY:Njoftim Tenderi per prokurimin e energjise elektrike
DESCRIPTION:Pershendetje Te Nderuar\, \n  \nJu njoftojme se per arsye te problematikave te shfaqura ne platformen elektronike ku zhvillohet procesi i prokurimit te energjise elektrike per mbulimin e humbjeve ne rrjetin e transmetimit\, procedura e planifikuar per tu zhvilluar sot\, ne date 17.03.2021 do te anullohet deri ne nje njoftim te dyte. \n  \nDuke ju falenderuar per mirekuptimin\, \n  \n  \nDear Market Participants\, \n  \nWe would like to inform you that due to the problems of the electronic platform\, the procurement of electric energy to cover losses in the transmission network planned for today on 17.03.2021\, is going to be canceled until further notice. \n  \nThank you for your cooperation\, \n 
URL:https://ost.al/event/njoftim-tenderi-per-prokurimin-e-energjise-elektrike-2/
CATEGORIES:Njoftim Tenderi
END:VEVENT
BEGIN:VEVENT
DTSTART;VALUE=DATE:20210324
DTEND;VALUE=DATE:20210325
DTSTAMP:20260425T020237
CREATED:20210324T105952Z
LAST-MODIFIED:20210324T105952Z
UID:1142966-1616544000-1616630399@ost.al
SUMMARY:Njoftim Tenderi për Blerjen e Energjisë Elektrike për Humbjet në Rrjetin e Transmetimit
DESCRIPTION:Të nderuar\, \n  \nNë datë 25/03/2021\, do të zhvillohet  procedura për blerjen e energjisë elektrike për mbulimin e humbjeve në rrjetin e transmetimit për 01-30 Prill 2021\, profili Orar\, konform Vendimit te ERE nr. 103\, date 23.06.2016. \n  \nBashkelidhur gjeni informacionin mbi sasinë dhe periudhen e livrimit. \nTheksojme se: \n  \n  \n 01-30 Prill 2021; profili Orar: \n  \n\nNuk mund të ketë oferta për një periudhë më të vogël se kërkesa. Çdo ofertë e cila nuk është e plotë\, do të skualifikohet.\nKriteri i vlerësimit të ofertës nga OST është cmimi më i ulët për të gjithë sasinë e kërkuar.Pra oferta duhet të ketë çmim të njëjtë për të gjithë periudhën e prokurimit në të kundert oferta do të skualifikohet.\nOST sh.a. në diskrecionin e saj\, rezervon të drejtën për të refuzuar çdo ofertë/ të gjitha ofertat ose për të anulluar procedurën.\n\n  \nKerkesa per energji per mbulimin e humbjeve ne rrjetin e transmetimit prill 2021\, Profili ORAR \nPër cdo paqartësi mos hezitoni të na kontaktoni. \nJu faleminderit! \n  \n  \nAnnouncement for the Purchase Procedure to cover Network Losses in the Transmission System Operator. \n  \nDear all\, \nOn 25/03/2021\, OST sh.a\, will hold the procurement procedure for the purchase of electricity to cover losses in the transmission network for the period of  01-30  April 2021 Hourly  Profile\, in accordance with ERE Decision no. 103\, dated 23.06.2016. \nPlease find attached the amount and the time period. \n  \nWe inform you that: \n  \n01-30 April 2021; Hourly Profile: \n  \n\n    1. The bid must include the whole procurement period.\n    2. OST sh.a. Evaluation criteria is the lowest price for the full demand\, please notice that the offer must have one price\,otherwise\, the bid will be disqualified.\nOST sh.a. reserves the right to decline any bid or to cancel the tender at its sole discretion.\n\n  \n  \nKerkesa per energji per mbulimin e humbjeve ne rrjetin e transmetimit prill 2021\, Profili ORAR \nFor any further questions\, please contact us again. \nThank you!
URL:https://ost.al/event/njoftim-tenderi-per-blerjen-e-energjise-elektrike-per-humbjet-ne-rrjetin-e-transmetimit-37/
CATEGORIES:Njoftim Tenderi
END:VEVENT
END:VCALENDAR