BEGIN:VCALENDAR
VERSION:2.0
PRODID:-//Operatori i Sistemit Te Transmetimit - ECPv6.15.18//NONSGML v1.0//EN
CALSCALE:GREGORIAN
METHOD:PUBLISH
X-ORIGINAL-URL:https://ost.al
X-WR-CALDESC:Events for Operatori i Sistemit Te Transmetimit
REFRESH-INTERVAL;VALUE=DURATION:PT1H
X-Robots-Tag:noindex
X-PUBLISHED-TTL:PT1H
BEGIN:VTIMEZONE
TZID:UTC
BEGIN:STANDARD
TZOFFSETFROM:+0000
TZOFFSETTO:+0000
TZNAME:UTC
DTSTART:20200101T000000
END:STANDARD
END:VTIMEZONE
BEGIN:VEVENT
DTSTART;VALUE=DATE:20211004
DTEND;VALUE=DATE:20211005
DTSTAMP:20260421T145213
CREATED:20211004T095540Z
LAST-MODIFIED:20211004T095540Z
UID:1147148-1633305600-1633391999@ost.al
SUMMARY:Njoftim Tenderi për Blerjen e Energjisë Elektrike për Humbjet në Rrjetin e Transmetimit
DESCRIPTION:Të nderuar\, \nNë datë 05/10/2021\, do të zhvillohet  procedura për blerjen e energjisë elektrike për mbulimin e humbjeve në rrjetin e transmetimit për periudhën  08 – 17 Tetor 2021\, profili Orar\, konform Vendimit te ERE nr. 103\, date 23.06.2016. \nBashkelidhur gjeni informacionin mbi sasinë dhe periudhen e livrimit. \nTheksojme se: \n\n08 – 17 Tetor 2021; profili Orar\, Tender numer 108/2021: \n\n\nNuk mund të ketë oferta për një periudhë më të vogël se kërkesa. Çdo ofertë e cila nuk është e plotë\, do të skualifikohet.\nKriteri i vlerësimit të ofertës nga OST është cmimi më i ulët për të gjithë sasinë e kërkuar.Pra oferta duhet të ketë çmim të njëjtë për të gjithë periudhën e prokurimit në të kundert oferta do të skualifikohet.\nOST sh.a. në diskrecionin e saj\, rezervon të drejtën për të refuzuar çdo ofertë/ të gjitha ofertat ose për të anulluar procedurën.\n\n\nPër cdo paqartësi mos hezitoni të na kontaktoni. \nJu faleminderit! \n\nKerkesa per energji 08-17 Tetor 2021 Orar \n\nAnnouncement for the Purchase Procedure to cover Network Losses in the Transmission System Operator. \n  \nDear all\, \nOn 05/10/2021\, OST sh.a\, will held the procurement procedure for the purchase of electricity to cover losses in the transmission network for the period of  08 – 17 October 2021 Hourly Profile\, in accordance with ERE Decision no. 103\, dated 23.06.2016. \nPlease find attached the amount and the time period. \nWe inform you that: \n08 – 17 October 2021; Hourly Profile\, Tender number 108/2021: \n\n\n   1. The bid must include the whole procurement period.\n   2. OST sh.a. Evaluation criteria is the lowest price for the full demand\, please notice that the offer must have one price\, otherwise\, the bid will be disqualified.\nOST sh.a. reserves the right to decline any bid or to cancel the tender at its sole discretion.\n\n\nFor any further questions\, please contact us again. \nThank you!
URL:https://ost.al/event/njoftim-tenderi-per-blerjen-e-energjise-elektrike-per-humbjet-ne-rrjetin-e-transmetimit-51/
CATEGORIES:Njoftim Tenderi
END:VEVENT
BEGIN:VEVENT
DTSTART;VALUE=DATE:20211004
DTEND;VALUE=DATE:20211005
DTSTAMP:20260421T145213
CREATED:20211004T095540Z
LAST-MODIFIED:20211004T095540Z
UID:1149924-1633305600-1633391999@ost.al
SUMMARY:Njoftim Tenderi për Blerjen e Energjisë Elektrike për Humbjet në Rrjetin e Transmetimit
DESCRIPTION:Të nderuar\, \nNë datë 05/10/2021\, do të zhvillohet  procedura për blerjen e energjisë elektrike për mbulimin e humbjeve në rrjetin e transmetimit për periudhën  08 – 17 Tetor 2021\, profili Orar\, konform Vendimit te ERE nr. 103\, date 23.06.2016. \nBashkelidhur gjeni informacionin mbi sasinë dhe periudhen e livrimit. \nTheksojme se: \n\n08 – 17 Tetor 2021; profili Orar\, Tender numer 108/2021: \n\n\nNuk mund të ketë oferta për një periudhë më të vogël se kërkesa. Çdo ofertë e cila nuk është e plotë\, do të skualifikohet.\nKriteri i vlerësimit të ofertës nga OST është cmimi më i ulët për të gjithë sasinë e kërkuar.Pra oferta duhet të ketë çmim të njëjtë për të gjithë periudhën e prokurimit në të kundert oferta do të skualifikohet.\nOST sh.a. në diskrecionin e saj\, rezervon të drejtën për të refuzuar çdo ofertë/ të gjitha ofertat ose për të anulluar procedurën.\n\n\nPër cdo paqartësi mos hezitoni të na kontaktoni. \nJu faleminderit! \n\nKerkesa per energji 08-17 Tetor 2021 Orar \n\nAnnouncement for the Purchase Procedure to cover Network Losses in the Transmission System Operator. \n  \nDear all\, \nOn 05/10/2021\, OST sh.a\, will held the procurement procedure for the purchase of electricity to cover losses in the transmission network for the period of  08 – 17 October 2021 Hourly Profile\, in accordance with ERE Decision no. 103\, dated 23.06.2016. \nPlease find attached the amount and the time period. \nWe inform you that: \n08 – 17 October 2021; Hourly Profile\, Tender number 108/2021: \n\n\n   1. The bid must include the whole procurement period.\n   2. OST sh.a. Evaluation criteria is the lowest price for the full demand\, please notice that the offer must have one price\, otherwise\, the bid will be disqualified.\nOST sh.a. reserves the right to decline any bid or to cancel the tender at its sole discretion.\n\n\nFor any further questions\, please contact us again. \nThank you!
URL:https://ost.al/event/njoftim-tenderi-per-blerjen-e-energjise-elektrike-per-humbjet-ne-rrjetin-e-transmetimit-51/
CATEGORIES:Njoftim Tenderi
END:VEVENT
BEGIN:VEVENT
DTSTART;VALUE=DATE:20211014
DTEND;VALUE=DATE:20211015
DTSTAMP:20260421T145213
CREATED:20211014T095527Z
LAST-MODIFIED:20211014T095527Z
UID:1147292-1634169600-1634255999@ost.al
SUMMARY:Njoftim Tenderi për Blerjen e Energjisë Elektrike për Humbjet në Rrjetin e Transmetimit
DESCRIPTION:Të nderuar\, \n  \nNë datë 15/10/2021\, do të zhvillohet  procedura për blerjen e energjisë elektrike për mbulimin e humbjeve në rrjetin e transmetimit për periudhën  18 – 24 Tetor 2021\, profili Orar\, konform Vendimit te ERE nr. 103\, date 23.06.2016. \n  \nBashkelidhur gjeni informacionin mbi sasinë dhe periudhen e livrimit. \nTheksojme se: \n  \n18 – 24 Tetor 2021; profili Orar\, Tender numer 115/2021: \n  \n\nNuk mund të ketë oferta për një periudhë më të vogël se kërkesa. Çdo ofertë e cila nuk është e plotë\, do të skualifikohet.\nKriteri i vlerësimit të ofertës nga OST është cmimi më i ulët për të gjithë sasinë e kërkuar.Pra oferta duhet të ketë çmim të njëjtë për të gjithë periudhën e prokurimit në të kundert oferta do të skualifikohet.\nOST sh.a. në diskrecionin e saj\, rezervon të drejtën për të refuzuar çdo ofertë/ të gjitha ofertat ose për të anulluar procedurën.\n\n  \nPër cdo paqartësi mos hezitoni të na kontaktoni. \nJu faleminderit! \n  \nKerkesa per energji 18-24 Tetor 2021 Orar \n  \nAnnouncement for the Purchase Procedure to cover Network Losses in the Transmission System Operator. \n  \nDear all\, \nOn 15/10/2021\, OST sh.a\, will held the procurement procedure for the purchase of electricity to cover losses in the transmission network for the period of  18 – 24 October 2021 Hourly Profile\, in accordance with ERE Decision no. 103\, dated 23.06.2016. \nPlease find attached the amount and the time period. \nWe inform you that: \n18 – 24 October 2021; Hourly Profile\, Tender number 115/2021: \n  \n\n   1. The bid must include the whole procurement period.\n   2. OST sh.a. Evaluation criteria is the lowest price for the full demand\, please notice that the offer must have one price\, otherwise\, the bid will be disqualified.\nOST sh.a. reserves the right to decline any bid or to cancel the tender at its sole discretion.\n\n  \nFor any further questions\, please contact us again. \nThank you!
URL:https://ost.al/event/njoftim-tenderi-per-blerjen-e-energjise-elektrike-per-humbjet-ne-rrjetin-e-transmetimit-52/
CATEGORIES:Njoftim Tenderi
END:VEVENT
BEGIN:VEVENT
DTSTART;VALUE=DATE:20211014
DTEND;VALUE=DATE:20211015
DTSTAMP:20260421T145213
CREATED:20211014T095527Z
LAST-MODIFIED:20211014T095527Z
UID:1149947-1634169600-1634255999@ost.al
SUMMARY:Njoftim Tenderi për Blerjen e Energjisë Elektrike për Humbjet në Rrjetin e Transmetimit
DESCRIPTION:Të nderuar\, \n  \nNë datë 15/10/2021\, do të zhvillohet  procedura për blerjen e energjisë elektrike për mbulimin e humbjeve në rrjetin e transmetimit për periudhën  18 – 24 Tetor 2021\, profili Orar\, konform Vendimit te ERE nr. 103\, date 23.06.2016. \n  \nBashkelidhur gjeni informacionin mbi sasinë dhe periudhen e livrimit. \nTheksojme se: \n  \n18 – 24 Tetor 2021; profili Orar\, Tender numer 115/2021: \n  \n\nNuk mund të ketë oferta për një periudhë më të vogël se kërkesa. Çdo ofertë e cila nuk është e plotë\, do të skualifikohet.\nKriteri i vlerësimit të ofertës nga OST është cmimi më i ulët për të gjithë sasinë e kërkuar.Pra oferta duhet të ketë çmim të njëjtë për të gjithë periudhën e prokurimit në të kundert oferta do të skualifikohet.\nOST sh.a. në diskrecionin e saj\, rezervon të drejtën për të refuzuar çdo ofertë/ të gjitha ofertat ose për të anulluar procedurën.\n\n  \nPër cdo paqartësi mos hezitoni të na kontaktoni. \nJu faleminderit! \n  \nKerkesa per energji 18-24 Tetor 2021 Orar \n  \nAnnouncement for the Purchase Procedure to cover Network Losses in the Transmission System Operator. \n  \nDear all\, \nOn 15/10/2021\, OST sh.a\, will held the procurement procedure for the purchase of electricity to cover losses in the transmission network for the period of  18 – 24 October 2021 Hourly Profile\, in accordance with ERE Decision no. 103\, dated 23.06.2016. \nPlease find attached the amount and the time period. \nWe inform you that: \n18 – 24 October 2021; Hourly Profile\, Tender number 115/2021: \n  \n\n   1. The bid must include the whole procurement period.\n   2. OST sh.a. Evaluation criteria is the lowest price for the full demand\, please notice that the offer must have one price\, otherwise\, the bid will be disqualified.\nOST sh.a. reserves the right to decline any bid or to cancel the tender at its sole discretion.\n\n  \nFor any further questions\, please contact us again. \nThank you!
URL:https://ost.al/event/njoftim-tenderi-per-blerjen-e-energjise-elektrike-per-humbjet-ne-rrjetin-e-transmetimit-52/
CATEGORIES:Njoftim Tenderi
END:VEVENT
BEGIN:VEVENT
DTSTART;VALUE=DATE:20211019
DTEND;VALUE=DATE:20211020
DTSTAMP:20260421T145213
CREATED:20211019T110601Z
LAST-MODIFIED:20211019T110601Z
UID:1147404-1634601600-1634687999@ost.al
SUMMARY:Njoftim Tenderi për Blerjen e Energjisë Elektrike për Humbjet në Rrjetin e Transmetimit
DESCRIPTION:Të nderuar\, \n  \nNë datë 20/10/2021\, do të zhvillohet  procedura për blerjen e energjisë elektrike për mbulimin e humbjeve në rrjetin e transmetimit për periudhën  22 – 31 Tetor 2021\, profili Orar\, konform Vendimit te ERE nr. 103\, date 23.06.2016. \n  \nBashkelidhur gjeni informacionin mbi sasinë dhe periudhen e livrimit. \nTheksojme se: \n  \n22 – 31 Tetor 2021; profili Orar\, Tender numer 120/2021: \n  \n\nNuk mund të ketë oferta për një periudhë më të vogël se kërkesa. Çdo ofertë e cila nuk është e plotë\, do të skualifikohet.\nKriteri i vlerësimit të ofertës nga OST është cmimi më i ulët për të gjithë sasinë e kërkuar.Pra oferta duhet të ketë çmim të njëjtë për të gjithë periudhën e prokurimit në të kundert oferta do të skualifikohet.\nOST sh.a. në diskrecionin e saj\, rezervon të drejtën për të refuzuar çdo ofertë/ të gjitha ofertat ose për të anulluar procedurën.\n\n  \nPër cdo paqartësi mos hezitoni të na kontaktoni. \nJu faleminderit! \n  \nKerkesa per energji 22-31 Tetor 2021 Orar \n  \nAnnouncement for the Purchase Procedure to cover Network Losses in the Transmission System Operator. \n  \nDear all\, \nOn 20/10/2021\, OST sh.a\, will held the procurement procedure for the purchase of electricity to cover losses in the transmission network for the period of  22 – 31 October 2021 Hourly Profile\, in accordance with ERE Decision no. 103\, dated 23.06.2016. \nPlease find attached the amount and the time period. \n  \nWe inform you that: \n  \n22 – 31 October 2021; Hourly Profile\, Tender number 120/2021: \n  \n\n   1. The bid must include the whole procurement period.\n   2. OST sh.a. Evaluation criteria is the lowest price for the full demand\, please notice that the offer must have one price\, otherwise\, the bid will be disqualified.\nOST sh.a. reserves the right to decline any bid or to cancel the tender at its sole discretion.\n\n  \n  \nFor any further questions\, please contact us again. \nThank you!
URL:https://ost.al/event/njoftim-tenderi-per-blerjen-e-energjise-elektrike-per-humbjet-ne-rrjetin-e-transmetimit-53/
CATEGORIES:Njoftim Tenderi
END:VEVENT
BEGIN:VEVENT
DTSTART;VALUE=DATE:20211019
DTEND;VALUE=DATE:20211020
DTSTAMP:20260421T145213
CREATED:20211019T110601Z
LAST-MODIFIED:20211019T110601Z
UID:1149964-1634601600-1634687999@ost.al
SUMMARY:Njoftim Tenderi për Blerjen e Energjisë Elektrike për Humbjet në Rrjetin e Transmetimit
DESCRIPTION:Të nderuar\, \n  \nNë datë 20/10/2021\, do të zhvillohet  procedura për blerjen e energjisë elektrike për mbulimin e humbjeve në rrjetin e transmetimit për periudhën  22 – 31 Tetor 2021\, profili Orar\, konform Vendimit te ERE nr. 103\, date 23.06.2016. \n  \nBashkelidhur gjeni informacionin mbi sasinë dhe periudhen e livrimit. \nTheksojme se: \n  \n22 – 31 Tetor 2021; profili Orar\, Tender numer 120/2021: \n  \n\nNuk mund të ketë oferta për një periudhë më të vogël se kërkesa. Çdo ofertë e cila nuk është e plotë\, do të skualifikohet.\nKriteri i vlerësimit të ofertës nga OST është cmimi më i ulët për të gjithë sasinë e kërkuar.Pra oferta duhet të ketë çmim të njëjtë për të gjithë periudhën e prokurimit në të kundert oferta do të skualifikohet.\nOST sh.a. në diskrecionin e saj\, rezervon të drejtën për të refuzuar çdo ofertë/ të gjitha ofertat ose për të anulluar procedurën.\n\n  \nPër cdo paqartësi mos hezitoni të na kontaktoni. \nJu faleminderit! \n  \nKerkesa per energji 22-31 Tetor 2021 Orar \n  \nAnnouncement for the Purchase Procedure to cover Network Losses in the Transmission System Operator. \n  \nDear all\, \nOn 20/10/2021\, OST sh.a\, will held the procurement procedure for the purchase of electricity to cover losses in the transmission network for the period of  22 – 31 October 2021 Hourly Profile\, in accordance with ERE Decision no. 103\, dated 23.06.2016. \nPlease find attached the amount and the time period. \n  \nWe inform you that: \n  \n22 – 31 October 2021; Hourly Profile\, Tender number 120/2021: \n  \n\n   1. The bid must include the whole procurement period.\n   2. OST sh.a. Evaluation criteria is the lowest price for the full demand\, please notice that the offer must have one price\, otherwise\, the bid will be disqualified.\nOST sh.a. reserves the right to decline any bid or to cancel the tender at its sole discretion.\n\n  \n  \nFor any further questions\, please contact us again. \nThank you!
URL:https://ost.al/event/njoftim-tenderi-per-blerjen-e-energjise-elektrike-per-humbjet-ne-rrjetin-e-transmetimit-53/
CATEGORIES:Njoftim Tenderi
END:VEVENT
BEGIN:VEVENT
DTSTART;VALUE=DATE:20211022
DTEND;VALUE=DATE:20211023
DTSTAMP:20260421T145213
CREATED:20211022T103859Z
LAST-MODIFIED:20211022T114742Z
UID:1147466-1634860800-1634947199@ost.al
SUMMARY:Njoftim Tenderi për Blerjen e Energjisë Elektrike për Humbjet në Rrjetin e Transmetimit
DESCRIPTION:0Të nderuar\, \n  \nNë datë 25/10/2021\, do të zhvillohet  procedura për blerjen e energjisë elektrike për mbulimin e humbjeve në rrjetin e transmetimit për periudhën  27 Tetor – 07 Nëntor 2021\, profili Orar\, konform Vendimit te ERE nr. 103\, date 23.06.2016. \n  \nBashkelidhur gjeni informacionin mbi sasinë dhe periudhen e livrimit. \nTheksojme se: \n  \n  \n27 Tetor – 07 Nëntor 2021; profili Orar\, Tender numer 123/2021: \n  \n\nNuk mund të ketë oferta për një periudhë më të vogël se kërkesa. Çdo ofertë e cila nuk është e plotë\, do të skualifikohet.\nKriteri i vlerësimit të ofertës nga OST është cmimi më i ulët për të gjithë sasinë e kërkuar.Pra oferta duhet të ketë çmim të njëjtë për të gjithë periudhën e prokurimit në të kundert oferta do të skualifikohet.\nOST sh.a. në diskrecionin e saj\, rezervon të drejtën për të refuzuar çdo ofertë/ të gjitha ofertat ose për të anulluar procedurën.\n\n  \n  \nPër cdo paqartësi mos hezitoni të na kontaktoni. \nJu faleminderit! \n  \n  \nAnnouncement for the Purchase Procedure to cover Network Losses in the Transmission System Operator. \n  \nDear all\, \nOn 25/10/2021\, OST sh.a\, will held the procurement procedure for the purchase of electricity to cover losses in the transmission network for the period of  27 October – 07 November 2021 Hourly Profile\, in accordance with ERE Decision no. 103\, dated 23.06.2016. \nPlease find attached the amount and the time period. \n  \nWe inform you that: \n  \n27 October – 07 November 2021; Hourly Profile\, Tender number 123/2021: \n  \n\n   1. The bid must include the whole procurement period.\n   2. OST sh.a. Evaluation criteria is the lowest price for the full demand\, please notice that the offer must have one price\, otherwise\, the bid will be disqualified.\nOST sh.a. reserves the right to decline any bid or to cancel the tender at its sole discretion.\n\n  \n  \n  \nFor any further questions\, please contact us again. \nThank you! \n  \nKerkesa per energji 27 Tetor – 07 Nentor 2021 Orar
URL:https://ost.al/event/njoftim-tenderi-per-blerjen-e-energjise-elektrike-per-humbjet-ne-rrjetin-e-transmetimit-54/
CATEGORIES:Njoftim Tenderi
END:VEVENT
BEGIN:VEVENT
DTSTART;VALUE=DATE:20211022
DTEND;VALUE=DATE:20211023
DTSTAMP:20260421T145213
CREATED:20211022T103859Z
LAST-MODIFIED:20211022T103859Z
UID:1149971-1634860800-1634947199@ost.al
SUMMARY:Njoftim Tenderi për Blerjen e Energjisë Elektrike për Humbjet në Rrjetin e Transmetimit
DESCRIPTION:0Të nderuar\, \n  \nNë datë 25/10/2021\, do të zhvillohet  procedura për blerjen e energjisë elektrike për mbulimin e humbjeve në rrjetin e transmetimit për periudhën  27 Tetor – 07 Nëntor 2021\, profili Orar\, konform Vendimit te ERE nr. 103\, date 23.06.2016. \n  \nBashkelidhur gjeni informacionin mbi sasinë dhe periudhen e livrimit. \nTheksojme se: \n  \n  \n27 Tetor – 07 Nëntor 2021; profili Orar\, Tender numer 123/2021: \n  \n\nNuk mund të ketë oferta për një periudhë më të vogël se kërkesa. Çdo ofertë e cila nuk është e plotë\, do të skualifikohet.\nKriteri i vlerësimit të ofertës nga OST është cmimi më i ulët për të gjithë sasinë e kërkuar.Pra oferta duhet të ketë çmim të njëjtë për të gjithë periudhën e prokurimit në të kundert oferta do të skualifikohet.\nOST sh.a. në diskrecionin e saj\, rezervon të drejtën për të refuzuar çdo ofertë/ të gjitha ofertat ose për të anulluar procedurën.\n\n  \n  \nPër cdo paqartësi mos hezitoni të na kontaktoni. \nJu faleminderit! \n  \n  \nAnnouncement for the Purchase Procedure to cover Network Losses in the Transmission System Operator. \n  \nDear all\, \nOn 25/10/2021\, OST sh.a\, will held the procurement procedure for the purchase of electricity to cover losses in the transmission network for the period of  27 October – 07 November 2021 Hourly Profile\, in accordance with ERE Decision no. 103\, dated 23.06.2016. \nPlease find attached the amount and the time period. \n  \nWe inform you that: \n  \n27 October – 07 November 2021; Hourly Profile\, Tender number 123/2021: \n  \n\n   1. The bid must include the whole procurement period.\n   2. OST sh.a. Evaluation criteria is the lowest price for the full demand\, please notice that the offer must have one price\, otherwise\, the bid will be disqualified.\nOST sh.a. reserves the right to decline any bid or to cancel the tender at its sole discretion.\n\n  \n  \n  \nFor any further questions\, please contact us again. \nThank you! \n  \nKerkesa per energji 27 Tetor – 07 Nentor 2021 Orar
URL:https://ost.al/event/njoftim-tenderi-per-blerjen-e-energjise-elektrike-per-humbjet-ne-rrjetin-e-transmetimit-54/
CATEGORIES:Njoftim Tenderi
END:VEVENT
BEGIN:VEVENT
DTSTART;VALUE=DATE:20211028
DTEND;VALUE=DATE:20211029
DTSTAMP:20260421T145213
CREATED:20211028T081108Z
LAST-MODIFIED:20211028T081108Z
UID:1147582-1635379200-1635465599@ost.al
SUMMARY:Njoftim Tenderi për Blerjen e Energjisë Elektrike për Humbjet në Rrjetin e Transmetimit
DESCRIPTION:Të nderuar\, \n  \nNë datë 29/10/2021\, do të zhvillohet  procedura për blerjen e energjisë elektrike për mbulimin e humbjeve në rrjetin e transmetimit për periudhën  01-30 Nëntor 2021\, profili Band\, konform Vendimit te ERE nr. 103\, date 23.06.2016. \n  \nBashkelidhur gjeni informacionin mbi sasinë dhe periudhen e livrimit. \n  \n  \nPër 01-30 Nëntor 2021; profili Band\, Tender numer 127/2021\, theksojme se: \n\nSe nuk mund të ketë oferta për një periudhë më të vogël se periudha prej 01 – 30 Nëntor 2021. Çdo ofertë e cila nuk është e plotë\, do të skualifikohet.\nKriteri i vlerësimit të ofertës nga OST është cmimi më i ulët për të gjithë sasinë e kërkuar. Nisur nga fakti që OST po zhvillon një tender me profilin Band edhe oferta duhet të jetë në Band pra të ketë çmim të njëjtë për të gjithë periudhën e prokurimit në të kundert oferta do të skualifikohet.\nOST sh.a. në diskrecionin e saj\, rezervon të drejtën për të refuzuar çdo ofertë/ të gjitha ofertat ose për të anulluar procedurën\n\nPër cdo paqartësi mos hezitoni të na kontaktoni. \nJu faleminderit! \n  \nKerkesa per energji 01-30 Nentor 2021 Band \n  \nAnnouncement for the Purchase Procedure to cover Network Losses in the Transmission System Operator. \n  \nDear all\, \nOn 29/10/2021\, OST sh.a\, will held the procurement procedure for the purchase of electricity to cover losses in the transmission network for the period of  01 – 30 November 2021 Band Profile\, in accordance with ERE Decision no. 103\, dated 23.06.2016. \nPlease find attached the amount and the time period. \n  \nWe inform you that for Tender number 127/2021\, 01 – 30 November 2021; Band Profile: \n\nThe bid must include the whole procurement period from 01 – 30 November  2021.\nOST sh.a. evaluation criteria is the lowest price for the full demand. As OST sh.a. Demand is a Band profile\, please notice that the offer must be also in Band Profile\, ( one price for full offer)\, otherwise the bid will be disqualified.\nOST sh.a. reserves the right to decline any bid or to cancel the tender on its sole discretion.at its sole discretion.\n\nFor any further questions\, please contact us again. \nThank you!
URL:https://ost.al/event/njoftim-tenderi-per-blerjen-e-energjise-elektrike-per-humbjet-ne-rrjetin-e-transmetimit-55/
CATEGORIES:Njoftim Tenderi
END:VEVENT
BEGIN:VEVENT
DTSTART;VALUE=DATE:20211028
DTEND;VALUE=DATE:20211029
DTSTAMP:20260421T145213
CREATED:20211028T081108Z
LAST-MODIFIED:20211028T081108Z
UID:1149988-1635379200-1635465599@ost.al
SUMMARY:Njoftim Tenderi për Blerjen e Energjisë Elektrike për Humbjet në Rrjetin e Transmetimit
DESCRIPTION:Të nderuar\, \n  \nNë datë 29/10/2021\, do të zhvillohet  procedura për blerjen e energjisë elektrike për mbulimin e humbjeve në rrjetin e transmetimit për periudhën  01-30 Nëntor 2021\, profili Band\, konform Vendimit te ERE nr. 103\, date 23.06.2016. \n  \nBashkelidhur gjeni informacionin mbi sasinë dhe periudhen e livrimit. \n  \n  \nPër 01-30 Nëntor 2021; profili Band\, Tender numer 127/2021\, theksojme se: \n\nSe nuk mund të ketë oferta për një periudhë më të vogël se periudha prej 01 – 30 Nëntor 2021. Çdo ofertë e cila nuk është e plotë\, do të skualifikohet.\nKriteri i vlerësimit të ofertës nga OST është cmimi më i ulët për të gjithë sasinë e kërkuar. Nisur nga fakti që OST po zhvillon një tender me profilin Band edhe oferta duhet të jetë në Band pra të ketë çmim të njëjtë për të gjithë periudhën e prokurimit në të kundert oferta do të skualifikohet.\nOST sh.a. në diskrecionin e saj\, rezervon të drejtën për të refuzuar çdo ofertë/ të gjitha ofertat ose për të anulluar procedurën\n\nPër cdo paqartësi mos hezitoni të na kontaktoni. \nJu faleminderit! \n  \nKerkesa per energji 01-30 Nentor 2021 Band \n  \nAnnouncement for the Purchase Procedure to cover Network Losses in the Transmission System Operator. \n  \nDear all\, \nOn 29/10/2021\, OST sh.a\, will held the procurement procedure for the purchase of electricity to cover losses in the transmission network for the period of  01 – 30 November 2021 Band Profile\, in accordance with ERE Decision no. 103\, dated 23.06.2016. \nPlease find attached the amount and the time period. \n  \nWe inform you that for Tender number 127/2021\, 01 – 30 November 2021; Band Profile: \n\nThe bid must include the whole procurement period from 01 – 30 November  2021.\nOST sh.a. evaluation criteria is the lowest price for the full demand. As OST sh.a. Demand is a Band profile\, please notice that the offer must be also in Band Profile\, ( one price for full offer)\, otherwise the bid will be disqualified.\nOST sh.a. reserves the right to decline any bid or to cancel the tender on its sole discretion.at its sole discretion.\n\nFor any further questions\, please contact us again. \nThank you!
URL:https://ost.al/event/njoftim-tenderi-per-blerjen-e-energjise-elektrike-per-humbjet-ne-rrjetin-e-transmetimit-55/
CATEGORIES:Njoftim Tenderi
END:VEVENT
END:VCALENDAR