BEGIN:VCALENDAR
VERSION:2.0
PRODID:-//Operatori i Sistemit Te Transmetimit - ECPv6.15.18//NONSGML v1.0//EN
CALSCALE:GREGORIAN
METHOD:PUBLISH
X-ORIGINAL-URL:https://ost.al
X-WR-CALDESC:Events for Operatori i Sistemit Te Transmetimit
REFRESH-INTERVAL;VALUE=DURATION:PT1H
X-Robots-Tag:noindex
X-PUBLISHED-TTL:PT1H
BEGIN:VTIMEZONE
TZID:UTC
BEGIN:STANDARD
TZOFFSETFROM:+0000
TZOFFSETTO:+0000
TZNAME:UTC
DTSTART:20200101T000000
END:STANDARD
END:VTIMEZONE
BEGIN:VEVENT
DTSTART;VALUE=DATE:20210927
DTEND;VALUE=DATE:20210928
DTSTAMP:20260421T145402
CREATED:20210927T093939Z
LAST-MODIFIED:20210927T093939Z
UID:1146958-1632700800-1632787199@ost.al
SUMMARY:Njoftim Tenderi për Blerjen e Energjisë Elektrike për Humbjet në Rrjetin e Transmetimit
DESCRIPTION:Të nderuar\, \n  \nNë datë 28/09/2021\, do të zhvillohet  procedura për blerjen e energjisë elektrike për mbulimin e humbjeve në rrjetin e transmetimit për periudhën  01 – 07 Tetor 2021\, profili Orar\, konform Vendimit te ERE nr. 103\, date 23.06.2016. \n  \nBashkelidhur gjeni informacionin mbi sasinë dhe periudhen e livrimit. \nTheksojme se: \n  \n01 – 07 Tetor 2021; profili Orar\, Tender numer 105/2021: \n  \n\nNuk mund të ketë oferta për një periudhë më të vogël se kërkesa. Çdo ofertë e cila nuk është e plotë\, do të skualifikohet.\nKriteri i vlerësimit të ofertës nga OST është cmimi më i ulët për të gjithë sasinë e kërkuar.Pra oferta duhet të ketë çmim të njëjtë për të gjithë periudhën e prokurimit në të kundert oferta do të skualifikohet.\nOST sh.a. në diskrecionin e saj\, rezervon të drejtën për të refuzuar çdo ofertë/ të gjitha ofertat ose për të anulluar procedurën.\n\n  \nPër cdo paqartësi mos hezitoni të na kontaktoni. \nJu faleminderit! \n  \nKerkesa per energji 01-07 Tetor 2021 Orar \n  \nAnnouncement for the Purchase Procedure to cover Network Losses in the Transmission System Operator. \n  \nDear all\, \nOn 28/09/2021\, OST sh.a\, will held the procurement procedure for the purchase of electricity to cover losses in the transmission network for the period of  01 – 07 October 2021 Hourly Profile\, in accordance with ERE Decision no. 103\, dated 23.06.2016. \nPlease find attached the amount and the time period. \n  \nWe inform you that: \n  \n01 – 07 October 2021; Hourly Profile\, Tender number 105/2021: \n  \n\n   1. The bid must include the whole procurement period.\n   2. OST sh.a. Evaluation criteria is the lowest price for the full demand\, please notice that the offer must have one price\, otherwise\, the bid will be disqualified.\nOST sh.a. reserves the right to decline any bid or to cancel the tender at its sole discretion.\n\n  \n  \nFor any further questions\, please contact us again. \nThank you! \n 
URL:https://ost.al/event/njoftim-tenderi-per-blerjen-e-energjise-elektrike-per-humbjet-ne-rrjetin-e-transmetimit-50/
CATEGORIES:Njoftim Tenderi
END:VEVENT
BEGIN:VEVENT
DTSTART;VALUE=DATE:20210927
DTEND;VALUE=DATE:20210928
DTSTAMP:20260421T145402
CREATED:20210927T093939Z
LAST-MODIFIED:20210927T093939Z
UID:1149882-1632700800-1632787199@ost.al
SUMMARY:Njoftim Tenderi për Blerjen e Energjisë Elektrike për Humbjet në Rrjetin e Transmetimit
DESCRIPTION:Të nderuar\, \n  \nNë datë 28/09/2021\, do të zhvillohet  procedura për blerjen e energjisë elektrike për mbulimin e humbjeve në rrjetin e transmetimit për periudhën  01 – 07 Tetor 2021\, profili Orar\, konform Vendimit te ERE nr. 103\, date 23.06.2016. \n  \nBashkelidhur gjeni informacionin mbi sasinë dhe periudhen e livrimit. \nTheksojme se: \n  \n01 – 07 Tetor 2021; profili Orar\, Tender numer 105/2021: \n  \n\nNuk mund të ketë oferta për një periudhë më të vogël se kërkesa. Çdo ofertë e cila nuk është e plotë\, do të skualifikohet.\nKriteri i vlerësimit të ofertës nga OST është cmimi më i ulët për të gjithë sasinë e kërkuar.Pra oferta duhet të ketë çmim të njëjtë për të gjithë periudhën e prokurimit në të kundert oferta do të skualifikohet.\nOST sh.a. në diskrecionin e saj\, rezervon të drejtën për të refuzuar çdo ofertë/ të gjitha ofertat ose për të anulluar procedurën.\n\n  \nPër cdo paqartësi mos hezitoni të na kontaktoni. \nJu faleminderit! \n  \nKerkesa per energji 01-07 Tetor 2021 Orar \n  \nAnnouncement for the Purchase Procedure to cover Network Losses in the Transmission System Operator. \n  \nDear all\, \nOn 28/09/2021\, OST sh.a\, will held the procurement procedure for the purchase of electricity to cover losses in the transmission network for the period of  01 – 07 October 2021 Hourly Profile\, in accordance with ERE Decision no. 103\, dated 23.06.2016. \nPlease find attached the amount and the time period. \n  \nWe inform you that: \n  \n01 – 07 October 2021; Hourly Profile\, Tender number 105/2021: \n  \n\n   1. The bid must include the whole procurement period.\n   2. OST sh.a. Evaluation criteria is the lowest price for the full demand\, please notice that the offer must have one price\, otherwise\, the bid will be disqualified.\nOST sh.a. reserves the right to decline any bid or to cancel the tender at its sole discretion.\n\n  \n  \nFor any further questions\, please contact us again. \nThank you! \n 
URL:https://ost.al/event/njoftim-tenderi-per-blerjen-e-energjise-elektrike-per-humbjet-ne-rrjetin-e-transmetimit-50/
CATEGORIES:Njoftim Tenderi
END:VEVENT
END:VCALENDAR