BEGIN:VCALENDAR
VERSION:2.0
PRODID:-//Operatori i Sistemit Te Transmetimit - ECPv6.15.18//NONSGML v1.0//EN
CALSCALE:GREGORIAN
METHOD:PUBLISH
X-WR-CALNAME:Operatori i Sistemit Te Transmetimit
X-ORIGINAL-URL:https://ost.al
X-WR-CALDESC:Events for Operatori i Sistemit Te Transmetimit
REFRESH-INTERVAL;VALUE=DURATION:PT1H
X-Robots-Tag:noindex
X-PUBLISHED-TTL:PT1H
BEGIN:VTIMEZONE
TZID:UTC
BEGIN:STANDARD
TZOFFSETFROM:+0000
TZOFFSETTO:+0000
TZNAME:UTC
DTSTART:20200101T000000
END:STANDARD
END:VTIMEZONE
BEGIN:VEVENT
DTSTART;VALUE=DATE:20211110
DTEND;VALUE=DATE:20211111
DTSTAMP:20260423T191246
CREATED:20211110T104455Z
LAST-MODIFIED:20211110T104530Z
UID:1147893-1636502400-1636588799@ost.al
SUMMARY:Njoftim Tenderi për Blerjen e Energjisë Elektrike për Humbjet në Rrjetin e Transmetimit
DESCRIPTION:Në datë 11/11/2021\, do të zhvillohet  procedura për blerjen e energjisë elektrike për mbulimin e humbjeve në rrjetin e transmetimit për periudhën  15-21 Nëntor 2021\, profili Orar\, konform Vendimit te ERE nr. 103\, date 23.06.2016. \nBashkelidhur gjeni informacionin mbi sasinë dhe periudhen e livrimit. \nTheksojme se: \n15-21 Nëntor 2021; profili Orar\, Tender numer 131/2021: \n\nNuk mund të ketë oferta për një periudhë më të vogël se kërkesa. Çdo ofertë e cila nuk është e plotë\, do të skualifikohet.\nKriteri i vlerësimit të ofertës nga OST është cmimi më i ulët për të gjithë sasinë e kërkuar.Pra oferta duhet të ketë çmim të njëjtë për të gjithë periudhën e prokurimit në të kundert oferta do të skualifikohet.\nOST sh.a. në diskrecionin e saj\, rezervon të drejtën për të refuzuar çdo ofertë/ të gjitha ofertat ose për të anulluar procedurën.\n\nPër cdo paqartësi mos hezitoni të na kontaktoni. \n  \nAnnouncement for the Purchase Procedure to cover Network Losses in the Transmission System Operator.  \nOn 11/11/2021\, OST sh.a\, will held the procurement procedure for the purchase of electricity to cover losses in the transmission network for the period of  15-21 November 2021 Hourly Profile\, in accordance with ERE Decision no. 103\, dated 23.06.2016. \nPlease find attached the amount and the time period. \nWe inform you that: \n15-21 November 2021; Hourly Profile\, Tender number 131/2021: \n\n  The bid must include the whole procurement period.\n  OST sh.a. Evaluation criteria is the lowest price for the full demand\, please notice that the offer must have one price\, otherwise\, the bid will be disqualified.\n  OST sh.a. reserves the right to decline any bid or to cancel the tender at its sole discretion.\n\nKerkesa per energji 15-21 Nentor 2021 Orar
URL:https://ost.al/event/njoftim-tenderi-per-blerjen-e-energjise-elektrike-per-humbjet-ne-rrjetin-e-transmetimit-57/
CATEGORIES:Njoftim Tenderi
END:VEVENT
BEGIN:VEVENT
DTSTART;VALUE=DATE:20211110
DTEND;VALUE=DATE:20211111
DTSTAMP:20260423T191246
CREATED:20211110T104455Z
LAST-MODIFIED:20211110T104455Z
UID:1150022-1636502400-1636588799@ost.al
SUMMARY:Njoftim Tenderi për Blerjen e Energjisë Elektrike për Humbjet në Rrjetin e Transmetimit
DESCRIPTION:Në datë 11/11/2021\, do të zhvillohet  procedura për blerjen e energjisë elektrike për mbulimin e humbjeve në rrjetin e transmetimit për periudhën  15-21 Nëntor 2021\, profili Orar\, konform Vendimit te ERE nr. 103\, date 23.06.2016. \nBashkelidhur gjeni informacionin mbi sasinë dhe periudhen e livrimit. \nTheksojme se: \n15-21 Nëntor 2021; profili Orar\, Tender numer 131/2021: \n\nNuk mund të ketë oferta për një periudhë më të vogël se kërkesa. Çdo ofertë e cila nuk është e plotë\, do të skualifikohet.\nKriteri i vlerësimit të ofertës nga OST është cmimi më i ulët për të gjithë sasinë e kërkuar.Pra oferta duhet të ketë çmim të njëjtë për të gjithë periudhën e prokurimit në të kundert oferta do të skualifikohet.\nOST sh.a. në diskrecionin e saj\, rezervon të drejtën për të refuzuar çdo ofertë/ të gjitha ofertat ose për të anulluar procedurën.\n\nPër cdo paqartësi mos hezitoni të na kontaktoni. \n  \nAnnouncement for the Purchase Procedure to cover Network Losses in the Transmission System Operator.  \nOn 11/11/2021\, OST sh.a\, will held the procurement procedure for the purchase of electricity to cover losses in the transmission network for the period of  15-21 November 2021 Hourly Profile\, in accordance with ERE Decision no. 103\, dated 23.06.2016. \nPlease find attached the amount and the time period. \nWe inform you that: \n15-21 November 2021; Hourly Profile\, Tender number 131/2021: \n\n  The bid must include the whole procurement period.\n  OST sh.a. Evaluation criteria is the lowest price for the full demand\, please notice that the offer must have one price\, otherwise\, the bid will be disqualified.\n  OST sh.a. reserves the right to decline any bid or to cancel the tender at its sole discretion.\n\nKerkesa per energji 15-21 Nentor 2021 Orar
URL:https://ost.al/event/njoftim-tenderi-per-blerjen-e-energjise-elektrike-per-humbjet-ne-rrjetin-e-transmetimit-57/
CATEGORIES:Njoftim Tenderi
END:VEVENT
END:VCALENDAR