BEGIN:VCALENDAR
VERSION:2.0
PRODID:-//Operatori i Sistemit Te Transmetimit - ECPv6.15.18//NONSGML v1.0//EN
CALSCALE:GREGORIAN
METHOD:PUBLISH
X-WR-CALNAME:Operatori i Sistemit Te Transmetimit
X-ORIGINAL-URL:https://ost.al
X-WR-CALDESC:Events for Operatori i Sistemit Te Transmetimit
REFRESH-INTERVAL;VALUE=DURATION:PT1H
X-Robots-Tag:noindex
X-PUBLISHED-TTL:PT1H
BEGIN:VTIMEZONE
TZID:UTC
BEGIN:STANDARD
TZOFFSETFROM:+0000
TZOFFSETTO:+0000
TZNAME:UTC
DTSTART:20200101T000000
END:STANDARD
END:VTIMEZONE
BEGIN:VEVENT
DTSTART;VALUE=DATE:20211202
DTEND;VALUE=DATE:20211203
DTSTAMP:20260423T172504
CREATED:20211202T113441Z
LAST-MODIFIED:20211202T113441Z
UID:1148315-1638403200-1638489599@ost.al
SUMMARY:Njoftim Tenderi për dy procedura Blerje e Energjisë Elektrike për Humbjet në Rrjetin e Transmetimit Profili BAND dhe Orare
DESCRIPTION:Në datë 03/12/2021\, do të zhvillohet  procedura për blerjen e energjisë elektrike për mbulimin e humbjeve në rrjetin e transmetimit për periudhën  06-12 Dhjetor 2021\, profili Orar\, konform Vendimit te ERE nr. 103\, date 23.06.2016. \n\nBashkelidhur gjeni informacionin mbi sasinë dhe periudhen e livrimit. \nTheksojme se: \n\n\n06-12 Dhjetor 2021; profili Orar\, Tender numer 143/2021: \n\n\nNuk mund të ketë oferta për një periudhë më të vogël se kërkesa. Çdo ofertë e cila nuk është e plotë\, do të skualifikohet.\nKriteri i vlerësimit të ofertës nga OST është cmimi më i ulët për të gjithë sasinë e kërkuar.Pra oferta duhet të ketë  çmim të njëjtë për të gjithë periudhën e prokurimit në të kundert oferta do të skualifikohet.\nOST sh.a. në diskrecionin e saj\, rezervon të drejtën për të refuzuar çdo ofertë/ të gjitha ofertat ose për të anulluar procedurën.\n\n\n\nPër cdo paqartësi mos hezitoni të na kontaktoni. \nJu faleminderit! \n\nKerkesa per energji 6-12 Dec 2021 Orar \n  \nDear all\, \nOn 03/12/2021\, OST sh.a\, will held the procurement procedure for the purchase of electricity to cover losses in the transmission network for the period of  06-12 December 2021 Hourly Profile\, in accordance with ERE Decision no. 103\, dated 23.06.2016. \nPlease find attached the amount and the time period. \n\nWe inform you that: \n  \n 06-12 December 2021 ; Hourly Profile\, Tender number 143/2021: \n\n\n   1. The bid must include the whole procurement period.\n   2. OST sh.a. Evaluation criteria is the lowest price for the full demand\, please notice that the offer must have one price\, otherwise\, the bid will be disqualified.\nOST sh.a. reserves the right to decline any bid or to cancel the tender at its sole discretion.\n\n\n\nFor any further questions\, please contact us again. \nThank you!
URL:https://ost.al/event/njoftim-tenderi-per-dy-procedura-blerje-e-energjise-elektrike-per-humbjet-ne-rrjetin-e-transmetimit-profili-band-dhe-orare-4/
CATEGORIES:Njoftim Tenderi
END:VEVENT
BEGIN:VEVENT
DTSTART;VALUE=DATE:20211202
DTEND;VALUE=DATE:20211203
DTSTAMP:20260423T172504
CREATED:20211202T113441Z
LAST-MODIFIED:20211202T113441Z
UID:1150075-1638403200-1638489599@ost.al
SUMMARY:Njoftim Tenderi për dy procedura Blerje e Energjisë Elektrike për Humbjet në Rrjetin e Transmetimit Profili BAND dhe Orare
DESCRIPTION:Në datë 03/12/2021\, do të zhvillohet  procedura për blerjen e energjisë elektrike për mbulimin e humbjeve në rrjetin e transmetimit për periudhën  06-12 Dhjetor 2021\, profili Orar\, konform Vendimit te ERE nr. 103\, date 23.06.2016. \n\nBashkelidhur gjeni informacionin mbi sasinë dhe periudhen e livrimit. \nTheksojme se: \n\n\n06-12 Dhjetor 2021; profili Orar\, Tender numer 143/2021: \n\n\nNuk mund të ketë oferta për një periudhë më të vogël se kërkesa. Çdo ofertë e cila nuk është e plotë\, do të skualifikohet.\nKriteri i vlerësimit të ofertës nga OST është cmimi më i ulët për të gjithë sasinë e kërkuar.Pra oferta duhet të ketë  çmim të njëjtë për të gjithë periudhën e prokurimit në të kundert oferta do të skualifikohet.\nOST sh.a. në diskrecionin e saj\, rezervon të drejtën për të refuzuar çdo ofertë/ të gjitha ofertat ose për të anulluar procedurën.\n\n\n\nPër cdo paqartësi mos hezitoni të na kontaktoni. \nJu faleminderit! \n\nKerkesa per energji 6-12 Dec 2021 Orar \n  \nDear all\, \nOn 03/12/2021\, OST sh.a\, will held the procurement procedure for the purchase of electricity to cover losses in the transmission network for the period of  06-12 December 2021 Hourly Profile\, in accordance with ERE Decision no. 103\, dated 23.06.2016. \nPlease find attached the amount and the time period. \n\nWe inform you that: \n  \n 06-12 December 2021 ; Hourly Profile\, Tender number 143/2021: \n\n\n   1. The bid must include the whole procurement period.\n   2. OST sh.a. Evaluation criteria is the lowest price for the full demand\, please notice that the offer must have one price\, otherwise\, the bid will be disqualified.\nOST sh.a. reserves the right to decline any bid or to cancel the tender at its sole discretion.\n\n\n\nFor any further questions\, please contact us again. \nThank you!
URL:https://ost.al/event/njoftim-tenderi-per-dy-procedura-blerje-e-energjise-elektrike-per-humbjet-ne-rrjetin-e-transmetimit-profili-band-dhe-orare-4/
CATEGORIES:Njoftim Tenderi
END:VEVENT
END:VCALENDAR